BEGIN:VCALENDAR
VERSION:2.0
PRODID:-//GreySheeters Anonymous World Services - ECPv6.15.20//NONSGML v1.0//EN
CALSCALE:GREGORIAN
METHOD:PUBLISH
X-WR-CALNAME:GreySheeters Anonymous World Services
X-ORIGINAL-URL:https://meetings.greysheet.org
X-WR-CALDESC:Events for GreySheeters Anonymous World Services
REFRESH-INTERVAL;VALUE=DURATION:PT1H
X-Robots-Tag:noindex
X-PUBLISHED-TTL:PT1H
BEGIN:VTIMEZONE
TZID:America/Los_Angeles
BEGIN:DAYLIGHT
TZOFFSETFROM:-0800
TZOFFSETTO:-0700
TZNAME:PDT
DTSTART:20240310T100000
END:DAYLIGHT
BEGIN:STANDARD
TZOFFSETFROM:-0700
TZOFFSETTO:-0800
TZNAME:PST
DTSTART:20241103T090000
END:STANDARD
BEGIN:DAYLIGHT
TZOFFSETFROM:-0800
TZOFFSETTO:-0700
TZNAME:PDT
DTSTART:20250309T100000
END:DAYLIGHT
BEGIN:STANDARD
TZOFFSETFROM:-0700
TZOFFSETTO:-0800
TZNAME:PST
DTSTART:20251102T090000
END:STANDARD
BEGIN:DAYLIGHT
TZOFFSETFROM:-0800
TZOFFSETTO:-0700
TZNAME:PDT
DTSTART:20260308T100000
END:DAYLIGHT
BEGIN:STANDARD
TZOFFSETFROM:-0700
TZOFFSETTO:-0800
TZNAME:PST
DTSTART:20261101T090000
END:STANDARD
BEGIN:DAYLIGHT
TZOFFSETFROM:-0800
TZOFFSETTO:-0700
TZNAME:PDT
DTSTART:20270314T100000
END:DAYLIGHT
BEGIN:STANDARD
TZOFFSETFROM:-0700
TZOFFSETTO:-0800
TZNAME:PST
DTSTART:20271107T090000
END:STANDARD
END:VTIMEZONE
BEGIN:VEVENT
DTSTART;TZID=America/Los_Angeles:20260418T100000
DTEND;TZID=America/Los_Angeles:20260418T110000
DTSTAMP:20260420T043550
CREATED:20250504T220133Z
LAST-MODIFIED:20260404T125147Z
UID:10044152-1776506400-1776510000@meetings.greysheet.org
SUMMARY:Without Exception
DESCRIPTION:A small and welcoming group based in Northern California.
URL:https://meetings.greysheet.org/meeting/without-exception/2026-04-18
CATEGORIES:Zoom
ATTACH;FMTTYPE=image/svg+xml:https://meetings.greysheet.org/wp-content/uploads/2025/05/desktop.svg
LOCATION:Zoom ID: 768163633, Passcode: Universal, Camera: Required
END:VEVENT
BEGIN:VEVENT
DTSTART;TZID=America/Los_Angeles:20260411T100000
DTEND;TZID=America/Los_Angeles:20260411T110000
DTSTAMP:20260420T043550
CREATED:20250504T220133Z
LAST-MODIFIED:20260404T125147Z
UID:10044151-1775901600-1775905200@meetings.greysheet.org
SUMMARY:Without Exception
DESCRIPTION:A small and welcoming group based in Northern California.
URL:https://meetings.greysheet.org/meeting/without-exception/2026-04-11
CATEGORIES:Zoom
ATTACH;FMTTYPE=image/svg+xml:https://meetings.greysheet.org/wp-content/uploads/2025/05/desktop.svg
LOCATION:Zoom ID: 768163633, Passcode: Universal, Camera: Required
END:VEVENT
BEGIN:VEVENT
DTSTART;TZID=America/Los_Angeles:20260404T100000
DTEND;TZID=America/Los_Angeles:20260404T110000
DTSTAMP:20260420T043550
CREATED:20250504T220133Z
LAST-MODIFIED:20260404T125147Z
UID:10044150-1775296800-1775300400@meetings.greysheet.org
SUMMARY:Without Exception
DESCRIPTION:A small and welcoming group based in Northern California.
URL:https://meetings.greysheet.org/meeting/without-exception/2026-04-04
CATEGORIES:Zoom
ATTACH;FMTTYPE=image/svg+xml:https://meetings.greysheet.org/wp-content/uploads/2025/05/desktop.svg
LOCATION:Zoom ID: 768163633, Passcode: Universal, Camera: Required
END:VEVENT
BEGIN:VEVENT
DTSTART;TZID=America/Los_Angeles:20260328T100000
DTEND;TZID=America/Los_Angeles:20260328T110000
DTSTAMP:20260420T043550
CREATED:20250504T220133Z
LAST-MODIFIED:20260404T125147Z
UID:10044149-1774692000-1774695600@meetings.greysheet.org
SUMMARY:Without Exception
DESCRIPTION:A small and welcoming group based in Northern California.
URL:https://meetings.greysheet.org/meeting/without-exception/2026-03-28
CATEGORIES:Zoom
ATTACH;FMTTYPE=image/svg+xml:https://meetings.greysheet.org/wp-content/uploads/2025/05/desktop.svg
LOCATION:Zoom ID: 768163633, Passcode: Universal, Camera: Required
END:VEVENT
BEGIN:VEVENT
DTSTART;TZID=America/Los_Angeles:20260321T100000
DTEND;TZID=America/Los_Angeles:20260321T110000
DTSTAMP:20260420T043551
CREATED:20250504T220133Z
LAST-MODIFIED:20260404T125147Z
UID:10044148-1774087200-1774090800@meetings.greysheet.org
SUMMARY:Without Exception
DESCRIPTION:A small and welcoming group based in Northern California.
URL:https://meetings.greysheet.org/meeting/without-exception/2026-03-21
CATEGORIES:Zoom
ATTACH;FMTTYPE=image/svg+xml:https://meetings.greysheet.org/wp-content/uploads/2025/05/desktop.svg
LOCATION:Zoom ID: 768163633, Passcode: Universal, Camera: Required
END:VEVENT
BEGIN:VEVENT
DTSTART;TZID=America/Los_Angeles:20260314T100000
DTEND;TZID=America/Los_Angeles:20260314T110000
DTSTAMP:20260420T043551
CREATED:20250504T220133Z
LAST-MODIFIED:20260404T125147Z
UID:10044147-1773482400-1773486000@meetings.greysheet.org
SUMMARY:Without Exception
DESCRIPTION:A small and welcoming group based in Northern California.
URL:https://meetings.greysheet.org/meeting/without-exception/2026-03-14
CATEGORIES:Zoom
ATTACH;FMTTYPE=image/svg+xml:https://meetings.greysheet.org/wp-content/uploads/2025/05/desktop.svg
LOCATION:Zoom ID: 768163633, Passcode: Universal, Camera: Required
END:VEVENT
BEGIN:VEVENT
DTSTART;TZID=America/Los_Angeles:20260307T100000
DTEND;TZID=America/Los_Angeles:20260307T110000
DTSTAMP:20260420T043551
CREATED:20250504T220133Z
LAST-MODIFIED:20260404T125147Z
UID:10044146-1772877600-1772881200@meetings.greysheet.org
SUMMARY:Without Exception
DESCRIPTION:A small and welcoming group based in Northern California.
URL:https://meetings.greysheet.org/meeting/without-exception/2026-03-07
CATEGORIES:Zoom
ATTACH;FMTTYPE=image/svg+xml:https://meetings.greysheet.org/wp-content/uploads/2025/05/desktop.svg
LOCATION:Zoom ID: 768163633, Passcode: Universal, Camera: Required
END:VEVENT
BEGIN:VEVENT
DTSTART;TZID=America/Los_Angeles:20260228T100000
DTEND;TZID=America/Los_Angeles:20260228T110000
DTSTAMP:20260420T043551
CREATED:20250504T220133Z
LAST-MODIFIED:20260404T125147Z
UID:10044145-1772272800-1772276400@meetings.greysheet.org
SUMMARY:Without Exception
DESCRIPTION:A small and welcoming group based in Northern California.
URL:https://meetings.greysheet.org/meeting/without-exception/2026-02-28
CATEGORIES:Zoom
ATTACH;FMTTYPE=image/svg+xml:https://meetings.greysheet.org/wp-content/uploads/2025/05/desktop.svg
LOCATION:Zoom ID: 768163633, Passcode: Universal, Camera: Required
END:VEVENT
BEGIN:VEVENT
DTSTART;TZID=America/Los_Angeles:20260221T100000
DTEND;TZID=America/Los_Angeles:20260221T110000
DTSTAMP:20260420T043551
CREATED:20250504T220133Z
LAST-MODIFIED:20260404T125147Z
UID:10044144-1771668000-1771671600@meetings.greysheet.org
SUMMARY:Without Exception
DESCRIPTION:A small and welcoming group based in Northern California.
URL:https://meetings.greysheet.org/meeting/without-exception/2026-02-21
CATEGORIES:Zoom
ATTACH;FMTTYPE=image/svg+xml:https://meetings.greysheet.org/wp-content/uploads/2025/05/desktop.svg
LOCATION:Zoom ID: 768163633, Passcode: Universal, Camera: Required
END:VEVENT
BEGIN:VEVENT
DTSTART;TZID=America/Los_Angeles:20260214T100000
DTEND;TZID=America/Los_Angeles:20260214T110000
DTSTAMP:20260420T043551
CREATED:20250504T220133Z
LAST-MODIFIED:20260404T125147Z
UID:10044143-1771063200-1771066800@meetings.greysheet.org
SUMMARY:Without Exception
DESCRIPTION:A small and welcoming group based in Northern California.
URL:https://meetings.greysheet.org/meeting/without-exception/2026-02-14
CATEGORIES:Zoom
ATTACH;FMTTYPE=image/svg+xml:https://meetings.greysheet.org/wp-content/uploads/2025/05/desktop.svg
LOCATION:Zoom ID: 768163633, Passcode: Universal, Camera: Required
END:VEVENT
BEGIN:VEVENT
DTSTART;TZID=America/Los_Angeles:20260207T100000
DTEND;TZID=America/Los_Angeles:20260207T110000
DTSTAMP:20260420T043551
CREATED:20250504T220133Z
LAST-MODIFIED:20260404T125147Z
UID:10044142-1770458400-1770462000@meetings.greysheet.org
SUMMARY:Without Exception
DESCRIPTION:A small and welcoming group based in Northern California.
URL:https://meetings.greysheet.org/meeting/without-exception/2026-02-07
CATEGORIES:Zoom
ATTACH;FMTTYPE=image/svg+xml:https://meetings.greysheet.org/wp-content/uploads/2025/05/desktop.svg
LOCATION:Zoom ID: 768163633, Passcode: Universal, Camera: Required
END:VEVENT
BEGIN:VEVENT
DTSTART;TZID=America/Los_Angeles:20260131T100000
DTEND;TZID=America/Los_Angeles:20260131T110000
DTSTAMP:20260420T043551
CREATED:20250504T220133Z
LAST-MODIFIED:20260404T125147Z
UID:10044141-1769853600-1769857200@meetings.greysheet.org
SUMMARY:Without Exception
DESCRIPTION:A small and welcoming group based in Northern California.
URL:https://meetings.greysheet.org/meeting/without-exception/2026-01-31
CATEGORIES:Zoom
ATTACH;FMTTYPE=image/svg+xml:https://meetings.greysheet.org/wp-content/uploads/2025/05/desktop.svg
LOCATION:Zoom ID: 768163633, Passcode: Universal, Camera: Required
END:VEVENT
BEGIN:VEVENT
DTSTART;TZID=America/Los_Angeles:20260124T100000
DTEND;TZID=America/Los_Angeles:20260124T110000
DTSTAMP:20260420T043551
CREATED:20250504T220133Z
LAST-MODIFIED:20260404T125147Z
UID:10044140-1769248800-1769252400@meetings.greysheet.org
SUMMARY:Without Exception
DESCRIPTION:A small and welcoming group based in Northern California.
URL:https://meetings.greysheet.org/meeting/without-exception/2026-01-24
CATEGORIES:Zoom
ATTACH;FMTTYPE=image/svg+xml:https://meetings.greysheet.org/wp-content/uploads/2025/05/desktop.svg
LOCATION:Zoom ID: 768163633, Passcode: Universal, Camera: Required
END:VEVENT
BEGIN:VEVENT
DTSTART;TZID=America/Los_Angeles:20260117T100000
DTEND;TZID=America/Los_Angeles:20260117T110000
DTSTAMP:20260420T043551
CREATED:20250504T220133Z
LAST-MODIFIED:20260404T125147Z
UID:10044139-1768644000-1768647600@meetings.greysheet.org
SUMMARY:Without Exception
DESCRIPTION:A small and welcoming group based in Northern California.
URL:https://meetings.greysheet.org/meeting/without-exception/2026-01-17
CATEGORIES:Zoom
ATTACH;FMTTYPE=image/svg+xml:https://meetings.greysheet.org/wp-content/uploads/2025/05/desktop.svg
LOCATION:Zoom ID: 768163633, Passcode: Universal, Camera: Required
END:VEVENT
BEGIN:VEVENT
DTSTART;TZID=America/Los_Angeles:20260110T100000
DTEND;TZID=America/Los_Angeles:20260110T110000
DTSTAMP:20260420T043551
CREATED:20250504T220133Z
LAST-MODIFIED:20260404T125147Z
UID:10044138-1768039200-1768042800@meetings.greysheet.org
SUMMARY:Without Exception
DESCRIPTION:A small and welcoming group based in Northern California.
URL:https://meetings.greysheet.org/meeting/without-exception/2026-01-10
CATEGORIES:Zoom
ATTACH;FMTTYPE=image/svg+xml:https://meetings.greysheet.org/wp-content/uploads/2025/05/desktop.svg
LOCATION:Zoom ID: 768163633, Passcode: Universal, Camera: Required
END:VEVENT
BEGIN:VEVENT
DTSTART;TZID=America/Los_Angeles:20260103T100000
DTEND;TZID=America/Los_Angeles:20260103T110000
DTSTAMP:20260420T043551
CREATED:20250504T220133Z
LAST-MODIFIED:20260404T125147Z
UID:10044137-1767434400-1767438000@meetings.greysheet.org
SUMMARY:Without Exception
DESCRIPTION:A small and welcoming group based in Northern California.
URL:https://meetings.greysheet.org/meeting/without-exception/2026-01-03
CATEGORIES:Zoom
ATTACH;FMTTYPE=image/svg+xml:https://meetings.greysheet.org/wp-content/uploads/2025/05/desktop.svg
LOCATION:Zoom ID: 768163633, Passcode: Universal, Camera: Required
END:VEVENT
BEGIN:VEVENT
DTSTART;TZID=America/Los_Angeles:20251227T100000
DTEND;TZID=America/Los_Angeles:20251227T110000
DTSTAMP:20260420T043551
CREATED:20250504T220133Z
LAST-MODIFIED:20260404T125147Z
UID:10044136-1766829600-1766833200@meetings.greysheet.org
SUMMARY:Without Exception
DESCRIPTION:A small and welcoming group based in Northern California.
URL:https://meetings.greysheet.org/meeting/without-exception/2025-12-27
CATEGORIES:Zoom
ATTACH;FMTTYPE=image/svg+xml:https://meetings.greysheet.org/wp-content/uploads/2025/05/desktop.svg
LOCATION:Zoom ID: 768163633, Passcode: Universal, Camera: Required
END:VEVENT
BEGIN:VEVENT
DTSTART;TZID=America/Los_Angeles:20251220T100000
DTEND;TZID=America/Los_Angeles:20251220T110000
DTSTAMP:20260420T043551
CREATED:20250504T220133Z
LAST-MODIFIED:20260404T125147Z
UID:10044135-1766224800-1766228400@meetings.greysheet.org
SUMMARY:Without Exception
DESCRIPTION:A small and welcoming group based in Northern California.
URL:https://meetings.greysheet.org/meeting/without-exception/2025-12-20
CATEGORIES:Zoom
ATTACH;FMTTYPE=image/svg+xml:https://meetings.greysheet.org/wp-content/uploads/2025/05/desktop.svg
LOCATION:Zoom ID: 768163633, Passcode: Universal, Camera: Required
END:VEVENT
BEGIN:VEVENT
DTSTART;TZID=America/Los_Angeles:20251213T100000
DTEND;TZID=America/Los_Angeles:20251213T110000
DTSTAMP:20260420T043551
CREATED:20250504T220133Z
LAST-MODIFIED:20260404T125147Z
UID:10044134-1765620000-1765623600@meetings.greysheet.org
SUMMARY:Without Exception
DESCRIPTION:A small and welcoming group based in Northern California.
URL:https://meetings.greysheet.org/meeting/without-exception/2025-12-13
CATEGORIES:Zoom
ATTACH;FMTTYPE=image/svg+xml:https://meetings.greysheet.org/wp-content/uploads/2025/05/desktop.svg
LOCATION:Zoom ID: 768163633, Passcode: Universal, Camera: Required
END:VEVENT
BEGIN:VEVENT
DTSTART;TZID=America/Los_Angeles:20251206T100000
DTEND;TZID=America/Los_Angeles:20251206T110000
DTSTAMP:20260420T043551
CREATED:20250504T220133Z
LAST-MODIFIED:20260404T125147Z
UID:10044133-1765015200-1765018800@meetings.greysheet.org
SUMMARY:Without Exception
DESCRIPTION:A small and welcoming group based in Northern California.
URL:https://meetings.greysheet.org/meeting/without-exception/2025-12-06
CATEGORIES:Zoom
ATTACH;FMTTYPE=image/svg+xml:https://meetings.greysheet.org/wp-content/uploads/2025/05/desktop.svg
LOCATION:Zoom ID: 768163633, Passcode: Universal, Camera: Required
END:VEVENT
BEGIN:VEVENT
DTSTART;TZID=America/Los_Angeles:20251129T100000
DTEND;TZID=America/Los_Angeles:20251129T110000
DTSTAMP:20260420T043551
CREATED:20250504T220133Z
LAST-MODIFIED:20260404T125147Z
UID:10044132-1764410400-1764414000@meetings.greysheet.org
SUMMARY:Without Exception
DESCRIPTION:A small and welcoming group based in Northern California.
URL:https://meetings.greysheet.org/meeting/without-exception/2025-11-29
CATEGORIES:Zoom
ATTACH;FMTTYPE=image/svg+xml:https://meetings.greysheet.org/wp-content/uploads/2025/05/desktop.svg
LOCATION:Zoom ID: 768163633, Passcode: Universal, Camera: Required
END:VEVENT
BEGIN:VEVENT
DTSTART;TZID=America/Los_Angeles:20251122T100000
DTEND;TZID=America/Los_Angeles:20251122T110000
DTSTAMP:20260420T043551
CREATED:20250504T220133Z
LAST-MODIFIED:20260404T125147Z
UID:10044131-1763805600-1763809200@meetings.greysheet.org
SUMMARY:Without Exception
DESCRIPTION:A small and welcoming group based in Northern California.
URL:https://meetings.greysheet.org/meeting/without-exception/2025-11-22
CATEGORIES:Zoom
ATTACH;FMTTYPE=image/svg+xml:https://meetings.greysheet.org/wp-content/uploads/2025/05/desktop.svg
LOCATION:Zoom ID: 768163633, Passcode: Universal, Camera: Required
END:VEVENT
BEGIN:VEVENT
DTSTART;TZID=America/Los_Angeles:20251115T100000
DTEND;TZID=America/Los_Angeles:20251115T110000
DTSTAMP:20260420T043551
CREATED:20250504T220133Z
LAST-MODIFIED:20260404T125147Z
UID:10044130-1763200800-1763204400@meetings.greysheet.org
SUMMARY:Without Exception
DESCRIPTION:A small and welcoming group based in Northern California.
URL:https://meetings.greysheet.org/meeting/without-exception/2025-11-15
CATEGORIES:Zoom
ATTACH;FMTTYPE=image/svg+xml:https://meetings.greysheet.org/wp-content/uploads/2025/05/desktop.svg
LOCATION:Zoom ID: 768163633, Passcode: Universal, Camera: Required
END:VEVENT
BEGIN:VEVENT
DTSTART;TZID=America/Los_Angeles:20251108T100000
DTEND;TZID=America/Los_Angeles:20251108T110000
DTSTAMP:20260420T043551
CREATED:20250504T220133Z
LAST-MODIFIED:20260404T125147Z
UID:10044129-1762596000-1762599600@meetings.greysheet.org
SUMMARY:Without Exception
DESCRIPTION:A small and welcoming group based in Northern California.
URL:https://meetings.greysheet.org/meeting/without-exception/2025-11-08
CATEGORIES:Zoom
ATTACH;FMTTYPE=image/svg+xml:https://meetings.greysheet.org/wp-content/uploads/2025/05/desktop.svg
LOCATION:Zoom ID: 768163633, Passcode: Universal, Camera: Required
END:VEVENT
BEGIN:VEVENT
DTSTART;TZID=America/Los_Angeles:20251101T100000
DTEND;TZID=America/Los_Angeles:20251101T110000
DTSTAMP:20260420T043551
CREATED:20250504T220133Z
LAST-MODIFIED:20260404T125147Z
UID:10044128-1761991200-1761994800@meetings.greysheet.org
SUMMARY:Without Exception
DESCRIPTION:A small and welcoming group based in Northern California.
URL:https://meetings.greysheet.org/meeting/without-exception/2025-11-01
CATEGORIES:Zoom
ATTACH;FMTTYPE=image/svg+xml:https://meetings.greysheet.org/wp-content/uploads/2025/05/desktop.svg
LOCATION:Zoom ID: 768163633, Passcode: Universal, Camera: Required
END:VEVENT
BEGIN:VEVENT
DTSTART;TZID=America/Los_Angeles:20251025T100000
DTEND;TZID=America/Los_Angeles:20251025T110000
DTSTAMP:20260420T043551
CREATED:20250504T220133Z
LAST-MODIFIED:20260404T125147Z
UID:10044127-1761386400-1761390000@meetings.greysheet.org
SUMMARY:Without Exception
DESCRIPTION:A small and welcoming group based in Northern California.
URL:https://meetings.greysheet.org/meeting/without-exception/2025-10-25
CATEGORIES:Zoom
ATTACH;FMTTYPE=image/svg+xml:https://meetings.greysheet.org/wp-content/uploads/2025/05/desktop.svg
LOCATION:Zoom ID: 768163633, Passcode: Universal, Camera: Required
END:VEVENT
BEGIN:VEVENT
DTSTART;TZID=America/Los_Angeles:20251018T100000
DTEND;TZID=America/Los_Angeles:20251018T110000
DTSTAMP:20260420T043551
CREATED:20250504T220133Z
LAST-MODIFIED:20260404T125147Z
UID:10044126-1760781600-1760785200@meetings.greysheet.org
SUMMARY:Without Exception
DESCRIPTION:A small and welcoming group based in Northern California.
URL:https://meetings.greysheet.org/meeting/without-exception/2025-10-18
CATEGORIES:Zoom
ATTACH;FMTTYPE=image/svg+xml:https://meetings.greysheet.org/wp-content/uploads/2025/05/desktop.svg
LOCATION:Zoom ID: 768163633, Passcode: Universal, Camera: Required
END:VEVENT
BEGIN:VEVENT
DTSTART;TZID=America/Los_Angeles:20251011T100000
DTEND;TZID=America/Los_Angeles:20251011T110000
DTSTAMP:20260420T043551
CREATED:20250504T220133Z
LAST-MODIFIED:20260404T125147Z
UID:10044125-1760176800-1760180400@meetings.greysheet.org
SUMMARY:Without Exception
DESCRIPTION:A small and welcoming group based in Northern California.
URL:https://meetings.greysheet.org/meeting/without-exception/2025-10-11
CATEGORIES:Zoom
ATTACH;FMTTYPE=image/svg+xml:https://meetings.greysheet.org/wp-content/uploads/2025/05/desktop.svg
LOCATION:Zoom ID: 768163633, Passcode: Universal, Camera: Required
END:VEVENT
BEGIN:VEVENT
DTSTART;TZID=America/Los_Angeles:20251004T100000
DTEND;TZID=America/Los_Angeles:20251004T110000
DTSTAMP:20260420T043551
CREATED:20250504T220133Z
LAST-MODIFIED:20260404T125147Z
UID:10044124-1759572000-1759575600@meetings.greysheet.org
SUMMARY:Without Exception
DESCRIPTION:A small and welcoming group based in Northern California.
URL:https://meetings.greysheet.org/meeting/without-exception/2025-10-04
CATEGORIES:Zoom
ATTACH;FMTTYPE=image/svg+xml:https://meetings.greysheet.org/wp-content/uploads/2025/05/desktop.svg
LOCATION:Zoom ID: 768163633, Passcode: Universal, Camera: Required
END:VEVENT
BEGIN:VEVENT
DTSTART;TZID=America/Los_Angeles:20250927T100000
DTEND;TZID=America/Los_Angeles:20250927T110000
DTSTAMP:20260420T043551
CREATED:20250504T220133Z
LAST-MODIFIED:20260404T125147Z
UID:10044123-1758967200-1758970800@meetings.greysheet.org
SUMMARY:Without Exception
DESCRIPTION:A small and welcoming group based in Northern California.
URL:https://meetings.greysheet.org/meeting/without-exception/2025-09-27
CATEGORIES:Zoom
ATTACH;FMTTYPE=image/svg+xml:https://meetings.greysheet.org/wp-content/uploads/2025/05/desktop.svg
LOCATION:Zoom ID: 768163633, Passcode: Universal, Camera: Required
END:VEVENT
END:VCALENDAR