BEGIN:VCALENDAR
VERSION:2.0
PRODID:-//GreySheeters Anonymous World Services - ECPv6.15.20//NONSGML v1.0//EN
CALSCALE:GREGORIAN
METHOD:PUBLISH
X-ORIGINAL-URL:https://meetings.greysheet.org
X-WR-CALDESC:Events for GreySheeters Anonymous World Services
REFRESH-INTERVAL;VALUE=DURATION:PT1H
X-Robots-Tag:noindex
X-PUBLISHED-TTL:PT1H
BEGIN:VTIMEZONE
TZID:UTC
BEGIN:STANDARD
TZOFFSETFROM:+0000
TZOFFSETTO:+0000
TZNAME:UTC
DTSTART:20260101T000000
END:STANDARD
END:VTIMEZONE
BEGIN:VEVENT
DTSTART;TZID=UTC:20270917T070000
DTEND;TZID=UTC:20270917T080000
DTSTAMP:20260425T214906
CREATED:20251115T213747Z
LAST-MODIFIED:20260106T150417Z
UID:10060418-1821164400-1821168000@meetings.greysheet.org
SUMMARY:New Zealand Meeting
DESCRIPTION:Closed GSA Meeting for New Zealand / Australia Region & Surrounding Area.
URL:https://meetings.greysheet.org/meeting/new-zealand-meeting/2027-09-17
CATEGORIES:Zoom
ATTACH;FMTTYPE=image/svg+xml:https://meetings.greysheet.org/wp-content/uploads/2025/05/desktop.svg
ORGANIZER;CN="New Zealand Group":MAILTO:seatter79@gmail.com
LOCATION:Zoom ID: 8607280019, Passcode: Universal, Camera: Optional
END:VEVENT
BEGIN:VEVENT
DTSTART;TZID=UTC:20270924T070000
DTEND;TZID=UTC:20270924T080000
DTSTAMP:20260425T214906
CREATED:20251115T213747Z
LAST-MODIFIED:20260106T150417Z
UID:10060419-1821769200-1821772800@meetings.greysheet.org
SUMMARY:New Zealand Meeting
DESCRIPTION:Closed GSA Meeting for New Zealand / Australia Region & Surrounding Area.
URL:https://meetings.greysheet.org/meeting/new-zealand-meeting/2027-09-24
CATEGORIES:Zoom
ATTACH;FMTTYPE=image/svg+xml:https://meetings.greysheet.org/wp-content/uploads/2025/05/desktop.svg
ORGANIZER;CN="New Zealand Group":MAILTO:seatter79@gmail.com
LOCATION:Zoom ID: 8607280019, Passcode: Universal, Camera: Optional
END:VEVENT
BEGIN:VEVENT
DTSTART;TZID=UTC:20271001T070000
DTEND;TZID=UTC:20271001T080000
DTSTAMP:20260425T214906
CREATED:20251115T213747Z
LAST-MODIFIED:20260106T150417Z
UID:10060420-1822374000-1822377600@meetings.greysheet.org
SUMMARY:New Zealand Meeting
DESCRIPTION:Closed GSA Meeting for New Zealand / Australia Region & Surrounding Area.
URL:https://meetings.greysheet.org/meeting/new-zealand-meeting/2027-10-01
CATEGORIES:Zoom
ATTACH;FMTTYPE=image/svg+xml:https://meetings.greysheet.org/wp-content/uploads/2025/05/desktop.svg
ORGANIZER;CN="New Zealand Group":MAILTO:seatter79@gmail.com
LOCATION:Zoom ID: 8607280019, Passcode: Universal, Camera: Optional
END:VEVENT
BEGIN:VEVENT
DTSTART;TZID=UTC:20271008T070000
DTEND;TZID=UTC:20271008T080000
DTSTAMP:20260425T214906
CREATED:20251115T213747Z
LAST-MODIFIED:20260106T150417Z
UID:10060421-1822978800-1822982400@meetings.greysheet.org
SUMMARY:New Zealand Meeting
DESCRIPTION:Closed GSA Meeting for New Zealand / Australia Region & Surrounding Area.
URL:https://meetings.greysheet.org/meeting/new-zealand-meeting/2027-10-08
CATEGORIES:Zoom
ATTACH;FMTTYPE=image/svg+xml:https://meetings.greysheet.org/wp-content/uploads/2025/05/desktop.svg
ORGANIZER;CN="New Zealand Group":MAILTO:seatter79@gmail.com
LOCATION:Zoom ID: 8607280019, Passcode: Universal, Camera: Optional
END:VEVENT
BEGIN:VEVENT
DTSTART;TZID=UTC:20271015T070000
DTEND;TZID=UTC:20271015T080000
DTSTAMP:20260425T214906
CREATED:20251115T213747Z
LAST-MODIFIED:20260106T150417Z
UID:10060422-1823583600-1823587200@meetings.greysheet.org
SUMMARY:New Zealand Meeting
DESCRIPTION:Closed GSA Meeting for New Zealand / Australia Region & Surrounding Area.
URL:https://meetings.greysheet.org/meeting/new-zealand-meeting/2027-10-15
CATEGORIES:Zoom
ATTACH;FMTTYPE=image/svg+xml:https://meetings.greysheet.org/wp-content/uploads/2025/05/desktop.svg
ORGANIZER;CN="New Zealand Group":MAILTO:seatter79@gmail.com
LOCATION:Zoom ID: 8607280019, Passcode: Universal, Camera: Optional
END:VEVENT
BEGIN:VEVENT
DTSTART;TZID=UTC:20271022T070000
DTEND;TZID=UTC:20271022T080000
DTSTAMP:20260425T214906
CREATED:20251115T213747Z
LAST-MODIFIED:20260106T150417Z
UID:10060423-1824188400-1824192000@meetings.greysheet.org
SUMMARY:New Zealand Meeting
DESCRIPTION:Closed GSA Meeting for New Zealand / Australia Region & Surrounding Area.
URL:https://meetings.greysheet.org/meeting/new-zealand-meeting/2027-10-22
CATEGORIES:Zoom
ATTACH;FMTTYPE=image/svg+xml:https://meetings.greysheet.org/wp-content/uploads/2025/05/desktop.svg
ORGANIZER;CN="New Zealand Group":MAILTO:seatter79@gmail.com
LOCATION:Zoom ID: 8607280019, Passcode: Universal, Camera: Optional
END:VEVENT
BEGIN:VEVENT
DTSTART;TZID=UTC:20271029T070000
DTEND;TZID=UTC:20271029T080000
DTSTAMP:20260425T214906
CREATED:20251115T213747Z
LAST-MODIFIED:20260106T150417Z
UID:10060424-1824793200-1824796800@meetings.greysheet.org
SUMMARY:New Zealand Meeting
DESCRIPTION:Closed GSA Meeting for New Zealand / Australia Region & Surrounding Area.
URL:https://meetings.greysheet.org/meeting/new-zealand-meeting/2027-10-29
CATEGORIES:Zoom
ATTACH;FMTTYPE=image/svg+xml:https://meetings.greysheet.org/wp-content/uploads/2025/05/desktop.svg
ORGANIZER;CN="New Zealand Group":MAILTO:seatter79@gmail.com
LOCATION:Zoom ID: 8607280019, Passcode: Universal, Camera: Optional
END:VEVENT
BEGIN:VEVENT
DTSTART;TZID=UTC:20271105T070000
DTEND;TZID=UTC:20271105T080000
DTSTAMP:20260425T214906
CREATED:20251115T213747Z
LAST-MODIFIED:20260106T150417Z
UID:10060425-1825398000-1825401600@meetings.greysheet.org
SUMMARY:New Zealand Meeting
DESCRIPTION:Closed GSA Meeting for New Zealand / Australia Region & Surrounding Area.
URL:https://meetings.greysheet.org/meeting/new-zealand-meeting/2027-11-05
CATEGORIES:Zoom
ATTACH;FMTTYPE=image/svg+xml:https://meetings.greysheet.org/wp-content/uploads/2025/05/desktop.svg
ORGANIZER;CN="New Zealand Group":MAILTO:seatter79@gmail.com
LOCATION:Zoom ID: 8607280019, Passcode: Universal, Camera: Optional
END:VEVENT
BEGIN:VEVENT
DTSTART;TZID=UTC:20271112T070000
DTEND;TZID=UTC:20271112T080000
DTSTAMP:20260425T214906
CREATED:20251115T213747Z
LAST-MODIFIED:20260106T150417Z
UID:10060426-1826002800-1826006400@meetings.greysheet.org
SUMMARY:New Zealand Meeting
DESCRIPTION:Closed GSA Meeting for New Zealand / Australia Region & Surrounding Area.
URL:https://meetings.greysheet.org/meeting/new-zealand-meeting/2027-11-12
CATEGORIES:Zoom
ATTACH;FMTTYPE=image/svg+xml:https://meetings.greysheet.org/wp-content/uploads/2025/05/desktop.svg
ORGANIZER;CN="New Zealand Group":MAILTO:seatter79@gmail.com
LOCATION:Zoom ID: 8607280019, Passcode: Universal, Camera: Optional
END:VEVENT
BEGIN:VEVENT
DTSTART;TZID=UTC:20271119T070000
DTEND;TZID=UTC:20271119T080000
DTSTAMP:20260425T214906
CREATED:20251115T213747Z
LAST-MODIFIED:20260106T150417Z
UID:10060427-1826607600-1826611200@meetings.greysheet.org
SUMMARY:New Zealand Meeting
DESCRIPTION:Closed GSA Meeting for New Zealand / Australia Region & Surrounding Area.
URL:https://meetings.greysheet.org/meeting/new-zealand-meeting/2027-11-19
CATEGORIES:Zoom
ATTACH;FMTTYPE=image/svg+xml:https://meetings.greysheet.org/wp-content/uploads/2025/05/desktop.svg
ORGANIZER;CN="New Zealand Group":MAILTO:seatter79@gmail.com
LOCATION:Zoom ID: 8607280019, Passcode: Universal, Camera: Optional
END:VEVENT
BEGIN:VEVENT
DTSTART;TZID=UTC:20271126T070000
DTEND;TZID=UTC:20271126T080000
DTSTAMP:20260425T214906
CREATED:20251115T213747Z
LAST-MODIFIED:20260106T150417Z
UID:10060428-1827212400-1827216000@meetings.greysheet.org
SUMMARY:New Zealand Meeting
DESCRIPTION:Closed GSA Meeting for New Zealand / Australia Region & Surrounding Area.
URL:https://meetings.greysheet.org/meeting/new-zealand-meeting/2027-11-26
CATEGORIES:Zoom
ATTACH;FMTTYPE=image/svg+xml:https://meetings.greysheet.org/wp-content/uploads/2025/05/desktop.svg
ORGANIZER;CN="New Zealand Group":MAILTO:seatter79@gmail.com
LOCATION:Zoom ID: 8607280019, Passcode: Universal, Camera: Optional
END:VEVENT
BEGIN:VEVENT
DTSTART;TZID=UTC:20271203T070000
DTEND;TZID=UTC:20271203T080000
DTSTAMP:20260425T214906
CREATED:20251115T213747Z
LAST-MODIFIED:20260106T150417Z
UID:10060429-1827817200-1827820800@meetings.greysheet.org
SUMMARY:New Zealand Meeting
DESCRIPTION:Closed GSA Meeting for New Zealand / Australia Region & Surrounding Area.
URL:https://meetings.greysheet.org/meeting/new-zealand-meeting/2027-12-03
CATEGORIES:Zoom
ATTACH;FMTTYPE=image/svg+xml:https://meetings.greysheet.org/wp-content/uploads/2025/05/desktop.svg
ORGANIZER;CN="New Zealand Group":MAILTO:seatter79@gmail.com
LOCATION:Zoom ID: 8607280019, Passcode: Universal, Camera: Optional
END:VEVENT
BEGIN:VEVENT
DTSTART;TZID=UTC:20271210T070000
DTEND;TZID=UTC:20271210T080000
DTSTAMP:20260425T214906
CREATED:20251115T213747Z
LAST-MODIFIED:20260106T150417Z
UID:10060430-1828422000-1828425600@meetings.greysheet.org
SUMMARY:New Zealand Meeting
DESCRIPTION:Closed GSA Meeting for New Zealand / Australia Region & Surrounding Area.
URL:https://meetings.greysheet.org/meeting/new-zealand-meeting/2027-12-10
CATEGORIES:Zoom
ATTACH;FMTTYPE=image/svg+xml:https://meetings.greysheet.org/wp-content/uploads/2025/05/desktop.svg
ORGANIZER;CN="New Zealand Group":MAILTO:seatter79@gmail.com
LOCATION:Zoom ID: 8607280019, Passcode: Universal, Camera: Optional
END:VEVENT
BEGIN:VEVENT
DTSTART;TZID=UTC:20271217T070000
DTEND;TZID=UTC:20271217T080000
DTSTAMP:20260425T214906
CREATED:20251115T213747Z
LAST-MODIFIED:20260106T150417Z
UID:10060431-1829026800-1829030400@meetings.greysheet.org
SUMMARY:New Zealand Meeting
DESCRIPTION:Closed GSA Meeting for New Zealand / Australia Region & Surrounding Area.
URL:https://meetings.greysheet.org/meeting/new-zealand-meeting/2027-12-17
CATEGORIES:Zoom
ATTACH;FMTTYPE=image/svg+xml:https://meetings.greysheet.org/wp-content/uploads/2025/05/desktop.svg
ORGANIZER;CN="New Zealand Group":MAILTO:seatter79@gmail.com
LOCATION:Zoom ID: 8607280019, Passcode: Universal, Camera: Optional
END:VEVENT
BEGIN:VEVENT
DTSTART;TZID=UTC:20271224T070000
DTEND;TZID=UTC:20271224T080000
DTSTAMP:20260425T214906
CREATED:20251115T213747Z
LAST-MODIFIED:20260106T150417Z
UID:10060432-1829631600-1829635200@meetings.greysheet.org
SUMMARY:New Zealand Meeting
DESCRIPTION:Closed GSA Meeting for New Zealand / Australia Region & Surrounding Area.
URL:https://meetings.greysheet.org/meeting/new-zealand-meeting/2027-12-24
CATEGORIES:Zoom
ATTACH;FMTTYPE=image/svg+xml:https://meetings.greysheet.org/wp-content/uploads/2025/05/desktop.svg
ORGANIZER;CN="New Zealand Group":MAILTO:seatter79@gmail.com
LOCATION:Zoom ID: 8607280019, Passcode: Universal, Camera: Optional
END:VEVENT
BEGIN:VEVENT
DTSTART;TZID=UTC:20271231T070000
DTEND;TZID=UTC:20271231T080000
DTSTAMP:20260425T214906
CREATED:20251115T213747Z
LAST-MODIFIED:20260106T150417Z
UID:10060433-1830236400-1830240000@meetings.greysheet.org
SUMMARY:New Zealand Meeting
DESCRIPTION:Closed GSA Meeting for New Zealand / Australia Region & Surrounding Area.
URL:https://meetings.greysheet.org/meeting/new-zealand-meeting/2027-12-31
CATEGORIES:Zoom
ATTACH;FMTTYPE=image/svg+xml:https://meetings.greysheet.org/wp-content/uploads/2025/05/desktop.svg
ORGANIZER;CN="New Zealand Group":MAILTO:seatter79@gmail.com
LOCATION:Zoom ID: 8607280019, Passcode: Universal, Camera: Optional
END:VEVENT
END:VCALENDAR