BEGIN:VCALENDAR
VERSION:2.0
PRODID:-//GreySheeters Anonymous World Services - ECPv6.15.20//NONSGML v1.0//EN
CALSCALE:GREGORIAN
METHOD:PUBLISH
X-ORIGINAL-URL:https://meetings.greysheet.org
X-WR-CALDESC:Events for GreySheeters Anonymous World Services
REFRESH-INTERVAL;VALUE=DURATION:PT1H
X-Robots-Tag:noindex
X-PUBLISHED-TTL:PT1H
BEGIN:VTIMEZONE
TZID:America/New_York
BEGIN:DAYLIGHT
TZOFFSETFROM:-0500
TZOFFSETTO:-0400
TZNAME:EDT
DTSTART:20260308T070000
END:DAYLIGHT
BEGIN:STANDARD
TZOFFSETFROM:-0400
TZOFFSETTO:-0500
TZNAME:EST
DTSTART:20261101T060000
END:STANDARD
BEGIN:DAYLIGHT
TZOFFSETFROM:-0500
TZOFFSETTO:-0400
TZNAME:EDT
DTSTART:20270314T070000
END:DAYLIGHT
BEGIN:STANDARD
TZOFFSETFROM:-0400
TZOFFSETTO:-0500
TZNAME:EST
DTSTART:20271107T060000
END:STANDARD
BEGIN:DAYLIGHT
TZOFFSETFROM:-0500
TZOFFSETTO:-0400
TZNAME:EDT
DTSTART:20280312T070000
END:DAYLIGHT
BEGIN:STANDARD
TZOFFSETFROM:-0400
TZOFFSETTO:-0500
TZNAME:EST
DTSTART:20281105T060000
END:STANDARD
END:VTIMEZONE
BEGIN:VEVENT
DTSTART;TZID=America/New_York:20270328T210000
DTEND;TZID=America/New_York:20270328T220000
DTSTAMP:20260421T135858
CREATED:20250504T220119Z
LAST-MODIFIED:20260216T152332Z
UID:10031076-1806267600-1806271200@meetings.greysheet.org
SUMMARY:Sunday's Ladies
DESCRIPTION:
URL:https://meetings.greysheet.org/meeting/sundays-ladies/2027-03-28
CATEGORIES:Zoom
ATTACH;FMTTYPE=image/svg+xml:https://meetings.greysheet.org/wp-content/uploads/2025/05/desktop.svg
LOCATION:Zoom ID: 81505877647, Passcode: Universal, Camera: Optional
END:VEVENT
BEGIN:VEVENT
DTSTART;TZID=America/New_York:20270404T210000
DTEND;TZID=America/New_York:20270404T220000
DTSTAMP:20260421T135858
CREATED:20250504T220119Z
LAST-MODIFIED:20260216T152332Z
UID:10031077-1806872400-1806876000@meetings.greysheet.org
SUMMARY:Sunday's Ladies
DESCRIPTION:
URL:https://meetings.greysheet.org/meeting/sundays-ladies/2027-04-04
CATEGORIES:Zoom
ATTACH;FMTTYPE=image/svg+xml:https://meetings.greysheet.org/wp-content/uploads/2025/05/desktop.svg
LOCATION:Zoom ID: 81505877647, Passcode: Universal, Camera: Optional
END:VEVENT
BEGIN:VEVENT
DTSTART;TZID=America/New_York:20270411T210000
DTEND;TZID=America/New_York:20270411T220000
DTSTAMP:20260421T135858
CREATED:20250504T220119Z
LAST-MODIFIED:20260216T152332Z
UID:10031078-1807477200-1807480800@meetings.greysheet.org
SUMMARY:Sunday's Ladies
DESCRIPTION:
URL:https://meetings.greysheet.org/meeting/sundays-ladies/2027-04-11
CATEGORIES:Zoom
ATTACH;FMTTYPE=image/svg+xml:https://meetings.greysheet.org/wp-content/uploads/2025/05/desktop.svg
LOCATION:Zoom ID: 81505877647, Passcode: Universal, Camera: Optional
END:VEVENT
BEGIN:VEVENT
DTSTART;TZID=America/New_York:20270418T210000
DTEND;TZID=America/New_York:20270418T220000
DTSTAMP:20260421T135858
CREATED:20250504T220119Z
LAST-MODIFIED:20260216T152332Z
UID:10031079-1808082000-1808085600@meetings.greysheet.org
SUMMARY:Sunday's Ladies
DESCRIPTION:
URL:https://meetings.greysheet.org/meeting/sundays-ladies/2027-04-18
CATEGORIES:Zoom
ATTACH;FMTTYPE=image/svg+xml:https://meetings.greysheet.org/wp-content/uploads/2025/05/desktop.svg
LOCATION:Zoom ID: 81505877647, Passcode: Universal, Camera: Optional
END:VEVENT
BEGIN:VEVENT
DTSTART;TZID=America/New_York:20270425T210000
DTEND;TZID=America/New_York:20270425T220000
DTSTAMP:20260421T135858
CREATED:20250504T220119Z
LAST-MODIFIED:20260216T152332Z
UID:10031080-1808686800-1808690400@meetings.greysheet.org
SUMMARY:Sunday's Ladies
DESCRIPTION:
URL:https://meetings.greysheet.org/meeting/sundays-ladies/2027-04-25
CATEGORIES:Zoom
ATTACH;FMTTYPE=image/svg+xml:https://meetings.greysheet.org/wp-content/uploads/2025/05/desktop.svg
LOCATION:Zoom ID: 81505877647, Passcode: Universal, Camera: Optional
END:VEVENT
BEGIN:VEVENT
DTSTART;TZID=America/New_York:20270502T210000
DTEND;TZID=America/New_York:20270502T220000
DTSTAMP:20260421T135858
CREATED:20250504T220119Z
LAST-MODIFIED:20260216T152332Z
UID:10031081-1809291600-1809295200@meetings.greysheet.org
SUMMARY:Sunday's Ladies
DESCRIPTION:
URL:https://meetings.greysheet.org/meeting/sundays-ladies/2027-05-02
CATEGORIES:Zoom
ATTACH;FMTTYPE=image/svg+xml:https://meetings.greysheet.org/wp-content/uploads/2025/05/desktop.svg
LOCATION:Zoom ID: 81505877647, Passcode: Universal, Camera: Optional
END:VEVENT
BEGIN:VEVENT
DTSTART;TZID=America/New_York:20270509T210000
DTEND;TZID=America/New_York:20270509T220000
DTSTAMP:20260421T135858
CREATED:20250504T220119Z
LAST-MODIFIED:20260216T152332Z
UID:10031082-1809896400-1809900000@meetings.greysheet.org
SUMMARY:Sunday's Ladies
DESCRIPTION:
URL:https://meetings.greysheet.org/meeting/sundays-ladies/2027-05-09
CATEGORIES:Zoom
ATTACH;FMTTYPE=image/svg+xml:https://meetings.greysheet.org/wp-content/uploads/2025/05/desktop.svg
LOCATION:Zoom ID: 81505877647, Passcode: Universal, Camera: Optional
END:VEVENT
BEGIN:VEVENT
DTSTART;TZID=America/New_York:20270516T210000
DTEND;TZID=America/New_York:20270516T220000
DTSTAMP:20260421T135858
CREATED:20250504T220119Z
LAST-MODIFIED:20260216T152332Z
UID:10031083-1810501200-1810504800@meetings.greysheet.org
SUMMARY:Sunday's Ladies
DESCRIPTION:
URL:https://meetings.greysheet.org/meeting/sundays-ladies/2027-05-16
CATEGORIES:Zoom
ATTACH;FMTTYPE=image/svg+xml:https://meetings.greysheet.org/wp-content/uploads/2025/05/desktop.svg
LOCATION:Zoom ID: 81505877647, Passcode: Universal, Camera: Optional
END:VEVENT
BEGIN:VEVENT
DTSTART;TZID=America/New_York:20270523T210000
DTEND;TZID=America/New_York:20270523T220000
DTSTAMP:20260421T135858
CREATED:20250504T220119Z
LAST-MODIFIED:20260216T152332Z
UID:10031084-1811106000-1811109600@meetings.greysheet.org
SUMMARY:Sunday's Ladies
DESCRIPTION:
URL:https://meetings.greysheet.org/meeting/sundays-ladies/2027-05-23
CATEGORIES:Zoom
ATTACH;FMTTYPE=image/svg+xml:https://meetings.greysheet.org/wp-content/uploads/2025/05/desktop.svg
LOCATION:Zoom ID: 81505877647, Passcode: Universal, Camera: Optional
END:VEVENT
BEGIN:VEVENT
DTSTART;TZID=America/New_York:20270530T210000
DTEND;TZID=America/New_York:20270530T220000
DTSTAMP:20260421T135858
CREATED:20250504T220119Z
LAST-MODIFIED:20260216T152332Z
UID:10031085-1811710800-1811714400@meetings.greysheet.org
SUMMARY:Sunday's Ladies
DESCRIPTION:
URL:https://meetings.greysheet.org/meeting/sundays-ladies/2027-05-30
CATEGORIES:Zoom
ATTACH;FMTTYPE=image/svg+xml:https://meetings.greysheet.org/wp-content/uploads/2025/05/desktop.svg
LOCATION:Zoom ID: 81505877647, Passcode: Universal, Camera: Optional
END:VEVENT
BEGIN:VEVENT
DTSTART;TZID=America/New_York:20270606T210000
DTEND;TZID=America/New_York:20270606T220000
DTSTAMP:20260421T135858
CREATED:20250504T220119Z
LAST-MODIFIED:20260216T152332Z
UID:10031086-1812315600-1812319200@meetings.greysheet.org
SUMMARY:Sunday's Ladies
DESCRIPTION:
URL:https://meetings.greysheet.org/meeting/sundays-ladies/2027-06-06
CATEGORIES:Zoom
ATTACH;FMTTYPE=image/svg+xml:https://meetings.greysheet.org/wp-content/uploads/2025/05/desktop.svg
LOCATION:Zoom ID: 81505877647, Passcode: Universal, Camera: Optional
END:VEVENT
BEGIN:VEVENT
DTSTART;TZID=America/New_York:20270613T210000
DTEND;TZID=America/New_York:20270613T220000
DTSTAMP:20260421T135858
CREATED:20250504T220119Z
LAST-MODIFIED:20260216T152332Z
UID:10031087-1812920400-1812924000@meetings.greysheet.org
SUMMARY:Sunday's Ladies
DESCRIPTION:
URL:https://meetings.greysheet.org/meeting/sundays-ladies/2027-06-13
CATEGORIES:Zoom
ATTACH;FMTTYPE=image/svg+xml:https://meetings.greysheet.org/wp-content/uploads/2025/05/desktop.svg
LOCATION:Zoom ID: 81505877647, Passcode: Universal, Camera: Optional
END:VEVENT
BEGIN:VEVENT
DTSTART;TZID=America/New_York:20270620T210000
DTEND;TZID=America/New_York:20270620T220000
DTSTAMP:20260421T135858
CREATED:20250504T220119Z
LAST-MODIFIED:20260216T152332Z
UID:10031088-1813525200-1813528800@meetings.greysheet.org
SUMMARY:Sunday's Ladies
DESCRIPTION:
URL:https://meetings.greysheet.org/meeting/sundays-ladies/2027-06-20
CATEGORIES:Zoom
ATTACH;FMTTYPE=image/svg+xml:https://meetings.greysheet.org/wp-content/uploads/2025/05/desktop.svg
LOCATION:Zoom ID: 81505877647, Passcode: Universal, Camera: Optional
END:VEVENT
BEGIN:VEVENT
DTSTART;TZID=America/New_York:20270627T210000
DTEND;TZID=America/New_York:20270627T220000
DTSTAMP:20260421T135858
CREATED:20250504T220119Z
LAST-MODIFIED:20260216T152332Z
UID:10031089-1814130000-1814133600@meetings.greysheet.org
SUMMARY:Sunday's Ladies
DESCRIPTION:
URL:https://meetings.greysheet.org/meeting/sundays-ladies/2027-06-27
CATEGORIES:Zoom
ATTACH;FMTTYPE=image/svg+xml:https://meetings.greysheet.org/wp-content/uploads/2025/05/desktop.svg
LOCATION:Zoom ID: 81505877647, Passcode: Universal, Camera: Optional
END:VEVENT
BEGIN:VEVENT
DTSTART;TZID=America/New_York:20270704T210000
DTEND;TZID=America/New_York:20270704T220000
DTSTAMP:20260421T135858
CREATED:20250504T220119Z
LAST-MODIFIED:20260216T152332Z
UID:10031090-1814734800-1814738400@meetings.greysheet.org
SUMMARY:Sunday's Ladies
DESCRIPTION:
URL:https://meetings.greysheet.org/meeting/sundays-ladies/2027-07-04
CATEGORIES:Zoom
ATTACH;FMTTYPE=image/svg+xml:https://meetings.greysheet.org/wp-content/uploads/2025/05/desktop.svg
LOCATION:Zoom ID: 81505877647, Passcode: Universal, Camera: Optional
END:VEVENT
BEGIN:VEVENT
DTSTART;TZID=America/New_York:20270711T210000
DTEND;TZID=America/New_York:20270711T220000
DTSTAMP:20260421T135858
CREATED:20250504T220119Z
LAST-MODIFIED:20260216T152332Z
UID:10031091-1815339600-1815343200@meetings.greysheet.org
SUMMARY:Sunday's Ladies
DESCRIPTION:
URL:https://meetings.greysheet.org/meeting/sundays-ladies/2027-07-11
CATEGORIES:Zoom
ATTACH;FMTTYPE=image/svg+xml:https://meetings.greysheet.org/wp-content/uploads/2025/05/desktop.svg
LOCATION:Zoom ID: 81505877647, Passcode: Universal, Camera: Optional
END:VEVENT
BEGIN:VEVENT
DTSTART;TZID=America/New_York:20270718T210000
DTEND;TZID=America/New_York:20270718T220000
DTSTAMP:20260421T135858
CREATED:20250504T220119Z
LAST-MODIFIED:20260216T152332Z
UID:10031092-1815944400-1815948000@meetings.greysheet.org
SUMMARY:Sunday's Ladies
DESCRIPTION:
URL:https://meetings.greysheet.org/meeting/sundays-ladies/2027-07-18
CATEGORIES:Zoom
ATTACH;FMTTYPE=image/svg+xml:https://meetings.greysheet.org/wp-content/uploads/2025/05/desktop.svg
LOCATION:Zoom ID: 81505877647, Passcode: Universal, Camera: Optional
END:VEVENT
BEGIN:VEVENT
DTSTART;TZID=America/New_York:20270725T210000
DTEND;TZID=America/New_York:20270725T220000
DTSTAMP:20260421T135858
CREATED:20250504T220119Z
LAST-MODIFIED:20260216T152332Z
UID:10031093-1816549200-1816552800@meetings.greysheet.org
SUMMARY:Sunday's Ladies
DESCRIPTION:
URL:https://meetings.greysheet.org/meeting/sundays-ladies/2027-07-25
CATEGORIES:Zoom
ATTACH;FMTTYPE=image/svg+xml:https://meetings.greysheet.org/wp-content/uploads/2025/05/desktop.svg
LOCATION:Zoom ID: 81505877647, Passcode: Universal, Camera: Optional
END:VEVENT
BEGIN:VEVENT
DTSTART;TZID=America/New_York:20270801T210000
DTEND;TZID=America/New_York:20270801T220000
DTSTAMP:20260421T135858
CREATED:20250504T220119Z
LAST-MODIFIED:20260216T152332Z
UID:10031094-1817154000-1817157600@meetings.greysheet.org
SUMMARY:Sunday's Ladies
DESCRIPTION:
URL:https://meetings.greysheet.org/meeting/sundays-ladies/2027-08-01
CATEGORIES:Zoom
ATTACH;FMTTYPE=image/svg+xml:https://meetings.greysheet.org/wp-content/uploads/2025/05/desktop.svg
LOCATION:Zoom ID: 81505877647, Passcode: Universal, Camera: Optional
END:VEVENT
BEGIN:VEVENT
DTSTART;TZID=America/New_York:20270808T210000
DTEND;TZID=America/New_York:20270808T220000
DTSTAMP:20260421T135858
CREATED:20250504T220119Z
LAST-MODIFIED:20260216T152332Z
UID:10031095-1817758800-1817762400@meetings.greysheet.org
SUMMARY:Sunday's Ladies
DESCRIPTION:
URL:https://meetings.greysheet.org/meeting/sundays-ladies/2027-08-08
CATEGORIES:Zoom
ATTACH;FMTTYPE=image/svg+xml:https://meetings.greysheet.org/wp-content/uploads/2025/05/desktop.svg
LOCATION:Zoom ID: 81505877647, Passcode: Universal, Camera: Optional
END:VEVENT
BEGIN:VEVENT
DTSTART;TZID=America/New_York:20270815T210000
DTEND;TZID=America/New_York:20270815T220000
DTSTAMP:20260421T135858
CREATED:20250504T220119Z
LAST-MODIFIED:20260216T152332Z
UID:10031096-1818363600-1818367200@meetings.greysheet.org
SUMMARY:Sunday's Ladies
DESCRIPTION:
URL:https://meetings.greysheet.org/meeting/sundays-ladies/2027-08-15
CATEGORIES:Zoom
ATTACH;FMTTYPE=image/svg+xml:https://meetings.greysheet.org/wp-content/uploads/2025/05/desktop.svg
LOCATION:Zoom ID: 81505877647, Passcode: Universal, Camera: Optional
END:VEVENT
BEGIN:VEVENT
DTSTART;TZID=America/New_York:20270822T210000
DTEND;TZID=America/New_York:20270822T220000
DTSTAMP:20260421T135858
CREATED:20250504T220119Z
LAST-MODIFIED:20260216T152332Z
UID:10031097-1818968400-1818972000@meetings.greysheet.org
SUMMARY:Sunday's Ladies
DESCRIPTION:
URL:https://meetings.greysheet.org/meeting/sundays-ladies/2027-08-22
CATEGORIES:Zoom
ATTACH;FMTTYPE=image/svg+xml:https://meetings.greysheet.org/wp-content/uploads/2025/05/desktop.svg
LOCATION:Zoom ID: 81505877647, Passcode: Universal, Camera: Optional
END:VEVENT
BEGIN:VEVENT
DTSTART;TZID=America/New_York:20270829T210000
DTEND;TZID=America/New_York:20270829T220000
DTSTAMP:20260421T135858
CREATED:20250504T220119Z
LAST-MODIFIED:20260216T152332Z
UID:10031098-1819573200-1819576800@meetings.greysheet.org
SUMMARY:Sunday's Ladies
DESCRIPTION:
URL:https://meetings.greysheet.org/meeting/sundays-ladies/2027-08-29
CATEGORIES:Zoom
ATTACH;FMTTYPE=image/svg+xml:https://meetings.greysheet.org/wp-content/uploads/2025/05/desktop.svg
LOCATION:Zoom ID: 81505877647, Passcode: Universal, Camera: Optional
END:VEVENT
BEGIN:VEVENT
DTSTART;TZID=America/New_York:20270905T210000
DTEND;TZID=America/New_York:20270905T220000
DTSTAMP:20260421T135858
CREATED:20250504T220119Z
LAST-MODIFIED:20260216T152332Z
UID:10031099-1820178000-1820181600@meetings.greysheet.org
SUMMARY:Sunday's Ladies
DESCRIPTION:
URL:https://meetings.greysheet.org/meeting/sundays-ladies/2027-09-05
CATEGORIES:Zoom
ATTACH;FMTTYPE=image/svg+xml:https://meetings.greysheet.org/wp-content/uploads/2025/05/desktop.svg
LOCATION:Zoom ID: 81505877647, Passcode: Universal, Camera: Optional
END:VEVENT
BEGIN:VEVENT
DTSTART;TZID=America/New_York:20270912T210000
DTEND;TZID=America/New_York:20270912T220000
DTSTAMP:20260421T135858
CREATED:20250504T220119Z
LAST-MODIFIED:20260216T152332Z
UID:10031100-1820782800-1820786400@meetings.greysheet.org
SUMMARY:Sunday's Ladies
DESCRIPTION:
URL:https://meetings.greysheet.org/meeting/sundays-ladies/2027-09-12
CATEGORIES:Zoom
ATTACH;FMTTYPE=image/svg+xml:https://meetings.greysheet.org/wp-content/uploads/2025/05/desktop.svg
LOCATION:Zoom ID: 81505877647, Passcode: Universal, Camera: Optional
END:VEVENT
BEGIN:VEVENT
DTSTART;TZID=America/New_York:20270919T210000
DTEND;TZID=America/New_York:20270919T220000
DTSTAMP:20260421T135858
CREATED:20250504T220119Z
LAST-MODIFIED:20260216T152332Z
UID:10031101-1821387600-1821391200@meetings.greysheet.org
SUMMARY:Sunday's Ladies
DESCRIPTION:
URL:https://meetings.greysheet.org/meeting/sundays-ladies/2027-09-19
CATEGORIES:Zoom
ATTACH;FMTTYPE=image/svg+xml:https://meetings.greysheet.org/wp-content/uploads/2025/05/desktop.svg
LOCATION:Zoom ID: 81505877647, Passcode: Universal, Camera: Optional
END:VEVENT
BEGIN:VEVENT
DTSTART;TZID=America/New_York:20270926T210000
DTEND;TZID=America/New_York:20270926T220000
DTSTAMP:20260421T135858
CREATED:20250504T220119Z
LAST-MODIFIED:20260216T152332Z
UID:10031102-1821992400-1821996000@meetings.greysheet.org
SUMMARY:Sunday's Ladies
DESCRIPTION:
URL:https://meetings.greysheet.org/meeting/sundays-ladies/2027-09-26
CATEGORIES:Zoom
ATTACH;FMTTYPE=image/svg+xml:https://meetings.greysheet.org/wp-content/uploads/2025/05/desktop.svg
LOCATION:Zoom ID: 81505877647, Passcode: Universal, Camera: Optional
END:VEVENT
BEGIN:VEVENT
DTSTART;TZID=America/New_York:20271003T210000
DTEND;TZID=America/New_York:20271003T220000
DTSTAMP:20260421T135858
CREATED:20250504T220119Z
LAST-MODIFIED:20260216T152332Z
UID:10031103-1822597200-1822600800@meetings.greysheet.org
SUMMARY:Sunday's Ladies
DESCRIPTION:
URL:https://meetings.greysheet.org/meeting/sundays-ladies/2027-10-03
CATEGORIES:Zoom
ATTACH;FMTTYPE=image/svg+xml:https://meetings.greysheet.org/wp-content/uploads/2025/05/desktop.svg
LOCATION:Zoom ID: 81505877647, Passcode: Universal, Camera: Optional
END:VEVENT
BEGIN:VEVENT
DTSTART;TZID=America/New_York:20271010T210000
DTEND;TZID=America/New_York:20271010T220000
DTSTAMP:20260421T135858
CREATED:20250504T220119Z
LAST-MODIFIED:20260216T152332Z
UID:10031104-1823202000-1823205600@meetings.greysheet.org
SUMMARY:Sunday's Ladies
DESCRIPTION:
URL:https://meetings.greysheet.org/meeting/sundays-ladies/2027-10-10
CATEGORIES:Zoom
ATTACH;FMTTYPE=image/svg+xml:https://meetings.greysheet.org/wp-content/uploads/2025/05/desktop.svg
LOCATION:Zoom ID: 81505877647, Passcode: Universal, Camera: Optional
END:VEVENT
BEGIN:VEVENT
DTSTART;TZID=America/New_York:20271017T210000
DTEND;TZID=America/New_York:20271017T220000
DTSTAMP:20260421T135858
CREATED:20250504T220119Z
LAST-MODIFIED:20260216T152332Z
UID:10031105-1823806800-1823810400@meetings.greysheet.org
SUMMARY:Sunday's Ladies
DESCRIPTION:
URL:https://meetings.greysheet.org/meeting/sundays-ladies/2027-10-17
CATEGORIES:Zoom
ATTACH;FMTTYPE=image/svg+xml:https://meetings.greysheet.org/wp-content/uploads/2025/05/desktop.svg
LOCATION:Zoom ID: 81505877647, Passcode: Universal, Camera: Optional
END:VEVENT
END:VCALENDAR