BEGIN:VCALENDAR
VERSION:2.0
PRODID:-//GreySheeters Anonymous World Services - ECPv6.15.20//NONSGML v1.0//EN
CALSCALE:GREGORIAN
METHOD:PUBLISH
X-ORIGINAL-URL:https://meetings.greysheet.org
X-WR-CALDESC:Events for GreySheeters Anonymous World Services
REFRESH-INTERVAL;VALUE=DURATION:PT1H
X-Robots-Tag:noindex
X-PUBLISHED-TTL:PT1H
BEGIN:VTIMEZONE
TZID:UTC
BEGIN:STANDARD
TZOFFSETFROM:+0000
TZOFFSETTO:+0000
TZNAME:UTC
DTSTART:20260101T000000
END:STANDARD
END:VTIMEZONE
BEGIN:VEVENT
DTSTART;TZID=UTC:20270101T070000
DTEND;TZID=UTC:20270101T080000
DTSTAMP:20260423T181753
CREATED:20251115T213747Z
LAST-MODIFIED:20260106T150417Z
UID:10060381-1798786800-1798790400@meetings.greysheet.org
SUMMARY:New Zealand Meeting
DESCRIPTION:Closed GSA Meeting for New Zealand / Australia Region & Surrounding Area.
URL:https://meetings.greysheet.org/meeting/new-zealand-meeting/2027-01-01
CATEGORIES:Zoom
ATTACH;FMTTYPE=image/svg+xml:https://meetings.greysheet.org/wp-content/uploads/2025/05/desktop.svg
ORGANIZER;CN="New Zealand Group":MAILTO:seatter79@gmail.com
LOCATION:Zoom ID: 8607280019, Passcode: Universal, Camera: Optional
END:VEVENT
BEGIN:VEVENT
DTSTART;TZID=UTC:20270108T070000
DTEND;TZID=UTC:20270108T080000
DTSTAMP:20260423T181753
CREATED:20251115T213747Z
LAST-MODIFIED:20260106T150417Z
UID:10060382-1799391600-1799395200@meetings.greysheet.org
SUMMARY:New Zealand Meeting
DESCRIPTION:Closed GSA Meeting for New Zealand / Australia Region & Surrounding Area.
URL:https://meetings.greysheet.org/meeting/new-zealand-meeting/2027-01-08
CATEGORIES:Zoom
ATTACH;FMTTYPE=image/svg+xml:https://meetings.greysheet.org/wp-content/uploads/2025/05/desktop.svg
ORGANIZER;CN="New Zealand Group":MAILTO:seatter79@gmail.com
LOCATION:Zoom ID: 8607280019, Passcode: Universal, Camera: Optional
END:VEVENT
BEGIN:VEVENT
DTSTART;TZID=UTC:20270115T070000
DTEND;TZID=UTC:20270115T080000
DTSTAMP:20260423T181753
CREATED:20251115T213747Z
LAST-MODIFIED:20260106T150417Z
UID:10060383-1799996400-1800000000@meetings.greysheet.org
SUMMARY:New Zealand Meeting
DESCRIPTION:Closed GSA Meeting for New Zealand / Australia Region & Surrounding Area.
URL:https://meetings.greysheet.org/meeting/new-zealand-meeting/2027-01-15
CATEGORIES:Zoom
ATTACH;FMTTYPE=image/svg+xml:https://meetings.greysheet.org/wp-content/uploads/2025/05/desktop.svg
ORGANIZER;CN="New Zealand Group":MAILTO:seatter79@gmail.com
LOCATION:Zoom ID: 8607280019, Passcode: Universal, Camera: Optional
END:VEVENT
BEGIN:VEVENT
DTSTART;TZID=UTC:20270122T070000
DTEND;TZID=UTC:20270122T080000
DTSTAMP:20260423T181753
CREATED:20251115T213747Z
LAST-MODIFIED:20260106T150417Z
UID:10060384-1800601200-1800604800@meetings.greysheet.org
SUMMARY:New Zealand Meeting
DESCRIPTION:Closed GSA Meeting for New Zealand / Australia Region & Surrounding Area.
URL:https://meetings.greysheet.org/meeting/new-zealand-meeting/2027-01-22
CATEGORIES:Zoom
ATTACH;FMTTYPE=image/svg+xml:https://meetings.greysheet.org/wp-content/uploads/2025/05/desktop.svg
ORGANIZER;CN="New Zealand Group":MAILTO:seatter79@gmail.com
LOCATION:Zoom ID: 8607280019, Passcode: Universal, Camera: Optional
END:VEVENT
BEGIN:VEVENT
DTSTART;TZID=UTC:20270129T070000
DTEND;TZID=UTC:20270129T080000
DTSTAMP:20260423T181753
CREATED:20251115T213747Z
LAST-MODIFIED:20260106T150417Z
UID:10060385-1801206000-1801209600@meetings.greysheet.org
SUMMARY:New Zealand Meeting
DESCRIPTION:Closed GSA Meeting for New Zealand / Australia Region & Surrounding Area.
URL:https://meetings.greysheet.org/meeting/new-zealand-meeting/2027-01-29
CATEGORIES:Zoom
ATTACH;FMTTYPE=image/svg+xml:https://meetings.greysheet.org/wp-content/uploads/2025/05/desktop.svg
ORGANIZER;CN="New Zealand Group":MAILTO:seatter79@gmail.com
LOCATION:Zoom ID: 8607280019, Passcode: Universal, Camera: Optional
END:VEVENT
BEGIN:VEVENT
DTSTART;TZID=UTC:20270205T070000
DTEND;TZID=UTC:20270205T080000
DTSTAMP:20260423T181753
CREATED:20251115T213747Z
LAST-MODIFIED:20260106T150417Z
UID:10060386-1801810800-1801814400@meetings.greysheet.org
SUMMARY:New Zealand Meeting
DESCRIPTION:Closed GSA Meeting for New Zealand / Australia Region & Surrounding Area.
URL:https://meetings.greysheet.org/meeting/new-zealand-meeting/2027-02-05
CATEGORIES:Zoom
ATTACH;FMTTYPE=image/svg+xml:https://meetings.greysheet.org/wp-content/uploads/2025/05/desktop.svg
ORGANIZER;CN="New Zealand Group":MAILTO:seatter79@gmail.com
LOCATION:Zoom ID: 8607280019, Passcode: Universal, Camera: Optional
END:VEVENT
BEGIN:VEVENT
DTSTART;TZID=UTC:20270212T070000
DTEND;TZID=UTC:20270212T080000
DTSTAMP:20260423T181753
CREATED:20251115T213747Z
LAST-MODIFIED:20260106T150417Z
UID:10060387-1802415600-1802419200@meetings.greysheet.org
SUMMARY:New Zealand Meeting
DESCRIPTION:Closed GSA Meeting for New Zealand / Australia Region & Surrounding Area.
URL:https://meetings.greysheet.org/meeting/new-zealand-meeting/2027-02-12
CATEGORIES:Zoom
ATTACH;FMTTYPE=image/svg+xml:https://meetings.greysheet.org/wp-content/uploads/2025/05/desktop.svg
ORGANIZER;CN="New Zealand Group":MAILTO:seatter79@gmail.com
LOCATION:Zoom ID: 8607280019, Passcode: Universal, Camera: Optional
END:VEVENT
BEGIN:VEVENT
DTSTART;TZID=UTC:20270219T070000
DTEND;TZID=UTC:20270219T080000
DTSTAMP:20260423T181753
CREATED:20251115T213747Z
LAST-MODIFIED:20260106T150417Z
UID:10060388-1803020400-1803024000@meetings.greysheet.org
SUMMARY:New Zealand Meeting
DESCRIPTION:Closed GSA Meeting for New Zealand / Australia Region & Surrounding Area.
URL:https://meetings.greysheet.org/meeting/new-zealand-meeting/2027-02-19
CATEGORIES:Zoom
ATTACH;FMTTYPE=image/svg+xml:https://meetings.greysheet.org/wp-content/uploads/2025/05/desktop.svg
ORGANIZER;CN="New Zealand Group":MAILTO:seatter79@gmail.com
LOCATION:Zoom ID: 8607280019, Passcode: Universal, Camera: Optional
END:VEVENT
BEGIN:VEVENT
DTSTART;TZID=UTC:20270226T070000
DTEND;TZID=UTC:20270226T080000
DTSTAMP:20260423T181753
CREATED:20251115T213747Z
LAST-MODIFIED:20260106T150417Z
UID:10060389-1803625200-1803628800@meetings.greysheet.org
SUMMARY:New Zealand Meeting
DESCRIPTION:Closed GSA Meeting for New Zealand / Australia Region & Surrounding Area.
URL:https://meetings.greysheet.org/meeting/new-zealand-meeting/2027-02-26
CATEGORIES:Zoom
ATTACH;FMTTYPE=image/svg+xml:https://meetings.greysheet.org/wp-content/uploads/2025/05/desktop.svg
ORGANIZER;CN="New Zealand Group":MAILTO:seatter79@gmail.com
LOCATION:Zoom ID: 8607280019, Passcode: Universal, Camera: Optional
END:VEVENT
BEGIN:VEVENT
DTSTART;TZID=UTC:20270305T070000
DTEND;TZID=UTC:20270305T080000
DTSTAMP:20260423T181753
CREATED:20251115T213747Z
LAST-MODIFIED:20260106T150417Z
UID:10060390-1804230000-1804233600@meetings.greysheet.org
SUMMARY:New Zealand Meeting
DESCRIPTION:Closed GSA Meeting for New Zealand / Australia Region & Surrounding Area.
URL:https://meetings.greysheet.org/meeting/new-zealand-meeting/2027-03-05
CATEGORIES:Zoom
ATTACH;FMTTYPE=image/svg+xml:https://meetings.greysheet.org/wp-content/uploads/2025/05/desktop.svg
ORGANIZER;CN="New Zealand Group":MAILTO:seatter79@gmail.com
LOCATION:Zoom ID: 8607280019, Passcode: Universal, Camera: Optional
END:VEVENT
BEGIN:VEVENT
DTSTART;TZID=UTC:20270312T070000
DTEND;TZID=UTC:20270312T080000
DTSTAMP:20260423T181753
CREATED:20251115T213747Z
LAST-MODIFIED:20260106T150417Z
UID:10060391-1804834800-1804838400@meetings.greysheet.org
SUMMARY:New Zealand Meeting
DESCRIPTION:Closed GSA Meeting for New Zealand / Australia Region & Surrounding Area.
URL:https://meetings.greysheet.org/meeting/new-zealand-meeting/2027-03-12
CATEGORIES:Zoom
ATTACH;FMTTYPE=image/svg+xml:https://meetings.greysheet.org/wp-content/uploads/2025/05/desktop.svg
ORGANIZER;CN="New Zealand Group":MAILTO:seatter79@gmail.com
LOCATION:Zoom ID: 8607280019, Passcode: Universal, Camera: Optional
END:VEVENT
BEGIN:VEVENT
DTSTART;TZID=UTC:20270319T070000
DTEND;TZID=UTC:20270319T080000
DTSTAMP:20260423T181753
CREATED:20251115T213747Z
LAST-MODIFIED:20260106T150417Z
UID:10060392-1805439600-1805443200@meetings.greysheet.org
SUMMARY:New Zealand Meeting
DESCRIPTION:Closed GSA Meeting for New Zealand / Australia Region & Surrounding Area.
URL:https://meetings.greysheet.org/meeting/new-zealand-meeting/2027-03-19
CATEGORIES:Zoom
ATTACH;FMTTYPE=image/svg+xml:https://meetings.greysheet.org/wp-content/uploads/2025/05/desktop.svg
ORGANIZER;CN="New Zealand Group":MAILTO:seatter79@gmail.com
LOCATION:Zoom ID: 8607280019, Passcode: Universal, Camera: Optional
END:VEVENT
BEGIN:VEVENT
DTSTART;TZID=UTC:20270326T070000
DTEND;TZID=UTC:20270326T080000
DTSTAMP:20260423T181753
CREATED:20251115T213747Z
LAST-MODIFIED:20260106T150417Z
UID:10060393-1806044400-1806048000@meetings.greysheet.org
SUMMARY:New Zealand Meeting
DESCRIPTION:Closed GSA Meeting for New Zealand / Australia Region & Surrounding Area.
URL:https://meetings.greysheet.org/meeting/new-zealand-meeting/2027-03-26
CATEGORIES:Zoom
ATTACH;FMTTYPE=image/svg+xml:https://meetings.greysheet.org/wp-content/uploads/2025/05/desktop.svg
ORGANIZER;CN="New Zealand Group":MAILTO:seatter79@gmail.com
LOCATION:Zoom ID: 8607280019, Passcode: Universal, Camera: Optional
END:VEVENT
BEGIN:VEVENT
DTSTART;TZID=UTC:20270402T070000
DTEND;TZID=UTC:20270402T080000
DTSTAMP:20260423T181753
CREATED:20251115T213747Z
LAST-MODIFIED:20260106T150417Z
UID:10060394-1806649200-1806652800@meetings.greysheet.org
SUMMARY:New Zealand Meeting
DESCRIPTION:Closed GSA Meeting for New Zealand / Australia Region & Surrounding Area.
URL:https://meetings.greysheet.org/meeting/new-zealand-meeting/2027-04-02
CATEGORIES:Zoom
ATTACH;FMTTYPE=image/svg+xml:https://meetings.greysheet.org/wp-content/uploads/2025/05/desktop.svg
ORGANIZER;CN="New Zealand Group":MAILTO:seatter79@gmail.com
LOCATION:Zoom ID: 8607280019, Passcode: Universal, Camera: Optional
END:VEVENT
BEGIN:VEVENT
DTSTART;TZID=UTC:20270409T070000
DTEND;TZID=UTC:20270409T080000
DTSTAMP:20260423T181753
CREATED:20251115T213747Z
LAST-MODIFIED:20260106T150417Z
UID:10060395-1807254000-1807257600@meetings.greysheet.org
SUMMARY:New Zealand Meeting
DESCRIPTION:Closed GSA Meeting for New Zealand / Australia Region & Surrounding Area.
URL:https://meetings.greysheet.org/meeting/new-zealand-meeting/2027-04-09
CATEGORIES:Zoom
ATTACH;FMTTYPE=image/svg+xml:https://meetings.greysheet.org/wp-content/uploads/2025/05/desktop.svg
ORGANIZER;CN="New Zealand Group":MAILTO:seatter79@gmail.com
LOCATION:Zoom ID: 8607280019, Passcode: Universal, Camera: Optional
END:VEVENT
BEGIN:VEVENT
DTSTART;TZID=UTC:20270416T070000
DTEND;TZID=UTC:20270416T080000
DTSTAMP:20260423T181753
CREATED:20251115T213747Z
LAST-MODIFIED:20260106T150417Z
UID:10060396-1807858800-1807862400@meetings.greysheet.org
SUMMARY:New Zealand Meeting
DESCRIPTION:Closed GSA Meeting for New Zealand / Australia Region & Surrounding Area.
URL:https://meetings.greysheet.org/meeting/new-zealand-meeting/2027-04-16
CATEGORIES:Zoom
ATTACH;FMTTYPE=image/svg+xml:https://meetings.greysheet.org/wp-content/uploads/2025/05/desktop.svg
ORGANIZER;CN="New Zealand Group":MAILTO:seatter79@gmail.com
LOCATION:Zoom ID: 8607280019, Passcode: Universal, Camera: Optional
END:VEVENT
BEGIN:VEVENT
DTSTART;TZID=UTC:20270423T070000
DTEND;TZID=UTC:20270423T080000
DTSTAMP:20260423T181753
CREATED:20251115T213747Z
LAST-MODIFIED:20260106T150417Z
UID:10060397-1808463600-1808467200@meetings.greysheet.org
SUMMARY:New Zealand Meeting
DESCRIPTION:Closed GSA Meeting for New Zealand / Australia Region & Surrounding Area.
URL:https://meetings.greysheet.org/meeting/new-zealand-meeting/2027-04-23
CATEGORIES:Zoom
ATTACH;FMTTYPE=image/svg+xml:https://meetings.greysheet.org/wp-content/uploads/2025/05/desktop.svg
ORGANIZER;CN="New Zealand Group":MAILTO:seatter79@gmail.com
LOCATION:Zoom ID: 8607280019, Passcode: Universal, Camera: Optional
END:VEVENT
BEGIN:VEVENT
DTSTART;TZID=UTC:20270430T070000
DTEND;TZID=UTC:20270430T080000
DTSTAMP:20260423T181753
CREATED:20251115T213747Z
LAST-MODIFIED:20260106T150417Z
UID:10060398-1809068400-1809072000@meetings.greysheet.org
SUMMARY:New Zealand Meeting
DESCRIPTION:Closed GSA Meeting for New Zealand / Australia Region & Surrounding Area.
URL:https://meetings.greysheet.org/meeting/new-zealand-meeting/2027-04-30
CATEGORIES:Zoom
ATTACH;FMTTYPE=image/svg+xml:https://meetings.greysheet.org/wp-content/uploads/2025/05/desktop.svg
ORGANIZER;CN="New Zealand Group":MAILTO:seatter79@gmail.com
LOCATION:Zoom ID: 8607280019, Passcode: Universal, Camera: Optional
END:VEVENT
BEGIN:VEVENT
DTSTART;TZID=UTC:20270507T070000
DTEND;TZID=UTC:20270507T080000
DTSTAMP:20260423T181753
CREATED:20251115T213747Z
LAST-MODIFIED:20260106T150417Z
UID:10060399-1809673200-1809676800@meetings.greysheet.org
SUMMARY:New Zealand Meeting
DESCRIPTION:Closed GSA Meeting for New Zealand / Australia Region & Surrounding Area.
URL:https://meetings.greysheet.org/meeting/new-zealand-meeting/2027-05-07
CATEGORIES:Zoom
ATTACH;FMTTYPE=image/svg+xml:https://meetings.greysheet.org/wp-content/uploads/2025/05/desktop.svg
ORGANIZER;CN="New Zealand Group":MAILTO:seatter79@gmail.com
LOCATION:Zoom ID: 8607280019, Passcode: Universal, Camera: Optional
END:VEVENT
BEGIN:VEVENT
DTSTART;TZID=UTC:20270514T070000
DTEND;TZID=UTC:20270514T080000
DTSTAMP:20260423T181753
CREATED:20251115T213747Z
LAST-MODIFIED:20260106T150417Z
UID:10060400-1810278000-1810281600@meetings.greysheet.org
SUMMARY:New Zealand Meeting
DESCRIPTION:Closed GSA Meeting for New Zealand / Australia Region & Surrounding Area.
URL:https://meetings.greysheet.org/meeting/new-zealand-meeting/2027-05-14
CATEGORIES:Zoom
ATTACH;FMTTYPE=image/svg+xml:https://meetings.greysheet.org/wp-content/uploads/2025/05/desktop.svg
ORGANIZER;CN="New Zealand Group":MAILTO:seatter79@gmail.com
LOCATION:Zoom ID: 8607280019, Passcode: Universal, Camera: Optional
END:VEVENT
BEGIN:VEVENT
DTSTART;TZID=UTC:20270521T070000
DTEND;TZID=UTC:20270521T080000
DTSTAMP:20260423T181753
CREATED:20251115T213747Z
LAST-MODIFIED:20260106T150417Z
UID:10060401-1810882800-1810886400@meetings.greysheet.org
SUMMARY:New Zealand Meeting
DESCRIPTION:Closed GSA Meeting for New Zealand / Australia Region & Surrounding Area.
URL:https://meetings.greysheet.org/meeting/new-zealand-meeting/2027-05-21
CATEGORIES:Zoom
ATTACH;FMTTYPE=image/svg+xml:https://meetings.greysheet.org/wp-content/uploads/2025/05/desktop.svg
ORGANIZER;CN="New Zealand Group":MAILTO:seatter79@gmail.com
LOCATION:Zoom ID: 8607280019, Passcode: Universal, Camera: Optional
END:VEVENT
BEGIN:VEVENT
DTSTART;TZID=UTC:20270528T070000
DTEND;TZID=UTC:20270528T080000
DTSTAMP:20260423T181753
CREATED:20251115T213747Z
LAST-MODIFIED:20260106T150417Z
UID:10060402-1811487600-1811491200@meetings.greysheet.org
SUMMARY:New Zealand Meeting
DESCRIPTION:Closed GSA Meeting for New Zealand / Australia Region & Surrounding Area.
URL:https://meetings.greysheet.org/meeting/new-zealand-meeting/2027-05-28
CATEGORIES:Zoom
ATTACH;FMTTYPE=image/svg+xml:https://meetings.greysheet.org/wp-content/uploads/2025/05/desktop.svg
ORGANIZER;CN="New Zealand Group":MAILTO:seatter79@gmail.com
LOCATION:Zoom ID: 8607280019, Passcode: Universal, Camera: Optional
END:VEVENT
BEGIN:VEVENT
DTSTART;TZID=UTC:20270604T070000
DTEND;TZID=UTC:20270604T080000
DTSTAMP:20260423T181753
CREATED:20251115T213747Z
LAST-MODIFIED:20260106T150417Z
UID:10060403-1812092400-1812096000@meetings.greysheet.org
SUMMARY:New Zealand Meeting
DESCRIPTION:Closed GSA Meeting for New Zealand / Australia Region & Surrounding Area.
URL:https://meetings.greysheet.org/meeting/new-zealand-meeting/2027-06-04
CATEGORIES:Zoom
ATTACH;FMTTYPE=image/svg+xml:https://meetings.greysheet.org/wp-content/uploads/2025/05/desktop.svg
ORGANIZER;CN="New Zealand Group":MAILTO:seatter79@gmail.com
LOCATION:Zoom ID: 8607280019, Passcode: Universal, Camera: Optional
END:VEVENT
BEGIN:VEVENT
DTSTART;TZID=UTC:20270611T070000
DTEND;TZID=UTC:20270611T080000
DTSTAMP:20260423T181753
CREATED:20251115T213747Z
LAST-MODIFIED:20260106T150417Z
UID:10060404-1812697200-1812700800@meetings.greysheet.org
SUMMARY:New Zealand Meeting
DESCRIPTION:Closed GSA Meeting for New Zealand / Australia Region & Surrounding Area.
URL:https://meetings.greysheet.org/meeting/new-zealand-meeting/2027-06-11
CATEGORIES:Zoom
ATTACH;FMTTYPE=image/svg+xml:https://meetings.greysheet.org/wp-content/uploads/2025/05/desktop.svg
ORGANIZER;CN="New Zealand Group":MAILTO:seatter79@gmail.com
LOCATION:Zoom ID: 8607280019, Passcode: Universal, Camera: Optional
END:VEVENT
BEGIN:VEVENT
DTSTART;TZID=UTC:20270618T070000
DTEND;TZID=UTC:20270618T080000
DTSTAMP:20260423T181753
CREATED:20251115T213747Z
LAST-MODIFIED:20260106T150417Z
UID:10060405-1813302000-1813305600@meetings.greysheet.org
SUMMARY:New Zealand Meeting
DESCRIPTION:Closed GSA Meeting for New Zealand / Australia Region & Surrounding Area.
URL:https://meetings.greysheet.org/meeting/new-zealand-meeting/2027-06-18
CATEGORIES:Zoom
ATTACH;FMTTYPE=image/svg+xml:https://meetings.greysheet.org/wp-content/uploads/2025/05/desktop.svg
ORGANIZER;CN="New Zealand Group":MAILTO:seatter79@gmail.com
LOCATION:Zoom ID: 8607280019, Passcode: Universal, Camera: Optional
END:VEVENT
BEGIN:VEVENT
DTSTART;TZID=UTC:20270625T070000
DTEND;TZID=UTC:20270625T080000
DTSTAMP:20260423T181753
CREATED:20251115T213747Z
LAST-MODIFIED:20260106T150417Z
UID:10060406-1813906800-1813910400@meetings.greysheet.org
SUMMARY:New Zealand Meeting
DESCRIPTION:Closed GSA Meeting for New Zealand / Australia Region & Surrounding Area.
URL:https://meetings.greysheet.org/meeting/new-zealand-meeting/2027-06-25
CATEGORIES:Zoom
ATTACH;FMTTYPE=image/svg+xml:https://meetings.greysheet.org/wp-content/uploads/2025/05/desktop.svg
ORGANIZER;CN="New Zealand Group":MAILTO:seatter79@gmail.com
LOCATION:Zoom ID: 8607280019, Passcode: Universal, Camera: Optional
END:VEVENT
BEGIN:VEVENT
DTSTART;TZID=UTC:20270702T070000
DTEND;TZID=UTC:20270702T080000
DTSTAMP:20260423T181753
CREATED:20251115T213747Z
LAST-MODIFIED:20260106T150417Z
UID:10060407-1814511600-1814515200@meetings.greysheet.org
SUMMARY:New Zealand Meeting
DESCRIPTION:Closed GSA Meeting for New Zealand / Australia Region & Surrounding Area.
URL:https://meetings.greysheet.org/meeting/new-zealand-meeting/2027-07-02
CATEGORIES:Zoom
ATTACH;FMTTYPE=image/svg+xml:https://meetings.greysheet.org/wp-content/uploads/2025/05/desktop.svg
ORGANIZER;CN="New Zealand Group":MAILTO:seatter79@gmail.com
LOCATION:Zoom ID: 8607280019, Passcode: Universal, Camera: Optional
END:VEVENT
BEGIN:VEVENT
DTSTART;TZID=UTC:20270709T070000
DTEND;TZID=UTC:20270709T080000
DTSTAMP:20260423T181753
CREATED:20251115T213747Z
LAST-MODIFIED:20260106T150417Z
UID:10060408-1815116400-1815120000@meetings.greysheet.org
SUMMARY:New Zealand Meeting
DESCRIPTION:Closed GSA Meeting for New Zealand / Australia Region & Surrounding Area.
URL:https://meetings.greysheet.org/meeting/new-zealand-meeting/2027-07-09
CATEGORIES:Zoom
ATTACH;FMTTYPE=image/svg+xml:https://meetings.greysheet.org/wp-content/uploads/2025/05/desktop.svg
ORGANIZER;CN="New Zealand Group":MAILTO:seatter79@gmail.com
LOCATION:Zoom ID: 8607280019, Passcode: Universal, Camera: Optional
END:VEVENT
BEGIN:VEVENT
DTSTART;TZID=UTC:20270716T070000
DTEND;TZID=UTC:20270716T080000
DTSTAMP:20260423T181753
CREATED:20251115T213747Z
LAST-MODIFIED:20260106T150417Z
UID:10060409-1815721200-1815724800@meetings.greysheet.org
SUMMARY:New Zealand Meeting
DESCRIPTION:Closed GSA Meeting for New Zealand / Australia Region & Surrounding Area.
URL:https://meetings.greysheet.org/meeting/new-zealand-meeting/2027-07-16
CATEGORIES:Zoom
ATTACH;FMTTYPE=image/svg+xml:https://meetings.greysheet.org/wp-content/uploads/2025/05/desktop.svg
ORGANIZER;CN="New Zealand Group":MAILTO:seatter79@gmail.com
LOCATION:Zoom ID: 8607280019, Passcode: Universal, Camera: Optional
END:VEVENT
BEGIN:VEVENT
DTSTART;TZID=UTC:20270723T070000
DTEND;TZID=UTC:20270723T080000
DTSTAMP:20260423T181753
CREATED:20251115T213747Z
LAST-MODIFIED:20260106T150417Z
UID:10060410-1816326000-1816329600@meetings.greysheet.org
SUMMARY:New Zealand Meeting
DESCRIPTION:Closed GSA Meeting for New Zealand / Australia Region & Surrounding Area.
URL:https://meetings.greysheet.org/meeting/new-zealand-meeting/2027-07-23
CATEGORIES:Zoom
ATTACH;FMTTYPE=image/svg+xml:https://meetings.greysheet.org/wp-content/uploads/2025/05/desktop.svg
ORGANIZER;CN="New Zealand Group":MAILTO:seatter79@gmail.com
LOCATION:Zoom ID: 8607280019, Passcode: Universal, Camera: Optional
END:VEVENT
END:VCALENDAR