BEGIN:VCALENDAR
VERSION:2.0
PRODID:-//GreySheeters Anonymous World Services - ECPv6.15.20//NONSGML v1.0//EN
CALSCALE:GREGORIAN
METHOD:PUBLISH
X-ORIGINAL-URL:https://meetings.greysheet.org
X-WR-CALDESC:Events for GreySheeters Anonymous World Services
REFRESH-INTERVAL;VALUE=DURATION:PT1H
X-Robots-Tag:noindex
X-PUBLISHED-TTL:PT1H
BEGIN:VTIMEZONE
TZID:America/New_York
BEGIN:DAYLIGHT
TZOFFSETFROM:-0500
TZOFFSETTO:-0400
TZNAME:EDT
DTSTART:20250309T070000
END:DAYLIGHT
BEGIN:STANDARD
TZOFFSETFROM:-0400
TZOFFSETTO:-0500
TZNAME:EST
DTSTART:20251102T060000
END:STANDARD
BEGIN:DAYLIGHT
TZOFFSETFROM:-0500
TZOFFSETTO:-0400
TZNAME:EDT
DTSTART:20260308T070000
END:DAYLIGHT
BEGIN:STANDARD
TZOFFSETFROM:-0400
TZOFFSETTO:-0500
TZNAME:EST
DTSTART:20261101T060000
END:STANDARD
BEGIN:DAYLIGHT
TZOFFSETFROM:-0500
TZOFFSETTO:-0400
TZNAME:EDT
DTSTART:20270314T070000
END:DAYLIGHT
BEGIN:STANDARD
TZOFFSETFROM:-0400
TZOFFSETTO:-0500
TZNAME:EST
DTSTART:20271107T060000
END:STANDARD
BEGIN:DAYLIGHT
TZOFFSETFROM:-0500
TZOFFSETTO:-0400
TZNAME:EDT
DTSTART:20280312T070000
END:DAYLIGHT
BEGIN:STANDARD
TZOFFSETFROM:-0400
TZOFFSETTO:-0500
TZNAME:EST
DTSTART:20281105T060000
END:STANDARD
END:VTIMEZONE
BEGIN:VEVENT
DTSTART;TZID=America/New_York:20261230T200000
DTEND;TZID=America/New_York:20261230T203000
DTSTAMP:20260422T061238
CREATED:20250503T164152Z
LAST-MODIFIED:20251117T233047Z
UID:10055145-1798660800-1798662600@meetings.greysheet.org
SUMMARY:RelapseRecovery WED 8pm
DESCRIPTION:Half-hour meeting focused on recovery from relapse. 5 minute qualification followed by sharing.
URL:https://meetings.greysheet.org/meeting/relapserecovery-wed-8pm/2026-12-30
CATEGORIES:Telephone or Audio
ATTACH;FMTTYPE=image/svg+xml:https://meetings.greysheet.org/wp-content/uploads/2025/05/phone.svg
LOCATION:Phone Number: 712 432 5229, PIN: Phone Bridge
END:VEVENT
BEGIN:VEVENT
DTSTART;TZID=America/New_York:20270106T200000
DTEND;TZID=America/New_York:20270106T203000
DTSTAMP:20260422T061238
CREATED:20250503T164152Z
LAST-MODIFIED:20251117T233047Z
UID:10055146-1799265600-1799267400@meetings.greysheet.org
SUMMARY:RelapseRecovery WED 8pm
DESCRIPTION:Half-hour meeting focused on recovery from relapse. 5 minute qualification followed by sharing.
URL:https://meetings.greysheet.org/meeting/relapserecovery-wed-8pm/2027-01-06
CATEGORIES:Telephone or Audio
ATTACH;FMTTYPE=image/svg+xml:https://meetings.greysheet.org/wp-content/uploads/2025/05/phone.svg
LOCATION:Phone Number: 712 432 5229, PIN: Phone Bridge
END:VEVENT
BEGIN:VEVENT
DTSTART;TZID=America/New_York:20270113T200000
DTEND;TZID=America/New_York:20270113T203000
DTSTAMP:20260422T061238
CREATED:20250503T164152Z
LAST-MODIFIED:20251117T233047Z
UID:10055147-1799870400-1799872200@meetings.greysheet.org
SUMMARY:RelapseRecovery WED 8pm
DESCRIPTION:Half-hour meeting focused on recovery from relapse. 5 minute qualification followed by sharing.
URL:https://meetings.greysheet.org/meeting/relapserecovery-wed-8pm/2027-01-13
CATEGORIES:Telephone or Audio
ATTACH;FMTTYPE=image/svg+xml:https://meetings.greysheet.org/wp-content/uploads/2025/05/phone.svg
LOCATION:Phone Number: 712 432 5229, PIN: Phone Bridge
END:VEVENT
BEGIN:VEVENT
DTSTART;TZID=America/New_York:20270120T200000
DTEND;TZID=America/New_York:20270120T203000
DTSTAMP:20260422T061238
CREATED:20250503T164152Z
LAST-MODIFIED:20251117T233047Z
UID:10055148-1800475200-1800477000@meetings.greysheet.org
SUMMARY:RelapseRecovery WED 8pm
DESCRIPTION:Half-hour meeting focused on recovery from relapse. 5 minute qualification followed by sharing.
URL:https://meetings.greysheet.org/meeting/relapserecovery-wed-8pm/2027-01-20
CATEGORIES:Telephone or Audio
ATTACH;FMTTYPE=image/svg+xml:https://meetings.greysheet.org/wp-content/uploads/2025/05/phone.svg
LOCATION:Phone Number: 712 432 5229, PIN: Phone Bridge
END:VEVENT
BEGIN:VEVENT
DTSTART;TZID=America/New_York:20270127T200000
DTEND;TZID=America/New_York:20270127T203000
DTSTAMP:20260422T061238
CREATED:20250503T164152Z
LAST-MODIFIED:20251117T233047Z
UID:10055149-1801080000-1801081800@meetings.greysheet.org
SUMMARY:RelapseRecovery WED 8pm
DESCRIPTION:Half-hour meeting focused on recovery from relapse. 5 minute qualification followed by sharing.
URL:https://meetings.greysheet.org/meeting/relapserecovery-wed-8pm/2027-01-27
CATEGORIES:Telephone or Audio
ATTACH;FMTTYPE=image/svg+xml:https://meetings.greysheet.org/wp-content/uploads/2025/05/phone.svg
LOCATION:Phone Number: 712 432 5229, PIN: Phone Bridge
END:VEVENT
BEGIN:VEVENT
DTSTART;TZID=America/New_York:20270203T200000
DTEND;TZID=America/New_York:20270203T203000
DTSTAMP:20260422T061238
CREATED:20250503T164152Z
LAST-MODIFIED:20251117T233047Z
UID:10055150-1801684800-1801686600@meetings.greysheet.org
SUMMARY:RelapseRecovery WED 8pm
DESCRIPTION:Half-hour meeting focused on recovery from relapse. 5 minute qualification followed by sharing.
URL:https://meetings.greysheet.org/meeting/relapserecovery-wed-8pm/2027-02-03
CATEGORIES:Telephone or Audio
ATTACH;FMTTYPE=image/svg+xml:https://meetings.greysheet.org/wp-content/uploads/2025/05/phone.svg
LOCATION:Phone Number: 712 432 5229, PIN: Phone Bridge
END:VEVENT
BEGIN:VEVENT
DTSTART;TZID=America/New_York:20270210T200000
DTEND;TZID=America/New_York:20270210T203000
DTSTAMP:20260422T061238
CREATED:20250503T164152Z
LAST-MODIFIED:20251117T233047Z
UID:10055151-1802289600-1802291400@meetings.greysheet.org
SUMMARY:RelapseRecovery WED 8pm
DESCRIPTION:Half-hour meeting focused on recovery from relapse. 5 minute qualification followed by sharing.
URL:https://meetings.greysheet.org/meeting/relapserecovery-wed-8pm/2027-02-10
CATEGORIES:Telephone or Audio
ATTACH;FMTTYPE=image/svg+xml:https://meetings.greysheet.org/wp-content/uploads/2025/05/phone.svg
LOCATION:Phone Number: 712 432 5229, PIN: Phone Bridge
END:VEVENT
BEGIN:VEVENT
DTSTART;TZID=America/New_York:20270217T200000
DTEND;TZID=America/New_York:20270217T203000
DTSTAMP:20260422T061238
CREATED:20250503T164152Z
LAST-MODIFIED:20251117T233047Z
UID:10055152-1802894400-1802896200@meetings.greysheet.org
SUMMARY:RelapseRecovery WED 8pm
DESCRIPTION:Half-hour meeting focused on recovery from relapse. 5 minute qualification followed by sharing.
URL:https://meetings.greysheet.org/meeting/relapserecovery-wed-8pm/2027-02-17
CATEGORIES:Telephone or Audio
ATTACH;FMTTYPE=image/svg+xml:https://meetings.greysheet.org/wp-content/uploads/2025/05/phone.svg
LOCATION:Phone Number: 712 432 5229, PIN: Phone Bridge
END:VEVENT
BEGIN:VEVENT
DTSTART;TZID=America/New_York:20270224T200000
DTEND;TZID=America/New_York:20270224T203000
DTSTAMP:20260422T061238
CREATED:20250503T164152Z
LAST-MODIFIED:20251117T233047Z
UID:10055153-1803499200-1803501000@meetings.greysheet.org
SUMMARY:RelapseRecovery WED 8pm
DESCRIPTION:Half-hour meeting focused on recovery from relapse. 5 minute qualification followed by sharing.
URL:https://meetings.greysheet.org/meeting/relapserecovery-wed-8pm/2027-02-24
CATEGORIES:Telephone or Audio
ATTACH;FMTTYPE=image/svg+xml:https://meetings.greysheet.org/wp-content/uploads/2025/05/phone.svg
LOCATION:Phone Number: 712 432 5229, PIN: Phone Bridge
END:VEVENT
BEGIN:VEVENT
DTSTART;TZID=America/New_York:20270303T200000
DTEND;TZID=America/New_York:20270303T203000
DTSTAMP:20260422T061238
CREATED:20250503T164152Z
LAST-MODIFIED:20251117T233047Z
UID:10055154-1804104000-1804105800@meetings.greysheet.org
SUMMARY:RelapseRecovery WED 8pm
DESCRIPTION:Half-hour meeting focused on recovery from relapse. 5 minute qualification followed by sharing.
URL:https://meetings.greysheet.org/meeting/relapserecovery-wed-8pm/2027-03-03
CATEGORIES:Telephone or Audio
ATTACH;FMTTYPE=image/svg+xml:https://meetings.greysheet.org/wp-content/uploads/2025/05/phone.svg
LOCATION:Phone Number: 712 432 5229, PIN: Phone Bridge
END:VEVENT
BEGIN:VEVENT
DTSTART;TZID=America/New_York:20270310T200000
DTEND;TZID=America/New_York:20270310T203000
DTSTAMP:20260422T061238
CREATED:20250503T164152Z
LAST-MODIFIED:20251117T233047Z
UID:10055155-1804708800-1804710600@meetings.greysheet.org
SUMMARY:RelapseRecovery WED 8pm
DESCRIPTION:Half-hour meeting focused on recovery from relapse. 5 minute qualification followed by sharing.
URL:https://meetings.greysheet.org/meeting/relapserecovery-wed-8pm/2027-03-10
CATEGORIES:Telephone or Audio
ATTACH;FMTTYPE=image/svg+xml:https://meetings.greysheet.org/wp-content/uploads/2025/05/phone.svg
LOCATION:Phone Number: 712 432 5229, PIN: Phone Bridge
END:VEVENT
BEGIN:VEVENT
DTSTART;TZID=America/New_York:20270317T200000
DTEND;TZID=America/New_York:20270317T203000
DTSTAMP:20260422T061238
CREATED:20250503T164152Z
LAST-MODIFIED:20251117T233047Z
UID:10055156-1805313600-1805315400@meetings.greysheet.org
SUMMARY:RelapseRecovery WED 8pm
DESCRIPTION:Half-hour meeting focused on recovery from relapse. 5 minute qualification followed by sharing.
URL:https://meetings.greysheet.org/meeting/relapserecovery-wed-8pm/2027-03-17
CATEGORIES:Telephone or Audio
ATTACH;FMTTYPE=image/svg+xml:https://meetings.greysheet.org/wp-content/uploads/2025/05/phone.svg
LOCATION:Phone Number: 712 432 5229, PIN: Phone Bridge
END:VEVENT
BEGIN:VEVENT
DTSTART;TZID=America/New_York:20270324T200000
DTEND;TZID=America/New_York:20270324T203000
DTSTAMP:20260422T061238
CREATED:20250503T164152Z
LAST-MODIFIED:20251117T233047Z
UID:10055157-1805918400-1805920200@meetings.greysheet.org
SUMMARY:RelapseRecovery WED 8pm
DESCRIPTION:Half-hour meeting focused on recovery from relapse. 5 minute qualification followed by sharing.
URL:https://meetings.greysheet.org/meeting/relapserecovery-wed-8pm/2027-03-24
CATEGORIES:Telephone or Audio
ATTACH;FMTTYPE=image/svg+xml:https://meetings.greysheet.org/wp-content/uploads/2025/05/phone.svg
LOCATION:Phone Number: 712 432 5229, PIN: Phone Bridge
END:VEVENT
BEGIN:VEVENT
DTSTART;TZID=America/New_York:20270331T200000
DTEND;TZID=America/New_York:20270331T203000
DTSTAMP:20260422T061238
CREATED:20250503T164152Z
LAST-MODIFIED:20251117T233047Z
UID:10055158-1806523200-1806525000@meetings.greysheet.org
SUMMARY:RelapseRecovery WED 8pm
DESCRIPTION:Half-hour meeting focused on recovery from relapse. 5 minute qualification followed by sharing.
URL:https://meetings.greysheet.org/meeting/relapserecovery-wed-8pm/2027-03-31
CATEGORIES:Telephone or Audio
ATTACH;FMTTYPE=image/svg+xml:https://meetings.greysheet.org/wp-content/uploads/2025/05/phone.svg
LOCATION:Phone Number: 712 432 5229, PIN: Phone Bridge
END:VEVENT
BEGIN:VEVENT
DTSTART;TZID=America/New_York:20270407T200000
DTEND;TZID=America/New_York:20270407T203000
DTSTAMP:20260422T061238
CREATED:20250503T164152Z
LAST-MODIFIED:20251117T233047Z
UID:10055159-1807128000-1807129800@meetings.greysheet.org
SUMMARY:RelapseRecovery WED 8pm
DESCRIPTION:Half-hour meeting focused on recovery from relapse. 5 minute qualification followed by sharing.
URL:https://meetings.greysheet.org/meeting/relapserecovery-wed-8pm/2027-04-07
CATEGORIES:Telephone or Audio
ATTACH;FMTTYPE=image/svg+xml:https://meetings.greysheet.org/wp-content/uploads/2025/05/phone.svg
LOCATION:Phone Number: 712 432 5229, PIN: Phone Bridge
END:VEVENT
BEGIN:VEVENT
DTSTART;TZID=America/New_York:20270414T200000
DTEND;TZID=America/New_York:20270414T203000
DTSTAMP:20260422T061238
CREATED:20250503T164152Z
LAST-MODIFIED:20251117T233047Z
UID:10055160-1807732800-1807734600@meetings.greysheet.org
SUMMARY:RelapseRecovery WED 8pm
DESCRIPTION:Half-hour meeting focused on recovery from relapse. 5 minute qualification followed by sharing.
URL:https://meetings.greysheet.org/meeting/relapserecovery-wed-8pm/2027-04-14
CATEGORIES:Telephone or Audio
ATTACH;FMTTYPE=image/svg+xml:https://meetings.greysheet.org/wp-content/uploads/2025/05/phone.svg
LOCATION:Phone Number: 712 432 5229, PIN: Phone Bridge
END:VEVENT
BEGIN:VEVENT
DTSTART;TZID=America/New_York:20270421T200000
DTEND;TZID=America/New_York:20270421T203000
DTSTAMP:20260422T061238
CREATED:20250503T164152Z
LAST-MODIFIED:20251117T233047Z
UID:10055161-1808337600-1808339400@meetings.greysheet.org
SUMMARY:RelapseRecovery WED 8pm
DESCRIPTION:Half-hour meeting focused on recovery from relapse. 5 minute qualification followed by sharing.
URL:https://meetings.greysheet.org/meeting/relapserecovery-wed-8pm/2027-04-21
CATEGORIES:Telephone or Audio
ATTACH;FMTTYPE=image/svg+xml:https://meetings.greysheet.org/wp-content/uploads/2025/05/phone.svg
LOCATION:Phone Number: 712 432 5229, PIN: Phone Bridge
END:VEVENT
BEGIN:VEVENT
DTSTART;TZID=America/New_York:20270428T200000
DTEND;TZID=America/New_York:20270428T203000
DTSTAMP:20260422T061238
CREATED:20250503T164152Z
LAST-MODIFIED:20251117T233047Z
UID:10055162-1808942400-1808944200@meetings.greysheet.org
SUMMARY:RelapseRecovery WED 8pm
DESCRIPTION:Half-hour meeting focused on recovery from relapse. 5 minute qualification followed by sharing.
URL:https://meetings.greysheet.org/meeting/relapserecovery-wed-8pm/2027-04-28
CATEGORIES:Telephone or Audio
ATTACH;FMTTYPE=image/svg+xml:https://meetings.greysheet.org/wp-content/uploads/2025/05/phone.svg
LOCATION:Phone Number: 712 432 5229, PIN: Phone Bridge
END:VEVENT
BEGIN:VEVENT
DTSTART;TZID=America/New_York:20270505T200000
DTEND;TZID=America/New_York:20270505T203000
DTSTAMP:20260422T061238
CREATED:20250503T164152Z
LAST-MODIFIED:20251117T233047Z
UID:10055163-1809547200-1809549000@meetings.greysheet.org
SUMMARY:RelapseRecovery WED 8pm
DESCRIPTION:Half-hour meeting focused on recovery from relapse. 5 minute qualification followed by sharing.
URL:https://meetings.greysheet.org/meeting/relapserecovery-wed-8pm/2027-05-05
CATEGORIES:Telephone or Audio
ATTACH;FMTTYPE=image/svg+xml:https://meetings.greysheet.org/wp-content/uploads/2025/05/phone.svg
LOCATION:Phone Number: 712 432 5229, PIN: Phone Bridge
END:VEVENT
BEGIN:VEVENT
DTSTART;TZID=America/New_York:20270512T200000
DTEND;TZID=America/New_York:20270512T203000
DTSTAMP:20260422T061238
CREATED:20250503T164152Z
LAST-MODIFIED:20251117T233047Z
UID:10055164-1810152000-1810153800@meetings.greysheet.org
SUMMARY:RelapseRecovery WED 8pm
DESCRIPTION:Half-hour meeting focused on recovery from relapse. 5 minute qualification followed by sharing.
URL:https://meetings.greysheet.org/meeting/relapserecovery-wed-8pm/2027-05-12
CATEGORIES:Telephone or Audio
ATTACH;FMTTYPE=image/svg+xml:https://meetings.greysheet.org/wp-content/uploads/2025/05/phone.svg
LOCATION:Phone Number: 712 432 5229, PIN: Phone Bridge
END:VEVENT
BEGIN:VEVENT
DTSTART;TZID=America/New_York:20270519T200000
DTEND;TZID=America/New_York:20270519T203000
DTSTAMP:20260422T061238
CREATED:20250503T164152Z
LAST-MODIFIED:20251117T233047Z
UID:10055165-1810756800-1810758600@meetings.greysheet.org
SUMMARY:RelapseRecovery WED 8pm
DESCRIPTION:Half-hour meeting focused on recovery from relapse. 5 minute qualification followed by sharing.
URL:https://meetings.greysheet.org/meeting/relapserecovery-wed-8pm/2027-05-19
CATEGORIES:Telephone or Audio
ATTACH;FMTTYPE=image/svg+xml:https://meetings.greysheet.org/wp-content/uploads/2025/05/phone.svg
LOCATION:Phone Number: 712 432 5229, PIN: Phone Bridge
END:VEVENT
BEGIN:VEVENT
DTSTART;TZID=America/New_York:20270526T200000
DTEND;TZID=America/New_York:20270526T203000
DTSTAMP:20260422T061238
CREATED:20250503T164152Z
LAST-MODIFIED:20251117T233047Z
UID:10055166-1811361600-1811363400@meetings.greysheet.org
SUMMARY:RelapseRecovery WED 8pm
DESCRIPTION:Half-hour meeting focused on recovery from relapse. 5 minute qualification followed by sharing.
URL:https://meetings.greysheet.org/meeting/relapserecovery-wed-8pm/2027-05-26
CATEGORIES:Telephone or Audio
ATTACH;FMTTYPE=image/svg+xml:https://meetings.greysheet.org/wp-content/uploads/2025/05/phone.svg
LOCATION:Phone Number: 712 432 5229, PIN: Phone Bridge
END:VEVENT
BEGIN:VEVENT
DTSTART;TZID=America/New_York:20270602T200000
DTEND;TZID=America/New_York:20270602T203000
DTSTAMP:20260422T061238
CREATED:20250503T164152Z
LAST-MODIFIED:20251117T233047Z
UID:10055167-1811966400-1811968200@meetings.greysheet.org
SUMMARY:RelapseRecovery WED 8pm
DESCRIPTION:Half-hour meeting focused on recovery from relapse. 5 minute qualification followed by sharing.
URL:https://meetings.greysheet.org/meeting/relapserecovery-wed-8pm/2027-06-02
CATEGORIES:Telephone or Audio
ATTACH;FMTTYPE=image/svg+xml:https://meetings.greysheet.org/wp-content/uploads/2025/05/phone.svg
LOCATION:Phone Number: 712 432 5229, PIN: Phone Bridge
END:VEVENT
BEGIN:VEVENT
DTSTART;TZID=America/New_York:20270609T200000
DTEND;TZID=America/New_York:20270609T203000
DTSTAMP:20260422T061238
CREATED:20250503T164152Z
LAST-MODIFIED:20251117T233047Z
UID:10055168-1812571200-1812573000@meetings.greysheet.org
SUMMARY:RelapseRecovery WED 8pm
DESCRIPTION:Half-hour meeting focused on recovery from relapse. 5 minute qualification followed by sharing.
URL:https://meetings.greysheet.org/meeting/relapserecovery-wed-8pm/2027-06-09
CATEGORIES:Telephone or Audio
ATTACH;FMTTYPE=image/svg+xml:https://meetings.greysheet.org/wp-content/uploads/2025/05/phone.svg
LOCATION:Phone Number: 712 432 5229, PIN: Phone Bridge
END:VEVENT
BEGIN:VEVENT
DTSTART;TZID=America/New_York:20270616T200000
DTEND;TZID=America/New_York:20270616T203000
DTSTAMP:20260422T061238
CREATED:20250503T164152Z
LAST-MODIFIED:20251117T233047Z
UID:10055169-1813176000-1813177800@meetings.greysheet.org
SUMMARY:RelapseRecovery WED 8pm
DESCRIPTION:Half-hour meeting focused on recovery from relapse. 5 minute qualification followed by sharing.
URL:https://meetings.greysheet.org/meeting/relapserecovery-wed-8pm/2027-06-16
CATEGORIES:Telephone or Audio
ATTACH;FMTTYPE=image/svg+xml:https://meetings.greysheet.org/wp-content/uploads/2025/05/phone.svg
LOCATION:Phone Number: 712 432 5229, PIN: Phone Bridge
END:VEVENT
BEGIN:VEVENT
DTSTART;TZID=America/New_York:20270623T200000
DTEND;TZID=America/New_York:20270623T203000
DTSTAMP:20260422T061238
CREATED:20250503T164152Z
LAST-MODIFIED:20251117T233047Z
UID:10055170-1813780800-1813782600@meetings.greysheet.org
SUMMARY:RelapseRecovery WED 8pm
DESCRIPTION:Half-hour meeting focused on recovery from relapse. 5 minute qualification followed by sharing.
URL:https://meetings.greysheet.org/meeting/relapserecovery-wed-8pm/2027-06-23
CATEGORIES:Telephone or Audio
ATTACH;FMTTYPE=image/svg+xml:https://meetings.greysheet.org/wp-content/uploads/2025/05/phone.svg
LOCATION:Phone Number: 712 432 5229, PIN: Phone Bridge
END:VEVENT
BEGIN:VEVENT
DTSTART;TZID=America/New_York:20270630T200000
DTEND;TZID=America/New_York:20270630T203000
DTSTAMP:20260422T061238
CREATED:20250503T164152Z
LAST-MODIFIED:20251117T233047Z
UID:10055171-1814385600-1814387400@meetings.greysheet.org
SUMMARY:RelapseRecovery WED 8pm
DESCRIPTION:Half-hour meeting focused on recovery from relapse. 5 minute qualification followed by sharing.
URL:https://meetings.greysheet.org/meeting/relapserecovery-wed-8pm/2027-06-30
CATEGORIES:Telephone or Audio
ATTACH;FMTTYPE=image/svg+xml:https://meetings.greysheet.org/wp-content/uploads/2025/05/phone.svg
LOCATION:Phone Number: 712 432 5229, PIN: Phone Bridge
END:VEVENT
BEGIN:VEVENT
DTSTART;TZID=America/New_York:20270707T200000
DTEND;TZID=America/New_York:20270707T203000
DTSTAMP:20260422T061238
CREATED:20250503T164152Z
LAST-MODIFIED:20251117T233047Z
UID:10055172-1814990400-1814992200@meetings.greysheet.org
SUMMARY:RelapseRecovery WED 8pm
DESCRIPTION:Half-hour meeting focused on recovery from relapse. 5 minute qualification followed by sharing.
URL:https://meetings.greysheet.org/meeting/relapserecovery-wed-8pm/2027-07-07
CATEGORIES:Telephone or Audio
ATTACH;FMTTYPE=image/svg+xml:https://meetings.greysheet.org/wp-content/uploads/2025/05/phone.svg
LOCATION:Phone Number: 712 432 5229, PIN: Phone Bridge
END:VEVENT
BEGIN:VEVENT
DTSTART;TZID=America/New_York:20270714T200000
DTEND;TZID=America/New_York:20270714T203000
DTSTAMP:20260422T061238
CREATED:20250503T164152Z
LAST-MODIFIED:20251117T233047Z
UID:10055173-1815595200-1815597000@meetings.greysheet.org
SUMMARY:RelapseRecovery WED 8pm
DESCRIPTION:Half-hour meeting focused on recovery from relapse. 5 minute qualification followed by sharing.
URL:https://meetings.greysheet.org/meeting/relapserecovery-wed-8pm/2027-07-14
CATEGORIES:Telephone or Audio
ATTACH;FMTTYPE=image/svg+xml:https://meetings.greysheet.org/wp-content/uploads/2025/05/phone.svg
LOCATION:Phone Number: 712 432 5229, PIN: Phone Bridge
END:VEVENT
BEGIN:VEVENT
DTSTART;TZID=America/New_York:20270721T200000
DTEND;TZID=America/New_York:20270721T203000
DTSTAMP:20260422T061238
CREATED:20250503T164152Z
LAST-MODIFIED:20251117T233047Z
UID:10055174-1816200000-1816201800@meetings.greysheet.org
SUMMARY:RelapseRecovery WED 8pm
DESCRIPTION:Half-hour meeting focused on recovery from relapse. 5 minute qualification followed by sharing.
URL:https://meetings.greysheet.org/meeting/relapserecovery-wed-8pm/2027-07-21
CATEGORIES:Telephone or Audio
ATTACH;FMTTYPE=image/svg+xml:https://meetings.greysheet.org/wp-content/uploads/2025/05/phone.svg
LOCATION:Phone Number: 712 432 5229, PIN: Phone Bridge
END:VEVENT
END:VCALENDAR