BEGIN:VCALENDAR
VERSION:2.0
PRODID:-//GreySheeters Anonymous World Services - ECPv6.15.20//NONSGML v1.0//EN
CALSCALE:GREGORIAN
METHOD:PUBLISH
X-ORIGINAL-URL:https://meetings.greysheet.org
X-WR-CALDESC:Events for GreySheeters Anonymous World Services
REFRESH-INTERVAL;VALUE=DURATION:PT1H
X-Robots-Tag:noindex
X-PUBLISHED-TTL:PT1H
BEGIN:VTIMEZONE
TZID:America/New_York
BEGIN:DAYLIGHT
TZOFFSETFROM:-0500
TZOFFSETTO:-0400
TZNAME:EDT
DTSTART:20250309T070000
END:DAYLIGHT
BEGIN:STANDARD
TZOFFSETFROM:-0400
TZOFFSETTO:-0500
TZNAME:EST
DTSTART:20251102T060000
END:STANDARD
BEGIN:DAYLIGHT
TZOFFSETFROM:-0500
TZOFFSETTO:-0400
TZNAME:EDT
DTSTART:20260308T070000
END:DAYLIGHT
BEGIN:STANDARD
TZOFFSETFROM:-0400
TZOFFSETTO:-0500
TZNAME:EST
DTSTART:20261101T060000
END:STANDARD
BEGIN:DAYLIGHT
TZOFFSETFROM:-0500
TZOFFSETTO:-0400
TZNAME:EDT
DTSTART:20270314T070000
END:DAYLIGHT
BEGIN:STANDARD
TZOFFSETFROM:-0400
TZOFFSETTO:-0500
TZNAME:EST
DTSTART:20271107T060000
END:STANDARD
BEGIN:DAYLIGHT
TZOFFSETFROM:-0500
TZOFFSETTO:-0400
TZNAME:EDT
DTSTART:20280312T070000
END:DAYLIGHT
BEGIN:STANDARD
TZOFFSETFROM:-0400
TZOFFSETTO:-0500
TZNAME:EST
DTSTART:20281105T060000
END:STANDARD
END:VTIMEZONE
BEGIN:VEVENT
DTSTART;TZID=America/New_York:20261230T053000
DTEND;TZID=America/New_York:20261230T063000
DTSTAMP:20260419T233324
CREATED:20250503T164142Z
LAST-MODIFIED:20260308T153744Z
UID:10050088-1798608600-1798612200@meetings.greysheet.org
SUMMARY:AA & GSA Literature
DESCRIPTION:This is a GreySheet AA & GSA Literature meeting. A speaker shares for 5 to 10 minutes after he/she reads 2 – 3 paragraphs from the AA or GSA literature of their choice.
URL:https://meetings.greysheet.org/meeting/pbig-wed-0530/2026-12-30
CATEGORIES:Telephone or Audio
ATTACH;FMTTYPE=image/svg+xml:https://meetings.greysheet.org/wp-content/uploads/2025/05/phone.svg
LOCATION:Phone Number: 17124325229, PIN: Phone Bridge
END:VEVENT
BEGIN:VEVENT
DTSTART;TZID=America/New_York:20270106T053000
DTEND;TZID=America/New_York:20270106T063000
DTSTAMP:20260419T233325
CREATED:20250503T164142Z
LAST-MODIFIED:20260308T153744Z
UID:10050089-1799213400-1799217000@meetings.greysheet.org
SUMMARY:AA & GSA Literature
DESCRIPTION:This is a GreySheet AA & GSA Literature meeting. A speaker shares for 5 to 10 minutes after he/she reads 2 – 3 paragraphs from the AA or GSA literature of their choice.
URL:https://meetings.greysheet.org/meeting/pbig-wed-0530/2027-01-06
CATEGORIES:Telephone or Audio
ATTACH;FMTTYPE=image/svg+xml:https://meetings.greysheet.org/wp-content/uploads/2025/05/phone.svg
LOCATION:Phone Number: 17124325229, PIN: Phone Bridge
END:VEVENT
BEGIN:VEVENT
DTSTART;TZID=America/New_York:20270113T053000
DTEND;TZID=America/New_York:20270113T063000
DTSTAMP:20260419T233325
CREATED:20250503T164142Z
LAST-MODIFIED:20260308T153744Z
UID:10050090-1799818200-1799821800@meetings.greysheet.org
SUMMARY:AA & GSA Literature
DESCRIPTION:This is a GreySheet AA & GSA Literature meeting. A speaker shares for 5 to 10 minutes after he/she reads 2 – 3 paragraphs from the AA or GSA literature of their choice.
URL:https://meetings.greysheet.org/meeting/pbig-wed-0530/2027-01-13
CATEGORIES:Telephone or Audio
ATTACH;FMTTYPE=image/svg+xml:https://meetings.greysheet.org/wp-content/uploads/2025/05/phone.svg
LOCATION:Phone Number: 17124325229, PIN: Phone Bridge
END:VEVENT
BEGIN:VEVENT
DTSTART;TZID=America/New_York:20270120T053000
DTEND;TZID=America/New_York:20270120T063000
DTSTAMP:20260419T233325
CREATED:20250503T164142Z
LAST-MODIFIED:20260308T153744Z
UID:10050091-1800423000-1800426600@meetings.greysheet.org
SUMMARY:AA & GSA Literature
DESCRIPTION:This is a GreySheet AA & GSA Literature meeting. A speaker shares for 5 to 10 minutes after he/she reads 2 – 3 paragraphs from the AA or GSA literature of their choice.
URL:https://meetings.greysheet.org/meeting/pbig-wed-0530/2027-01-20
CATEGORIES:Telephone or Audio
ATTACH;FMTTYPE=image/svg+xml:https://meetings.greysheet.org/wp-content/uploads/2025/05/phone.svg
LOCATION:Phone Number: 17124325229, PIN: Phone Bridge
END:VEVENT
BEGIN:VEVENT
DTSTART;TZID=America/New_York:20270127T053000
DTEND;TZID=America/New_York:20270127T063000
DTSTAMP:20260419T233325
CREATED:20250503T164142Z
LAST-MODIFIED:20260308T153744Z
UID:10050092-1801027800-1801031400@meetings.greysheet.org
SUMMARY:AA & GSA Literature
DESCRIPTION:This is a GreySheet AA & GSA Literature meeting. A speaker shares for 5 to 10 minutes after he/she reads 2 – 3 paragraphs from the AA or GSA literature of their choice.
URL:https://meetings.greysheet.org/meeting/pbig-wed-0530/2027-01-27
CATEGORIES:Telephone or Audio
ATTACH;FMTTYPE=image/svg+xml:https://meetings.greysheet.org/wp-content/uploads/2025/05/phone.svg
LOCATION:Phone Number: 17124325229, PIN: Phone Bridge
END:VEVENT
BEGIN:VEVENT
DTSTART;TZID=America/New_York:20270203T053000
DTEND;TZID=America/New_York:20270203T063000
DTSTAMP:20260419T233325
CREATED:20250503T164142Z
LAST-MODIFIED:20260308T153744Z
UID:10050093-1801632600-1801636200@meetings.greysheet.org
SUMMARY:AA & GSA Literature
DESCRIPTION:This is a GreySheet AA & GSA Literature meeting. A speaker shares for 5 to 10 minutes after he/she reads 2 – 3 paragraphs from the AA or GSA literature of their choice.
URL:https://meetings.greysheet.org/meeting/pbig-wed-0530/2027-02-03
CATEGORIES:Telephone or Audio
ATTACH;FMTTYPE=image/svg+xml:https://meetings.greysheet.org/wp-content/uploads/2025/05/phone.svg
LOCATION:Phone Number: 17124325229, PIN: Phone Bridge
END:VEVENT
BEGIN:VEVENT
DTSTART;TZID=America/New_York:20270210T053000
DTEND;TZID=America/New_York:20270210T063000
DTSTAMP:20260419T233325
CREATED:20250503T164142Z
LAST-MODIFIED:20260308T153744Z
UID:10050094-1802237400-1802241000@meetings.greysheet.org
SUMMARY:AA & GSA Literature
DESCRIPTION:This is a GreySheet AA & GSA Literature meeting. A speaker shares for 5 to 10 minutes after he/she reads 2 – 3 paragraphs from the AA or GSA literature of their choice.
URL:https://meetings.greysheet.org/meeting/pbig-wed-0530/2027-02-10
CATEGORIES:Telephone or Audio
ATTACH;FMTTYPE=image/svg+xml:https://meetings.greysheet.org/wp-content/uploads/2025/05/phone.svg
LOCATION:Phone Number: 17124325229, PIN: Phone Bridge
END:VEVENT
BEGIN:VEVENT
DTSTART;TZID=America/New_York:20270217T053000
DTEND;TZID=America/New_York:20270217T063000
DTSTAMP:20260419T233325
CREATED:20250503T164142Z
LAST-MODIFIED:20260308T153744Z
UID:10050095-1802842200-1802845800@meetings.greysheet.org
SUMMARY:AA & GSA Literature
DESCRIPTION:This is a GreySheet AA & GSA Literature meeting. A speaker shares for 5 to 10 minutes after he/she reads 2 – 3 paragraphs from the AA or GSA literature of their choice.
URL:https://meetings.greysheet.org/meeting/pbig-wed-0530/2027-02-17
CATEGORIES:Telephone or Audio
ATTACH;FMTTYPE=image/svg+xml:https://meetings.greysheet.org/wp-content/uploads/2025/05/phone.svg
LOCATION:Phone Number: 17124325229, PIN: Phone Bridge
END:VEVENT
BEGIN:VEVENT
DTSTART;TZID=America/New_York:20270224T053000
DTEND;TZID=America/New_York:20270224T063000
DTSTAMP:20260419T233325
CREATED:20250503T164142Z
LAST-MODIFIED:20260308T153744Z
UID:10050096-1803447000-1803450600@meetings.greysheet.org
SUMMARY:AA & GSA Literature
DESCRIPTION:This is a GreySheet AA & GSA Literature meeting. A speaker shares for 5 to 10 minutes after he/she reads 2 – 3 paragraphs from the AA or GSA literature of their choice.
URL:https://meetings.greysheet.org/meeting/pbig-wed-0530/2027-02-24
CATEGORIES:Telephone or Audio
ATTACH;FMTTYPE=image/svg+xml:https://meetings.greysheet.org/wp-content/uploads/2025/05/phone.svg
LOCATION:Phone Number: 17124325229, PIN: Phone Bridge
END:VEVENT
BEGIN:VEVENT
DTSTART;TZID=America/New_York:20270303T053000
DTEND;TZID=America/New_York:20270303T063000
DTSTAMP:20260419T233325
CREATED:20250503T164142Z
LAST-MODIFIED:20260308T153744Z
UID:10050097-1804051800-1804055400@meetings.greysheet.org
SUMMARY:AA & GSA Literature
DESCRIPTION:This is a GreySheet AA & GSA Literature meeting. A speaker shares for 5 to 10 minutes after he/she reads 2 – 3 paragraphs from the AA or GSA literature of their choice.
URL:https://meetings.greysheet.org/meeting/pbig-wed-0530/2027-03-03
CATEGORIES:Telephone or Audio
ATTACH;FMTTYPE=image/svg+xml:https://meetings.greysheet.org/wp-content/uploads/2025/05/phone.svg
LOCATION:Phone Number: 17124325229, PIN: Phone Bridge
END:VEVENT
BEGIN:VEVENT
DTSTART;TZID=America/New_York:20270310T053000
DTEND;TZID=America/New_York:20270310T063000
DTSTAMP:20260419T233325
CREATED:20250503T164142Z
LAST-MODIFIED:20260308T153744Z
UID:10050098-1804656600-1804660200@meetings.greysheet.org
SUMMARY:AA & GSA Literature
DESCRIPTION:This is a GreySheet AA & GSA Literature meeting. A speaker shares for 5 to 10 minutes after he/she reads 2 – 3 paragraphs from the AA or GSA literature of their choice.
URL:https://meetings.greysheet.org/meeting/pbig-wed-0530/2027-03-10
CATEGORIES:Telephone or Audio
ATTACH;FMTTYPE=image/svg+xml:https://meetings.greysheet.org/wp-content/uploads/2025/05/phone.svg
LOCATION:Phone Number: 17124325229, PIN: Phone Bridge
END:VEVENT
BEGIN:VEVENT
DTSTART;TZID=America/New_York:20270317T053000
DTEND;TZID=America/New_York:20270317T063000
DTSTAMP:20260419T233325
CREATED:20250503T164142Z
LAST-MODIFIED:20260308T153744Z
UID:10050099-1805261400-1805265000@meetings.greysheet.org
SUMMARY:AA & GSA Literature
DESCRIPTION:This is a GreySheet AA & GSA Literature meeting. A speaker shares for 5 to 10 minutes after he/she reads 2 – 3 paragraphs from the AA or GSA literature of their choice.
URL:https://meetings.greysheet.org/meeting/pbig-wed-0530/2027-03-17
CATEGORIES:Telephone or Audio
ATTACH;FMTTYPE=image/svg+xml:https://meetings.greysheet.org/wp-content/uploads/2025/05/phone.svg
LOCATION:Phone Number: 17124325229, PIN: Phone Bridge
END:VEVENT
BEGIN:VEVENT
DTSTART;TZID=America/New_York:20270324T053000
DTEND;TZID=America/New_York:20270324T063000
DTSTAMP:20260419T233325
CREATED:20250503T164142Z
LAST-MODIFIED:20260308T153744Z
UID:10050100-1805866200-1805869800@meetings.greysheet.org
SUMMARY:AA & GSA Literature
DESCRIPTION:This is a GreySheet AA & GSA Literature meeting. A speaker shares for 5 to 10 minutes after he/she reads 2 – 3 paragraphs from the AA or GSA literature of their choice.
URL:https://meetings.greysheet.org/meeting/pbig-wed-0530/2027-03-24
CATEGORIES:Telephone or Audio
ATTACH;FMTTYPE=image/svg+xml:https://meetings.greysheet.org/wp-content/uploads/2025/05/phone.svg
LOCATION:Phone Number: 17124325229, PIN: Phone Bridge
END:VEVENT
BEGIN:VEVENT
DTSTART;TZID=America/New_York:20270331T053000
DTEND;TZID=America/New_York:20270331T063000
DTSTAMP:20260419T233325
CREATED:20250503T164142Z
LAST-MODIFIED:20260308T153744Z
UID:10050101-1806471000-1806474600@meetings.greysheet.org
SUMMARY:AA & GSA Literature
DESCRIPTION:This is a GreySheet AA & GSA Literature meeting. A speaker shares for 5 to 10 minutes after he/she reads 2 – 3 paragraphs from the AA or GSA literature of their choice.
URL:https://meetings.greysheet.org/meeting/pbig-wed-0530/2027-03-31
CATEGORIES:Telephone or Audio
ATTACH;FMTTYPE=image/svg+xml:https://meetings.greysheet.org/wp-content/uploads/2025/05/phone.svg
LOCATION:Phone Number: 17124325229, PIN: Phone Bridge
END:VEVENT
BEGIN:VEVENT
DTSTART;TZID=America/New_York:20270407T053000
DTEND;TZID=America/New_York:20270407T063000
DTSTAMP:20260419T233325
CREATED:20250503T164142Z
LAST-MODIFIED:20260308T153744Z
UID:10050102-1807075800-1807079400@meetings.greysheet.org
SUMMARY:AA & GSA Literature
DESCRIPTION:This is a GreySheet AA & GSA Literature meeting. A speaker shares for 5 to 10 minutes after he/she reads 2 – 3 paragraphs from the AA or GSA literature of their choice.
URL:https://meetings.greysheet.org/meeting/pbig-wed-0530/2027-04-07
CATEGORIES:Telephone or Audio
ATTACH;FMTTYPE=image/svg+xml:https://meetings.greysheet.org/wp-content/uploads/2025/05/phone.svg
LOCATION:Phone Number: 17124325229, PIN: Phone Bridge
END:VEVENT
BEGIN:VEVENT
DTSTART;TZID=America/New_York:20270414T053000
DTEND;TZID=America/New_York:20270414T063000
DTSTAMP:20260419T233325
CREATED:20250503T164142Z
LAST-MODIFIED:20260308T153744Z
UID:10050103-1807680600-1807684200@meetings.greysheet.org
SUMMARY:AA & GSA Literature
DESCRIPTION:This is a GreySheet AA & GSA Literature meeting. A speaker shares for 5 to 10 minutes after he/she reads 2 – 3 paragraphs from the AA or GSA literature of their choice.
URL:https://meetings.greysheet.org/meeting/pbig-wed-0530/2027-04-14
CATEGORIES:Telephone or Audio
ATTACH;FMTTYPE=image/svg+xml:https://meetings.greysheet.org/wp-content/uploads/2025/05/phone.svg
LOCATION:Phone Number: 17124325229, PIN: Phone Bridge
END:VEVENT
BEGIN:VEVENT
DTSTART;TZID=America/New_York:20270421T053000
DTEND;TZID=America/New_York:20270421T063000
DTSTAMP:20260419T233325
CREATED:20250503T164142Z
LAST-MODIFIED:20260308T153744Z
UID:10050104-1808285400-1808289000@meetings.greysheet.org
SUMMARY:AA & GSA Literature
DESCRIPTION:This is a GreySheet AA & GSA Literature meeting. A speaker shares for 5 to 10 minutes after he/she reads 2 – 3 paragraphs from the AA or GSA literature of their choice.
URL:https://meetings.greysheet.org/meeting/pbig-wed-0530/2027-04-21
CATEGORIES:Telephone or Audio
ATTACH;FMTTYPE=image/svg+xml:https://meetings.greysheet.org/wp-content/uploads/2025/05/phone.svg
LOCATION:Phone Number: 17124325229, PIN: Phone Bridge
END:VEVENT
BEGIN:VEVENT
DTSTART;TZID=America/New_York:20270428T053000
DTEND;TZID=America/New_York:20270428T063000
DTSTAMP:20260419T233325
CREATED:20250503T164142Z
LAST-MODIFIED:20260308T153744Z
UID:10050105-1808890200-1808893800@meetings.greysheet.org
SUMMARY:AA & GSA Literature
DESCRIPTION:This is a GreySheet AA & GSA Literature meeting. A speaker shares for 5 to 10 minutes after he/she reads 2 – 3 paragraphs from the AA or GSA literature of their choice.
URL:https://meetings.greysheet.org/meeting/pbig-wed-0530/2027-04-28
CATEGORIES:Telephone or Audio
ATTACH;FMTTYPE=image/svg+xml:https://meetings.greysheet.org/wp-content/uploads/2025/05/phone.svg
LOCATION:Phone Number: 17124325229, PIN: Phone Bridge
END:VEVENT
BEGIN:VEVENT
DTSTART;TZID=America/New_York:20270505T053000
DTEND;TZID=America/New_York:20270505T063000
DTSTAMP:20260419T233325
CREATED:20250503T164142Z
LAST-MODIFIED:20260308T153744Z
UID:10050106-1809495000-1809498600@meetings.greysheet.org
SUMMARY:AA & GSA Literature
DESCRIPTION:This is a GreySheet AA & GSA Literature meeting. A speaker shares for 5 to 10 minutes after he/she reads 2 – 3 paragraphs from the AA or GSA literature of their choice.
URL:https://meetings.greysheet.org/meeting/pbig-wed-0530/2027-05-05
CATEGORIES:Telephone or Audio
ATTACH;FMTTYPE=image/svg+xml:https://meetings.greysheet.org/wp-content/uploads/2025/05/phone.svg
LOCATION:Phone Number: 17124325229, PIN: Phone Bridge
END:VEVENT
BEGIN:VEVENT
DTSTART;TZID=America/New_York:20270512T053000
DTEND;TZID=America/New_York:20270512T063000
DTSTAMP:20260419T233325
CREATED:20250503T164142Z
LAST-MODIFIED:20260308T153744Z
UID:10050107-1810099800-1810103400@meetings.greysheet.org
SUMMARY:AA & GSA Literature
DESCRIPTION:This is a GreySheet AA & GSA Literature meeting. A speaker shares for 5 to 10 minutes after he/she reads 2 – 3 paragraphs from the AA or GSA literature of their choice.
URL:https://meetings.greysheet.org/meeting/pbig-wed-0530/2027-05-12
CATEGORIES:Telephone or Audio
ATTACH;FMTTYPE=image/svg+xml:https://meetings.greysheet.org/wp-content/uploads/2025/05/phone.svg
LOCATION:Phone Number: 17124325229, PIN: Phone Bridge
END:VEVENT
BEGIN:VEVENT
DTSTART;TZID=America/New_York:20270519T053000
DTEND;TZID=America/New_York:20270519T063000
DTSTAMP:20260419T233325
CREATED:20250503T164142Z
LAST-MODIFIED:20260308T153744Z
UID:10050108-1810704600-1810708200@meetings.greysheet.org
SUMMARY:AA & GSA Literature
DESCRIPTION:This is a GreySheet AA & GSA Literature meeting. A speaker shares for 5 to 10 minutes after he/she reads 2 – 3 paragraphs from the AA or GSA literature of their choice.
URL:https://meetings.greysheet.org/meeting/pbig-wed-0530/2027-05-19
CATEGORIES:Telephone or Audio
ATTACH;FMTTYPE=image/svg+xml:https://meetings.greysheet.org/wp-content/uploads/2025/05/phone.svg
LOCATION:Phone Number: 17124325229, PIN: Phone Bridge
END:VEVENT
BEGIN:VEVENT
DTSTART;TZID=America/New_York:20270526T053000
DTEND;TZID=America/New_York:20270526T063000
DTSTAMP:20260419T233325
CREATED:20250503T164142Z
LAST-MODIFIED:20260308T153744Z
UID:10050109-1811309400-1811313000@meetings.greysheet.org
SUMMARY:AA & GSA Literature
DESCRIPTION:This is a GreySheet AA & GSA Literature meeting. A speaker shares for 5 to 10 minutes after he/she reads 2 – 3 paragraphs from the AA or GSA literature of their choice.
URL:https://meetings.greysheet.org/meeting/pbig-wed-0530/2027-05-26
CATEGORIES:Telephone or Audio
ATTACH;FMTTYPE=image/svg+xml:https://meetings.greysheet.org/wp-content/uploads/2025/05/phone.svg
LOCATION:Phone Number: 17124325229, PIN: Phone Bridge
END:VEVENT
BEGIN:VEVENT
DTSTART;TZID=America/New_York:20270602T053000
DTEND;TZID=America/New_York:20270602T063000
DTSTAMP:20260419T233325
CREATED:20250503T164142Z
LAST-MODIFIED:20260308T153744Z
UID:10050110-1811914200-1811917800@meetings.greysheet.org
SUMMARY:AA & GSA Literature
DESCRIPTION:This is a GreySheet AA & GSA Literature meeting. A speaker shares for 5 to 10 minutes after he/she reads 2 – 3 paragraphs from the AA or GSA literature of their choice.
URL:https://meetings.greysheet.org/meeting/pbig-wed-0530/2027-06-02
CATEGORIES:Telephone or Audio
ATTACH;FMTTYPE=image/svg+xml:https://meetings.greysheet.org/wp-content/uploads/2025/05/phone.svg
LOCATION:Phone Number: 17124325229, PIN: Phone Bridge
END:VEVENT
BEGIN:VEVENT
DTSTART;TZID=America/New_York:20270609T053000
DTEND;TZID=America/New_York:20270609T063000
DTSTAMP:20260419T233325
CREATED:20250503T164142Z
LAST-MODIFIED:20260308T153744Z
UID:10050111-1812519000-1812522600@meetings.greysheet.org
SUMMARY:AA & GSA Literature
DESCRIPTION:This is a GreySheet AA & GSA Literature meeting. A speaker shares for 5 to 10 minutes after he/she reads 2 – 3 paragraphs from the AA or GSA literature of their choice.
URL:https://meetings.greysheet.org/meeting/pbig-wed-0530/2027-06-09
CATEGORIES:Telephone or Audio
ATTACH;FMTTYPE=image/svg+xml:https://meetings.greysheet.org/wp-content/uploads/2025/05/phone.svg
LOCATION:Phone Number: 17124325229, PIN: Phone Bridge
END:VEVENT
BEGIN:VEVENT
DTSTART;TZID=America/New_York:20270616T053000
DTEND;TZID=America/New_York:20270616T063000
DTSTAMP:20260419T233325
CREATED:20250503T164142Z
LAST-MODIFIED:20260308T153744Z
UID:10050112-1813123800-1813127400@meetings.greysheet.org
SUMMARY:AA & GSA Literature
DESCRIPTION:This is a GreySheet AA & GSA Literature meeting. A speaker shares for 5 to 10 minutes after he/she reads 2 – 3 paragraphs from the AA or GSA literature of their choice.
URL:https://meetings.greysheet.org/meeting/pbig-wed-0530/2027-06-16
CATEGORIES:Telephone or Audio
ATTACH;FMTTYPE=image/svg+xml:https://meetings.greysheet.org/wp-content/uploads/2025/05/phone.svg
LOCATION:Phone Number: 17124325229, PIN: Phone Bridge
END:VEVENT
BEGIN:VEVENT
DTSTART;TZID=America/New_York:20270623T053000
DTEND;TZID=America/New_York:20270623T063000
DTSTAMP:20260419T233325
CREATED:20250503T164142Z
LAST-MODIFIED:20260308T153744Z
UID:10050113-1813728600-1813732200@meetings.greysheet.org
SUMMARY:AA & GSA Literature
DESCRIPTION:This is a GreySheet AA & GSA Literature meeting. A speaker shares for 5 to 10 minutes after he/she reads 2 – 3 paragraphs from the AA or GSA literature of their choice.
URL:https://meetings.greysheet.org/meeting/pbig-wed-0530/2027-06-23
CATEGORIES:Telephone or Audio
ATTACH;FMTTYPE=image/svg+xml:https://meetings.greysheet.org/wp-content/uploads/2025/05/phone.svg
LOCATION:Phone Number: 17124325229, PIN: Phone Bridge
END:VEVENT
BEGIN:VEVENT
DTSTART;TZID=America/New_York:20270630T053000
DTEND;TZID=America/New_York:20270630T063000
DTSTAMP:20260419T233325
CREATED:20250503T164142Z
LAST-MODIFIED:20260308T153744Z
UID:10050114-1814333400-1814337000@meetings.greysheet.org
SUMMARY:AA & GSA Literature
DESCRIPTION:This is a GreySheet AA & GSA Literature meeting. A speaker shares for 5 to 10 minutes after he/she reads 2 – 3 paragraphs from the AA or GSA literature of their choice.
URL:https://meetings.greysheet.org/meeting/pbig-wed-0530/2027-06-30
CATEGORIES:Telephone or Audio
ATTACH;FMTTYPE=image/svg+xml:https://meetings.greysheet.org/wp-content/uploads/2025/05/phone.svg
LOCATION:Phone Number: 17124325229, PIN: Phone Bridge
END:VEVENT
BEGIN:VEVENT
DTSTART;TZID=America/New_York:20270707T053000
DTEND;TZID=America/New_York:20270707T063000
DTSTAMP:20260419T233325
CREATED:20250503T164142Z
LAST-MODIFIED:20260308T153744Z
UID:10050115-1814938200-1814941800@meetings.greysheet.org
SUMMARY:AA & GSA Literature
DESCRIPTION:This is a GreySheet AA & GSA Literature meeting. A speaker shares for 5 to 10 minutes after he/she reads 2 – 3 paragraphs from the AA or GSA literature of their choice.
URL:https://meetings.greysheet.org/meeting/pbig-wed-0530/2027-07-07
CATEGORIES:Telephone or Audio
ATTACH;FMTTYPE=image/svg+xml:https://meetings.greysheet.org/wp-content/uploads/2025/05/phone.svg
LOCATION:Phone Number: 17124325229, PIN: Phone Bridge
END:VEVENT
BEGIN:VEVENT
DTSTART;TZID=America/New_York:20270714T053000
DTEND;TZID=America/New_York:20270714T063000
DTSTAMP:20260419T233325
CREATED:20250503T164142Z
LAST-MODIFIED:20260308T153744Z
UID:10050116-1815543000-1815546600@meetings.greysheet.org
SUMMARY:AA & GSA Literature
DESCRIPTION:This is a GreySheet AA & GSA Literature meeting. A speaker shares for 5 to 10 minutes after he/she reads 2 – 3 paragraphs from the AA or GSA literature of their choice.
URL:https://meetings.greysheet.org/meeting/pbig-wed-0530/2027-07-14
CATEGORIES:Telephone or Audio
ATTACH;FMTTYPE=image/svg+xml:https://meetings.greysheet.org/wp-content/uploads/2025/05/phone.svg
LOCATION:Phone Number: 17124325229, PIN: Phone Bridge
END:VEVENT
BEGIN:VEVENT
DTSTART;TZID=America/New_York:20270721T053000
DTEND;TZID=America/New_York:20270721T063000
DTSTAMP:20260419T233325
CREATED:20250503T164142Z
LAST-MODIFIED:20260308T153744Z
UID:10050117-1816147800-1816151400@meetings.greysheet.org
SUMMARY:AA & GSA Literature
DESCRIPTION:This is a GreySheet AA & GSA Literature meeting. A speaker shares for 5 to 10 minutes after he/she reads 2 – 3 paragraphs from the AA or GSA literature of their choice.
URL:https://meetings.greysheet.org/meeting/pbig-wed-0530/2027-07-21
CATEGORIES:Telephone or Audio
ATTACH;FMTTYPE=image/svg+xml:https://meetings.greysheet.org/wp-content/uploads/2025/05/phone.svg
LOCATION:Phone Number: 17124325229, PIN: Phone Bridge
END:VEVENT
END:VCALENDAR