BEGIN:VCALENDAR
VERSION:2.0
PRODID:-//GreySheeters Anonymous World Services - ECPv6.15.20//NONSGML v1.0//EN
CALSCALE:GREGORIAN
METHOD:PUBLISH
X-ORIGINAL-URL:https://meetings.greysheet.org
X-WR-CALDESC:Events for GreySheeters Anonymous World Services
REFRESH-INTERVAL;VALUE=DURATION:PT1H
X-Robots-Tag:noindex
X-PUBLISHED-TTL:PT1H
BEGIN:VTIMEZONE
TZID:America/New_York
BEGIN:DAYLIGHT
TZOFFSETFROM:-0500
TZOFFSETTO:-0400
TZNAME:EDT
DTSTART:20250309T070000
END:DAYLIGHT
BEGIN:STANDARD
TZOFFSETFROM:-0400
TZOFFSETTO:-0500
TZNAME:EST
DTSTART:20251102T060000
END:STANDARD
BEGIN:DAYLIGHT
TZOFFSETFROM:-0500
TZOFFSETTO:-0400
TZNAME:EDT
DTSTART:20260308T070000
END:DAYLIGHT
BEGIN:STANDARD
TZOFFSETFROM:-0400
TZOFFSETTO:-0500
TZNAME:EST
DTSTART:20261101T060000
END:STANDARD
BEGIN:DAYLIGHT
TZOFFSETFROM:-0500
TZOFFSETTO:-0400
TZNAME:EDT
DTSTART:20270314T070000
END:DAYLIGHT
BEGIN:STANDARD
TZOFFSETFROM:-0400
TZOFFSETTO:-0500
TZNAME:EST
DTSTART:20271107T060000
END:STANDARD
BEGIN:DAYLIGHT
TZOFFSETFROM:-0500
TZOFFSETTO:-0400
TZNAME:EDT
DTSTART:20280312T070000
END:DAYLIGHT
BEGIN:STANDARD
TZOFFSETFROM:-0400
TZOFFSETTO:-0500
TZNAME:EST
DTSTART:20281105T060000
END:STANDARD
END:VTIMEZONE
BEGIN:VEVENT
DTSTART;TZID=America/New_York:20261014T090000
DTEND;TZID=America/New_York:20261014T100000
DTSTAMP:20260423T164952
CREATED:20250504T220111Z
LAST-MODIFIED:20260215T204825Z
UID:10037530-1791968400-1791972000@meetings.greysheet.org
SUMMARY:Wednesday CT
DESCRIPTION:We read from the Twelve Steps and Twelve Traditions of Alcoholics Anonymous.
URL:https://meetings.greysheet.org/meeting/wednesday-ct/2026-10-14
CATEGORIES:Zoom
ATTACH;FMTTYPE=image/svg+xml:https://meetings.greysheet.org/wp-content/uploads/2025/05/desktop.svg
LOCATION:Zoom ID: 696119673, Passcode: Universal, Camera: Required
END:VEVENT
BEGIN:VEVENT
DTSTART;TZID=America/New_York:20261021T090000
DTEND;TZID=America/New_York:20261021T100000
DTSTAMP:20260423T164952
CREATED:20250504T220111Z
LAST-MODIFIED:20260215T204825Z
UID:10037531-1792573200-1792576800@meetings.greysheet.org
SUMMARY:Wednesday CT
DESCRIPTION:We read from the Twelve Steps and Twelve Traditions of Alcoholics Anonymous.
URL:https://meetings.greysheet.org/meeting/wednesday-ct/2026-10-21
CATEGORIES:Zoom
ATTACH;FMTTYPE=image/svg+xml:https://meetings.greysheet.org/wp-content/uploads/2025/05/desktop.svg
LOCATION:Zoom ID: 696119673, Passcode: Universal, Camera: Required
END:VEVENT
BEGIN:VEVENT
DTSTART;TZID=America/New_York:20261028T090000
DTEND;TZID=America/New_York:20261028T100000
DTSTAMP:20260423T164952
CREATED:20250504T220111Z
LAST-MODIFIED:20260215T204825Z
UID:10037532-1793178000-1793181600@meetings.greysheet.org
SUMMARY:Wednesday CT
DESCRIPTION:We read from the Twelve Steps and Twelve Traditions of Alcoholics Anonymous.
URL:https://meetings.greysheet.org/meeting/wednesday-ct/2026-10-28
CATEGORIES:Zoom
ATTACH;FMTTYPE=image/svg+xml:https://meetings.greysheet.org/wp-content/uploads/2025/05/desktop.svg
LOCATION:Zoom ID: 696119673, Passcode: Universal, Camera: Required
END:VEVENT
BEGIN:VEVENT
DTSTART;TZID=America/New_York:20261104T090000
DTEND;TZID=America/New_York:20261104T100000
DTSTAMP:20260423T164952
CREATED:20250504T220111Z
LAST-MODIFIED:20260215T204825Z
UID:10037533-1793782800-1793786400@meetings.greysheet.org
SUMMARY:Wednesday CT
DESCRIPTION:We read from the Twelve Steps and Twelve Traditions of Alcoholics Anonymous.
URL:https://meetings.greysheet.org/meeting/wednesday-ct/2026-11-04
CATEGORIES:Zoom
ATTACH;FMTTYPE=image/svg+xml:https://meetings.greysheet.org/wp-content/uploads/2025/05/desktop.svg
LOCATION:Zoom ID: 696119673, Passcode: Universal, Camera: Required
END:VEVENT
BEGIN:VEVENT
DTSTART;TZID=America/New_York:20261111T090000
DTEND;TZID=America/New_York:20261111T100000
DTSTAMP:20260423T164952
CREATED:20250504T220111Z
LAST-MODIFIED:20260215T204825Z
UID:10037534-1794387600-1794391200@meetings.greysheet.org
SUMMARY:Wednesday CT
DESCRIPTION:We read from the Twelve Steps and Twelve Traditions of Alcoholics Anonymous.
URL:https://meetings.greysheet.org/meeting/wednesday-ct/2026-11-11
CATEGORIES:Zoom
ATTACH;FMTTYPE=image/svg+xml:https://meetings.greysheet.org/wp-content/uploads/2025/05/desktop.svg
LOCATION:Zoom ID: 696119673, Passcode: Universal, Camera: Required
END:VEVENT
BEGIN:VEVENT
DTSTART;TZID=America/New_York:20261118T090000
DTEND;TZID=America/New_York:20261118T100000
DTSTAMP:20260423T164952
CREATED:20250504T220111Z
LAST-MODIFIED:20260215T204825Z
UID:10037535-1794992400-1794996000@meetings.greysheet.org
SUMMARY:Wednesday CT
DESCRIPTION:We read from the Twelve Steps and Twelve Traditions of Alcoholics Anonymous.
URL:https://meetings.greysheet.org/meeting/wednesday-ct/2026-11-18
CATEGORIES:Zoom
ATTACH;FMTTYPE=image/svg+xml:https://meetings.greysheet.org/wp-content/uploads/2025/05/desktop.svg
LOCATION:Zoom ID: 696119673, Passcode: Universal, Camera: Required
END:VEVENT
BEGIN:VEVENT
DTSTART;TZID=America/New_York:20261125T090000
DTEND;TZID=America/New_York:20261125T100000
DTSTAMP:20260423T164952
CREATED:20250504T220111Z
LAST-MODIFIED:20260215T204825Z
UID:10037536-1795597200-1795600800@meetings.greysheet.org
SUMMARY:Wednesday CT
DESCRIPTION:We read from the Twelve Steps and Twelve Traditions of Alcoholics Anonymous.
URL:https://meetings.greysheet.org/meeting/wednesday-ct/2026-11-25
CATEGORIES:Zoom
ATTACH;FMTTYPE=image/svg+xml:https://meetings.greysheet.org/wp-content/uploads/2025/05/desktop.svg
LOCATION:Zoom ID: 696119673, Passcode: Universal, Camera: Required
END:VEVENT
BEGIN:VEVENT
DTSTART;TZID=America/New_York:20261202T090000
DTEND;TZID=America/New_York:20261202T100000
DTSTAMP:20260423T164952
CREATED:20250504T220111Z
LAST-MODIFIED:20260215T204825Z
UID:10037537-1796202000-1796205600@meetings.greysheet.org
SUMMARY:Wednesday CT
DESCRIPTION:We read from the Twelve Steps and Twelve Traditions of Alcoholics Anonymous.
URL:https://meetings.greysheet.org/meeting/wednesday-ct/2026-12-02
CATEGORIES:Zoom
ATTACH;FMTTYPE=image/svg+xml:https://meetings.greysheet.org/wp-content/uploads/2025/05/desktop.svg
LOCATION:Zoom ID: 696119673, Passcode: Universal, Camera: Required
END:VEVENT
BEGIN:VEVENT
DTSTART;TZID=America/New_York:20261209T090000
DTEND;TZID=America/New_York:20261209T100000
DTSTAMP:20260423T164952
CREATED:20250504T220111Z
LAST-MODIFIED:20260215T204825Z
UID:10037538-1796806800-1796810400@meetings.greysheet.org
SUMMARY:Wednesday CT
DESCRIPTION:We read from the Twelve Steps and Twelve Traditions of Alcoholics Anonymous.
URL:https://meetings.greysheet.org/meeting/wednesday-ct/2026-12-09
CATEGORIES:Zoom
ATTACH;FMTTYPE=image/svg+xml:https://meetings.greysheet.org/wp-content/uploads/2025/05/desktop.svg
LOCATION:Zoom ID: 696119673, Passcode: Universal, Camera: Required
END:VEVENT
BEGIN:VEVENT
DTSTART;TZID=America/New_York:20261216T090000
DTEND;TZID=America/New_York:20261216T100000
DTSTAMP:20260423T164952
CREATED:20250504T220111Z
LAST-MODIFIED:20260215T204825Z
UID:10037539-1797411600-1797415200@meetings.greysheet.org
SUMMARY:Wednesday CT
DESCRIPTION:We read from the Twelve Steps and Twelve Traditions of Alcoholics Anonymous.
URL:https://meetings.greysheet.org/meeting/wednesday-ct/2026-12-16
CATEGORIES:Zoom
ATTACH;FMTTYPE=image/svg+xml:https://meetings.greysheet.org/wp-content/uploads/2025/05/desktop.svg
LOCATION:Zoom ID: 696119673, Passcode: Universal, Camera: Required
END:VEVENT
BEGIN:VEVENT
DTSTART;TZID=America/New_York:20261223T090000
DTEND;TZID=America/New_York:20261223T100000
DTSTAMP:20260423T164952
CREATED:20250504T220111Z
LAST-MODIFIED:20260215T204825Z
UID:10037540-1798016400-1798020000@meetings.greysheet.org
SUMMARY:Wednesday CT
DESCRIPTION:We read from the Twelve Steps and Twelve Traditions of Alcoholics Anonymous.
URL:https://meetings.greysheet.org/meeting/wednesday-ct/2026-12-23
CATEGORIES:Zoom
ATTACH;FMTTYPE=image/svg+xml:https://meetings.greysheet.org/wp-content/uploads/2025/05/desktop.svg
LOCATION:Zoom ID: 696119673, Passcode: Universal, Camera: Required
END:VEVENT
BEGIN:VEVENT
DTSTART;TZID=America/New_York:20261230T090000
DTEND;TZID=America/New_York:20261230T100000
DTSTAMP:20260423T164952
CREATED:20250504T220111Z
LAST-MODIFIED:20260215T204825Z
UID:10037541-1798621200-1798624800@meetings.greysheet.org
SUMMARY:Wednesday CT
DESCRIPTION:We read from the Twelve Steps and Twelve Traditions of Alcoholics Anonymous.
URL:https://meetings.greysheet.org/meeting/wednesday-ct/2026-12-30
CATEGORIES:Zoom
ATTACH;FMTTYPE=image/svg+xml:https://meetings.greysheet.org/wp-content/uploads/2025/05/desktop.svg
LOCATION:Zoom ID: 696119673, Passcode: Universal, Camera: Required
END:VEVENT
BEGIN:VEVENT
DTSTART;TZID=America/New_York:20270106T090000
DTEND;TZID=America/New_York:20270106T100000
DTSTAMP:20260423T164952
CREATED:20250504T220111Z
LAST-MODIFIED:20260215T204825Z
UID:10037542-1799226000-1799229600@meetings.greysheet.org
SUMMARY:Wednesday CT
DESCRIPTION:We read from the Twelve Steps and Twelve Traditions of Alcoholics Anonymous.
URL:https://meetings.greysheet.org/meeting/wednesday-ct/2027-01-06
CATEGORIES:Zoom
ATTACH;FMTTYPE=image/svg+xml:https://meetings.greysheet.org/wp-content/uploads/2025/05/desktop.svg
LOCATION:Zoom ID: 696119673, Passcode: Universal, Camera: Required
END:VEVENT
BEGIN:VEVENT
DTSTART;TZID=America/New_York:20270113T090000
DTEND;TZID=America/New_York:20270113T100000
DTSTAMP:20260423T164952
CREATED:20250504T220111Z
LAST-MODIFIED:20260215T204825Z
UID:10037543-1799830800-1799834400@meetings.greysheet.org
SUMMARY:Wednesday CT
DESCRIPTION:We read from the Twelve Steps and Twelve Traditions of Alcoholics Anonymous.
URL:https://meetings.greysheet.org/meeting/wednesday-ct/2027-01-13
CATEGORIES:Zoom
ATTACH;FMTTYPE=image/svg+xml:https://meetings.greysheet.org/wp-content/uploads/2025/05/desktop.svg
LOCATION:Zoom ID: 696119673, Passcode: Universal, Camera: Required
END:VEVENT
BEGIN:VEVENT
DTSTART;TZID=America/New_York:20270120T090000
DTEND;TZID=America/New_York:20270120T100000
DTSTAMP:20260423T164952
CREATED:20250504T220111Z
LAST-MODIFIED:20260215T204825Z
UID:10037544-1800435600-1800439200@meetings.greysheet.org
SUMMARY:Wednesday CT
DESCRIPTION:We read from the Twelve Steps and Twelve Traditions of Alcoholics Anonymous.
URL:https://meetings.greysheet.org/meeting/wednesday-ct/2027-01-20
CATEGORIES:Zoom
ATTACH;FMTTYPE=image/svg+xml:https://meetings.greysheet.org/wp-content/uploads/2025/05/desktop.svg
LOCATION:Zoom ID: 696119673, Passcode: Universal, Camera: Required
END:VEVENT
BEGIN:VEVENT
DTSTART;TZID=America/New_York:20270127T090000
DTEND;TZID=America/New_York:20270127T100000
DTSTAMP:20260423T164952
CREATED:20250504T220111Z
LAST-MODIFIED:20260215T204825Z
UID:10037545-1801040400-1801044000@meetings.greysheet.org
SUMMARY:Wednesday CT
DESCRIPTION:We read from the Twelve Steps and Twelve Traditions of Alcoholics Anonymous.
URL:https://meetings.greysheet.org/meeting/wednesday-ct/2027-01-27
CATEGORIES:Zoom
ATTACH;FMTTYPE=image/svg+xml:https://meetings.greysheet.org/wp-content/uploads/2025/05/desktop.svg
LOCATION:Zoom ID: 696119673, Passcode: Universal, Camera: Required
END:VEVENT
BEGIN:VEVENT
DTSTART;TZID=America/New_York:20270203T090000
DTEND;TZID=America/New_York:20270203T100000
DTSTAMP:20260423T164952
CREATED:20250504T220111Z
LAST-MODIFIED:20260215T204825Z
UID:10037546-1801645200-1801648800@meetings.greysheet.org
SUMMARY:Wednesday CT
DESCRIPTION:We read from the Twelve Steps and Twelve Traditions of Alcoholics Anonymous.
URL:https://meetings.greysheet.org/meeting/wednesday-ct/2027-02-03
CATEGORIES:Zoom
ATTACH;FMTTYPE=image/svg+xml:https://meetings.greysheet.org/wp-content/uploads/2025/05/desktop.svg
LOCATION:Zoom ID: 696119673, Passcode: Universal, Camera: Required
END:VEVENT
BEGIN:VEVENT
DTSTART;TZID=America/New_York:20270210T090000
DTEND;TZID=America/New_York:20270210T100000
DTSTAMP:20260423T164952
CREATED:20250504T220111Z
LAST-MODIFIED:20260215T204825Z
UID:10037547-1802250000-1802253600@meetings.greysheet.org
SUMMARY:Wednesday CT
DESCRIPTION:We read from the Twelve Steps and Twelve Traditions of Alcoholics Anonymous.
URL:https://meetings.greysheet.org/meeting/wednesday-ct/2027-02-10
CATEGORIES:Zoom
ATTACH;FMTTYPE=image/svg+xml:https://meetings.greysheet.org/wp-content/uploads/2025/05/desktop.svg
LOCATION:Zoom ID: 696119673, Passcode: Universal, Camera: Required
END:VEVENT
BEGIN:VEVENT
DTSTART;TZID=America/New_York:20270217T090000
DTEND;TZID=America/New_York:20270217T100000
DTSTAMP:20260423T164952
CREATED:20250504T220111Z
LAST-MODIFIED:20260215T204825Z
UID:10037548-1802854800-1802858400@meetings.greysheet.org
SUMMARY:Wednesday CT
DESCRIPTION:We read from the Twelve Steps and Twelve Traditions of Alcoholics Anonymous.
URL:https://meetings.greysheet.org/meeting/wednesday-ct/2027-02-17
CATEGORIES:Zoom
ATTACH;FMTTYPE=image/svg+xml:https://meetings.greysheet.org/wp-content/uploads/2025/05/desktop.svg
LOCATION:Zoom ID: 696119673, Passcode: Universal, Camera: Required
END:VEVENT
BEGIN:VEVENT
DTSTART;TZID=America/New_York:20270224T090000
DTEND;TZID=America/New_York:20270224T100000
DTSTAMP:20260423T164952
CREATED:20250504T220111Z
LAST-MODIFIED:20260215T204825Z
UID:10037549-1803459600-1803463200@meetings.greysheet.org
SUMMARY:Wednesday CT
DESCRIPTION:We read from the Twelve Steps and Twelve Traditions of Alcoholics Anonymous.
URL:https://meetings.greysheet.org/meeting/wednesday-ct/2027-02-24
CATEGORIES:Zoom
ATTACH;FMTTYPE=image/svg+xml:https://meetings.greysheet.org/wp-content/uploads/2025/05/desktop.svg
LOCATION:Zoom ID: 696119673, Passcode: Universal, Camera: Required
END:VEVENT
BEGIN:VEVENT
DTSTART;TZID=America/New_York:20270303T090000
DTEND;TZID=America/New_York:20270303T100000
DTSTAMP:20260423T164952
CREATED:20250504T220111Z
LAST-MODIFIED:20260215T204825Z
UID:10037550-1804064400-1804068000@meetings.greysheet.org
SUMMARY:Wednesday CT
DESCRIPTION:We read from the Twelve Steps and Twelve Traditions of Alcoholics Anonymous.
URL:https://meetings.greysheet.org/meeting/wednesday-ct/2027-03-03
CATEGORIES:Zoom
ATTACH;FMTTYPE=image/svg+xml:https://meetings.greysheet.org/wp-content/uploads/2025/05/desktop.svg
LOCATION:Zoom ID: 696119673, Passcode: Universal, Camera: Required
END:VEVENT
BEGIN:VEVENT
DTSTART;TZID=America/New_York:20270310T090000
DTEND;TZID=America/New_York:20270310T100000
DTSTAMP:20260423T164952
CREATED:20250504T220111Z
LAST-MODIFIED:20260215T204825Z
UID:10037551-1804669200-1804672800@meetings.greysheet.org
SUMMARY:Wednesday CT
DESCRIPTION:We read from the Twelve Steps and Twelve Traditions of Alcoholics Anonymous.
URL:https://meetings.greysheet.org/meeting/wednesday-ct/2027-03-10
CATEGORIES:Zoom
ATTACH;FMTTYPE=image/svg+xml:https://meetings.greysheet.org/wp-content/uploads/2025/05/desktop.svg
LOCATION:Zoom ID: 696119673, Passcode: Universal, Camera: Required
END:VEVENT
BEGIN:VEVENT
DTSTART;TZID=America/New_York:20270317T090000
DTEND;TZID=America/New_York:20270317T100000
DTSTAMP:20260423T164952
CREATED:20250504T220111Z
LAST-MODIFIED:20260215T204825Z
UID:10037552-1805274000-1805277600@meetings.greysheet.org
SUMMARY:Wednesday CT
DESCRIPTION:We read from the Twelve Steps and Twelve Traditions of Alcoholics Anonymous.
URL:https://meetings.greysheet.org/meeting/wednesday-ct/2027-03-17
CATEGORIES:Zoom
ATTACH;FMTTYPE=image/svg+xml:https://meetings.greysheet.org/wp-content/uploads/2025/05/desktop.svg
LOCATION:Zoom ID: 696119673, Passcode: Universal, Camera: Required
END:VEVENT
BEGIN:VEVENT
DTSTART;TZID=America/New_York:20270324T090000
DTEND;TZID=America/New_York:20270324T100000
DTSTAMP:20260423T164952
CREATED:20250504T220111Z
LAST-MODIFIED:20260215T204825Z
UID:10037553-1805878800-1805882400@meetings.greysheet.org
SUMMARY:Wednesday CT
DESCRIPTION:We read from the Twelve Steps and Twelve Traditions of Alcoholics Anonymous.
URL:https://meetings.greysheet.org/meeting/wednesday-ct/2027-03-24
CATEGORIES:Zoom
ATTACH;FMTTYPE=image/svg+xml:https://meetings.greysheet.org/wp-content/uploads/2025/05/desktop.svg
LOCATION:Zoom ID: 696119673, Passcode: Universal, Camera: Required
END:VEVENT
BEGIN:VEVENT
DTSTART;TZID=America/New_York:20270331T090000
DTEND;TZID=America/New_York:20270331T100000
DTSTAMP:20260423T164952
CREATED:20250504T220111Z
LAST-MODIFIED:20260215T204825Z
UID:10037554-1806483600-1806487200@meetings.greysheet.org
SUMMARY:Wednesday CT
DESCRIPTION:We read from the Twelve Steps and Twelve Traditions of Alcoholics Anonymous.
URL:https://meetings.greysheet.org/meeting/wednesday-ct/2027-03-31
CATEGORIES:Zoom
ATTACH;FMTTYPE=image/svg+xml:https://meetings.greysheet.org/wp-content/uploads/2025/05/desktop.svg
LOCATION:Zoom ID: 696119673, Passcode: Universal, Camera: Required
END:VEVENT
BEGIN:VEVENT
DTSTART;TZID=America/New_York:20270407T090000
DTEND;TZID=America/New_York:20270407T100000
DTSTAMP:20260423T164952
CREATED:20250504T220111Z
LAST-MODIFIED:20260215T204825Z
UID:10037555-1807088400-1807092000@meetings.greysheet.org
SUMMARY:Wednesday CT
DESCRIPTION:We read from the Twelve Steps and Twelve Traditions of Alcoholics Anonymous.
URL:https://meetings.greysheet.org/meeting/wednesday-ct/2027-04-07
CATEGORIES:Zoom
ATTACH;FMTTYPE=image/svg+xml:https://meetings.greysheet.org/wp-content/uploads/2025/05/desktop.svg
LOCATION:Zoom ID: 696119673, Passcode: Universal, Camera: Required
END:VEVENT
BEGIN:VEVENT
DTSTART;TZID=America/New_York:20270414T090000
DTEND;TZID=America/New_York:20270414T100000
DTSTAMP:20260423T164952
CREATED:20250504T220111Z
LAST-MODIFIED:20260215T204825Z
UID:10037556-1807693200-1807696800@meetings.greysheet.org
SUMMARY:Wednesday CT
DESCRIPTION:We read from the Twelve Steps and Twelve Traditions of Alcoholics Anonymous.
URL:https://meetings.greysheet.org/meeting/wednesday-ct/2027-04-14
CATEGORIES:Zoom
ATTACH;FMTTYPE=image/svg+xml:https://meetings.greysheet.org/wp-content/uploads/2025/05/desktop.svg
LOCATION:Zoom ID: 696119673, Passcode: Universal, Camera: Required
END:VEVENT
BEGIN:VEVENT
DTSTART;TZID=America/New_York:20270421T090000
DTEND;TZID=America/New_York:20270421T100000
DTSTAMP:20260423T164952
CREATED:20250504T220111Z
LAST-MODIFIED:20260215T204825Z
UID:10037557-1808298000-1808301600@meetings.greysheet.org
SUMMARY:Wednesday CT
DESCRIPTION:We read from the Twelve Steps and Twelve Traditions of Alcoholics Anonymous.
URL:https://meetings.greysheet.org/meeting/wednesday-ct/2027-04-21
CATEGORIES:Zoom
ATTACH;FMTTYPE=image/svg+xml:https://meetings.greysheet.org/wp-content/uploads/2025/05/desktop.svg
LOCATION:Zoom ID: 696119673, Passcode: Universal, Camera: Required
END:VEVENT
BEGIN:VEVENT
DTSTART;TZID=America/New_York:20270428T090000
DTEND;TZID=America/New_York:20270428T100000
DTSTAMP:20260423T164952
CREATED:20250504T220111Z
LAST-MODIFIED:20260215T204825Z
UID:10037558-1808902800-1808906400@meetings.greysheet.org
SUMMARY:Wednesday CT
DESCRIPTION:We read from the Twelve Steps and Twelve Traditions of Alcoholics Anonymous.
URL:https://meetings.greysheet.org/meeting/wednesday-ct/2027-04-28
CATEGORIES:Zoom
ATTACH;FMTTYPE=image/svg+xml:https://meetings.greysheet.org/wp-content/uploads/2025/05/desktop.svg
LOCATION:Zoom ID: 696119673, Passcode: Universal, Camera: Required
END:VEVENT
BEGIN:VEVENT
DTSTART;TZID=America/New_York:20270505T090000
DTEND;TZID=America/New_York:20270505T100000
DTSTAMP:20260423T164952
CREATED:20250504T220111Z
LAST-MODIFIED:20260215T204825Z
UID:10037559-1809507600-1809511200@meetings.greysheet.org
SUMMARY:Wednesday CT
DESCRIPTION:We read from the Twelve Steps and Twelve Traditions of Alcoholics Anonymous.
URL:https://meetings.greysheet.org/meeting/wednesday-ct/2027-05-05
CATEGORIES:Zoom
ATTACH;FMTTYPE=image/svg+xml:https://meetings.greysheet.org/wp-content/uploads/2025/05/desktop.svg
LOCATION:Zoom ID: 696119673, Passcode: Universal, Camera: Required
END:VEVENT
END:VCALENDAR