BEGIN:VCALENDAR
VERSION:2.0
PRODID:-//GreySheeters Anonymous World Services - ECPv6.15.20//NONSGML v1.0//EN
CALSCALE:GREGORIAN
METHOD:PUBLISH
X-ORIGINAL-URL:https://meetings.greysheet.org
X-WR-CALDESC:Events for GreySheeters Anonymous World Services
REFRESH-INTERVAL;VALUE=DURATION:PT1H
X-Robots-Tag:noindex
X-PUBLISHED-TTL:PT1H
BEGIN:VTIMEZONE
TZID:America/New_York
BEGIN:DAYLIGHT
TZOFFSETFROM:-0500
TZOFFSETTO:-0400
TZNAME:EDT
DTSTART:20250309T070000
END:DAYLIGHT
BEGIN:STANDARD
TZOFFSETFROM:-0400
TZOFFSETTO:-0500
TZNAME:EST
DTSTART:20251102T060000
END:STANDARD
BEGIN:DAYLIGHT
TZOFFSETFROM:-0500
TZOFFSETTO:-0400
TZNAME:EDT
DTSTART:20260308T070000
END:DAYLIGHT
BEGIN:STANDARD
TZOFFSETFROM:-0400
TZOFFSETTO:-0500
TZNAME:EST
DTSTART:20261101T060000
END:STANDARD
BEGIN:DAYLIGHT
TZOFFSETFROM:-0500
TZOFFSETTO:-0400
TZNAME:EDT
DTSTART:20270314T070000
END:DAYLIGHT
BEGIN:STANDARD
TZOFFSETFROM:-0400
TZOFFSETTO:-0500
TZNAME:EST
DTSTART:20271107T060000
END:STANDARD
BEGIN:DAYLIGHT
TZOFFSETFROM:-0500
TZOFFSETTO:-0400
TZNAME:EDT
DTSTART:20280312T070000
END:DAYLIGHT
BEGIN:STANDARD
TZOFFSETFROM:-0400
TZOFFSETTO:-0500
TZNAME:EST
DTSTART:20281105T060000
END:STANDARD
END:VTIMEZONE
BEGIN:VEVENT
DTSTART;TZID=America/New_York:20261007T100000
DTEND;TZID=America/New_York:20261007T113000
DTSTAMP:20260419T153648
CREATED:20250503T164202Z
LAST-MODIFIED:20260308T160211Z
UID:10055845-1791367200-1791372600@meetings.greysheet.org
SUMMARY:Qualification WED 1000
DESCRIPTION:Speakers qualify who have at least 90 days of back-to-back GreySheet abstinence – eating only three weighed and measured meals per day only from foods listed on the GreySheet\, without exception. The Speaker will qualify for approximately 15 to 20 minutes on their Experience\, Strength\, and Hope related to GreySheet abstinence.
URL:https://meetings.greysheet.org/meeting/pbig-wed-1000/2026-10-07
CATEGORIES:Telephone or Audio
ATTACH;FMTTYPE=image/svg+xml:https://meetings.greysheet.org/wp-content/uploads/2025/05/phone.svg
LOCATION:Phone Number: 712 432 5229, PIN: Phone Bridge
END:VEVENT
BEGIN:VEVENT
DTSTART;TZID=America/New_York:20261014T100000
DTEND;TZID=America/New_York:20261014T113000
DTSTAMP:20260419T153648
CREATED:20250503T164202Z
LAST-MODIFIED:20260308T160211Z
UID:10055846-1791972000-1791977400@meetings.greysheet.org
SUMMARY:Qualification WED 1000
DESCRIPTION:Speakers qualify who have at least 90 days of back-to-back GreySheet abstinence – eating only three weighed and measured meals per day only from foods listed on the GreySheet\, without exception. The Speaker will qualify for approximately 15 to 20 minutes on their Experience\, Strength\, and Hope related to GreySheet abstinence.
URL:https://meetings.greysheet.org/meeting/pbig-wed-1000/2026-10-14
CATEGORIES:Telephone or Audio
ATTACH;FMTTYPE=image/svg+xml:https://meetings.greysheet.org/wp-content/uploads/2025/05/phone.svg
LOCATION:Phone Number: 712 432 5229, PIN: Phone Bridge
END:VEVENT
BEGIN:VEVENT
DTSTART;TZID=America/New_York:20261021T100000
DTEND;TZID=America/New_York:20261021T113000
DTSTAMP:20260419T153648
CREATED:20250503T164202Z
LAST-MODIFIED:20260308T160211Z
UID:10055847-1792576800-1792582200@meetings.greysheet.org
SUMMARY:Qualification WED 1000
DESCRIPTION:Speakers qualify who have at least 90 days of back-to-back GreySheet abstinence – eating only three weighed and measured meals per day only from foods listed on the GreySheet\, without exception. The Speaker will qualify for approximately 15 to 20 minutes on their Experience\, Strength\, and Hope related to GreySheet abstinence.
URL:https://meetings.greysheet.org/meeting/pbig-wed-1000/2026-10-21
CATEGORIES:Telephone or Audio
ATTACH;FMTTYPE=image/svg+xml:https://meetings.greysheet.org/wp-content/uploads/2025/05/phone.svg
LOCATION:Phone Number: 712 432 5229, PIN: Phone Bridge
END:VEVENT
BEGIN:VEVENT
DTSTART;TZID=America/New_York:20261028T100000
DTEND;TZID=America/New_York:20261028T113000
DTSTAMP:20260419T153648
CREATED:20250503T164202Z
LAST-MODIFIED:20260308T160211Z
UID:10055848-1793181600-1793187000@meetings.greysheet.org
SUMMARY:Qualification WED 1000
DESCRIPTION:Speakers qualify who have at least 90 days of back-to-back GreySheet abstinence – eating only three weighed and measured meals per day only from foods listed on the GreySheet\, without exception. The Speaker will qualify for approximately 15 to 20 minutes on their Experience\, Strength\, and Hope related to GreySheet abstinence.
URL:https://meetings.greysheet.org/meeting/pbig-wed-1000/2026-10-28
CATEGORIES:Telephone or Audio
ATTACH;FMTTYPE=image/svg+xml:https://meetings.greysheet.org/wp-content/uploads/2025/05/phone.svg
LOCATION:Phone Number: 712 432 5229, PIN: Phone Bridge
END:VEVENT
BEGIN:VEVENT
DTSTART;TZID=America/New_York:20261104T100000
DTEND;TZID=America/New_York:20261104T113000
DTSTAMP:20260419T153648
CREATED:20250503T164202Z
LAST-MODIFIED:20260308T160211Z
UID:10055849-1793786400-1793791800@meetings.greysheet.org
SUMMARY:Qualification WED 1000
DESCRIPTION:Speakers qualify who have at least 90 days of back-to-back GreySheet abstinence – eating only three weighed and measured meals per day only from foods listed on the GreySheet\, without exception. The Speaker will qualify for approximately 15 to 20 minutes on their Experience\, Strength\, and Hope related to GreySheet abstinence.
URL:https://meetings.greysheet.org/meeting/pbig-wed-1000/2026-11-04
CATEGORIES:Telephone or Audio
ATTACH;FMTTYPE=image/svg+xml:https://meetings.greysheet.org/wp-content/uploads/2025/05/phone.svg
LOCATION:Phone Number: 712 432 5229, PIN: Phone Bridge
END:VEVENT
BEGIN:VEVENT
DTSTART;TZID=America/New_York:20261111T100000
DTEND;TZID=America/New_York:20261111T113000
DTSTAMP:20260419T153648
CREATED:20250503T164202Z
LAST-MODIFIED:20260308T160211Z
UID:10055850-1794391200-1794396600@meetings.greysheet.org
SUMMARY:Qualification WED 1000
DESCRIPTION:Speakers qualify who have at least 90 days of back-to-back GreySheet abstinence – eating only three weighed and measured meals per day only from foods listed on the GreySheet\, without exception. The Speaker will qualify for approximately 15 to 20 minutes on their Experience\, Strength\, and Hope related to GreySheet abstinence.
URL:https://meetings.greysheet.org/meeting/pbig-wed-1000/2026-11-11
CATEGORIES:Telephone or Audio
ATTACH;FMTTYPE=image/svg+xml:https://meetings.greysheet.org/wp-content/uploads/2025/05/phone.svg
LOCATION:Phone Number: 712 432 5229, PIN: Phone Bridge
END:VEVENT
BEGIN:VEVENT
DTSTART;TZID=America/New_York:20261118T100000
DTEND;TZID=America/New_York:20261118T113000
DTSTAMP:20260419T153648
CREATED:20250503T164202Z
LAST-MODIFIED:20260308T160211Z
UID:10055851-1794996000-1795001400@meetings.greysheet.org
SUMMARY:Qualification WED 1000
DESCRIPTION:Speakers qualify who have at least 90 days of back-to-back GreySheet abstinence – eating only three weighed and measured meals per day only from foods listed on the GreySheet\, without exception. The Speaker will qualify for approximately 15 to 20 minutes on their Experience\, Strength\, and Hope related to GreySheet abstinence.
URL:https://meetings.greysheet.org/meeting/pbig-wed-1000/2026-11-18
CATEGORIES:Telephone or Audio
ATTACH;FMTTYPE=image/svg+xml:https://meetings.greysheet.org/wp-content/uploads/2025/05/phone.svg
LOCATION:Phone Number: 712 432 5229, PIN: Phone Bridge
END:VEVENT
BEGIN:VEVENT
DTSTART;TZID=America/New_York:20261125T100000
DTEND;TZID=America/New_York:20261125T113000
DTSTAMP:20260419T153648
CREATED:20250503T164202Z
LAST-MODIFIED:20260308T160211Z
UID:10055852-1795600800-1795606200@meetings.greysheet.org
SUMMARY:Qualification WED 1000
DESCRIPTION:Speakers qualify who have at least 90 days of back-to-back GreySheet abstinence – eating only three weighed and measured meals per day only from foods listed on the GreySheet\, without exception. The Speaker will qualify for approximately 15 to 20 minutes on their Experience\, Strength\, and Hope related to GreySheet abstinence.
URL:https://meetings.greysheet.org/meeting/pbig-wed-1000/2026-11-25
CATEGORIES:Telephone or Audio
ATTACH;FMTTYPE=image/svg+xml:https://meetings.greysheet.org/wp-content/uploads/2025/05/phone.svg
LOCATION:Phone Number: 712 432 5229, PIN: Phone Bridge
END:VEVENT
BEGIN:VEVENT
DTSTART;TZID=America/New_York:20261202T100000
DTEND;TZID=America/New_York:20261202T113000
DTSTAMP:20260419T153648
CREATED:20250503T164202Z
LAST-MODIFIED:20260308T160211Z
UID:10055853-1796205600-1796211000@meetings.greysheet.org
SUMMARY:Qualification WED 1000
DESCRIPTION:Speakers qualify who have at least 90 days of back-to-back GreySheet abstinence – eating only three weighed and measured meals per day only from foods listed on the GreySheet\, without exception. The Speaker will qualify for approximately 15 to 20 minutes on their Experience\, Strength\, and Hope related to GreySheet abstinence.
URL:https://meetings.greysheet.org/meeting/pbig-wed-1000/2026-12-02
CATEGORIES:Telephone or Audio
ATTACH;FMTTYPE=image/svg+xml:https://meetings.greysheet.org/wp-content/uploads/2025/05/phone.svg
LOCATION:Phone Number: 712 432 5229, PIN: Phone Bridge
END:VEVENT
BEGIN:VEVENT
DTSTART;TZID=America/New_York:20261209T100000
DTEND;TZID=America/New_York:20261209T113000
DTSTAMP:20260419T153648
CREATED:20250503T164202Z
LAST-MODIFIED:20260308T160211Z
UID:10055854-1796810400-1796815800@meetings.greysheet.org
SUMMARY:Qualification WED 1000
DESCRIPTION:Speakers qualify who have at least 90 days of back-to-back GreySheet abstinence – eating only three weighed and measured meals per day only from foods listed on the GreySheet\, without exception. The Speaker will qualify for approximately 15 to 20 minutes on their Experience\, Strength\, and Hope related to GreySheet abstinence.
URL:https://meetings.greysheet.org/meeting/pbig-wed-1000/2026-12-09
CATEGORIES:Telephone or Audio
ATTACH;FMTTYPE=image/svg+xml:https://meetings.greysheet.org/wp-content/uploads/2025/05/phone.svg
LOCATION:Phone Number: 712 432 5229, PIN: Phone Bridge
END:VEVENT
BEGIN:VEVENT
DTSTART;TZID=America/New_York:20261216T100000
DTEND;TZID=America/New_York:20261216T113000
DTSTAMP:20260419T153648
CREATED:20250503T164202Z
LAST-MODIFIED:20260308T160211Z
UID:10055855-1797415200-1797420600@meetings.greysheet.org
SUMMARY:Qualification WED 1000
DESCRIPTION:Speakers qualify who have at least 90 days of back-to-back GreySheet abstinence – eating only three weighed and measured meals per day only from foods listed on the GreySheet\, without exception. The Speaker will qualify for approximately 15 to 20 minutes on their Experience\, Strength\, and Hope related to GreySheet abstinence.
URL:https://meetings.greysheet.org/meeting/pbig-wed-1000/2026-12-16
CATEGORIES:Telephone or Audio
ATTACH;FMTTYPE=image/svg+xml:https://meetings.greysheet.org/wp-content/uploads/2025/05/phone.svg
LOCATION:Phone Number: 712 432 5229, PIN: Phone Bridge
END:VEVENT
BEGIN:VEVENT
DTSTART;TZID=America/New_York:20261223T100000
DTEND;TZID=America/New_York:20261223T113000
DTSTAMP:20260419T153648
CREATED:20250503T164202Z
LAST-MODIFIED:20260308T160211Z
UID:10055856-1798020000-1798025400@meetings.greysheet.org
SUMMARY:Qualification WED 1000
DESCRIPTION:Speakers qualify who have at least 90 days of back-to-back GreySheet abstinence – eating only three weighed and measured meals per day only from foods listed on the GreySheet\, without exception. The Speaker will qualify for approximately 15 to 20 minutes on their Experience\, Strength\, and Hope related to GreySheet abstinence.
URL:https://meetings.greysheet.org/meeting/pbig-wed-1000/2026-12-23
CATEGORIES:Telephone or Audio
ATTACH;FMTTYPE=image/svg+xml:https://meetings.greysheet.org/wp-content/uploads/2025/05/phone.svg
LOCATION:Phone Number: 712 432 5229, PIN: Phone Bridge
END:VEVENT
BEGIN:VEVENT
DTSTART;TZID=America/New_York:20261230T100000
DTEND;TZID=America/New_York:20261230T113000
DTSTAMP:20260419T153648
CREATED:20250503T164202Z
LAST-MODIFIED:20260308T160211Z
UID:10055857-1798624800-1798630200@meetings.greysheet.org
SUMMARY:Qualification WED 1000
DESCRIPTION:Speakers qualify who have at least 90 days of back-to-back GreySheet abstinence – eating only three weighed and measured meals per day only from foods listed on the GreySheet\, without exception. The Speaker will qualify for approximately 15 to 20 minutes on their Experience\, Strength\, and Hope related to GreySheet abstinence.
URL:https://meetings.greysheet.org/meeting/pbig-wed-1000/2026-12-30
CATEGORIES:Telephone or Audio
ATTACH;FMTTYPE=image/svg+xml:https://meetings.greysheet.org/wp-content/uploads/2025/05/phone.svg
LOCATION:Phone Number: 712 432 5229, PIN: Phone Bridge
END:VEVENT
BEGIN:VEVENT
DTSTART;TZID=America/New_York:20270106T100000
DTEND;TZID=America/New_York:20270106T113000
DTSTAMP:20260419T153648
CREATED:20250503T164202Z
LAST-MODIFIED:20260308T160211Z
UID:10055858-1799229600-1799235000@meetings.greysheet.org
SUMMARY:Qualification WED 1000
DESCRIPTION:Speakers qualify who have at least 90 days of back-to-back GreySheet abstinence – eating only three weighed and measured meals per day only from foods listed on the GreySheet\, without exception. The Speaker will qualify for approximately 15 to 20 minutes on their Experience\, Strength\, and Hope related to GreySheet abstinence.
URL:https://meetings.greysheet.org/meeting/pbig-wed-1000/2027-01-06
CATEGORIES:Telephone or Audio
ATTACH;FMTTYPE=image/svg+xml:https://meetings.greysheet.org/wp-content/uploads/2025/05/phone.svg
LOCATION:Phone Number: 712 432 5229, PIN: Phone Bridge
END:VEVENT
BEGIN:VEVENT
DTSTART;TZID=America/New_York:20270113T100000
DTEND;TZID=America/New_York:20270113T113000
DTSTAMP:20260419T153648
CREATED:20250503T164202Z
LAST-MODIFIED:20260308T160211Z
UID:10055859-1799834400-1799839800@meetings.greysheet.org
SUMMARY:Qualification WED 1000
DESCRIPTION:Speakers qualify who have at least 90 days of back-to-back GreySheet abstinence – eating only three weighed and measured meals per day only from foods listed on the GreySheet\, without exception. The Speaker will qualify for approximately 15 to 20 minutes on their Experience\, Strength\, and Hope related to GreySheet abstinence.
URL:https://meetings.greysheet.org/meeting/pbig-wed-1000/2027-01-13
CATEGORIES:Telephone or Audio
ATTACH;FMTTYPE=image/svg+xml:https://meetings.greysheet.org/wp-content/uploads/2025/05/phone.svg
LOCATION:Phone Number: 712 432 5229, PIN: Phone Bridge
END:VEVENT
BEGIN:VEVENT
DTSTART;TZID=America/New_York:20270120T100000
DTEND;TZID=America/New_York:20270120T113000
DTSTAMP:20260419T153648
CREATED:20250503T164202Z
LAST-MODIFIED:20260308T160211Z
UID:10055860-1800439200-1800444600@meetings.greysheet.org
SUMMARY:Qualification WED 1000
DESCRIPTION:Speakers qualify who have at least 90 days of back-to-back GreySheet abstinence – eating only three weighed and measured meals per day only from foods listed on the GreySheet\, without exception. The Speaker will qualify for approximately 15 to 20 minutes on their Experience\, Strength\, and Hope related to GreySheet abstinence.
URL:https://meetings.greysheet.org/meeting/pbig-wed-1000/2027-01-20
CATEGORIES:Telephone or Audio
ATTACH;FMTTYPE=image/svg+xml:https://meetings.greysheet.org/wp-content/uploads/2025/05/phone.svg
LOCATION:Phone Number: 712 432 5229, PIN: Phone Bridge
END:VEVENT
BEGIN:VEVENT
DTSTART;TZID=America/New_York:20270127T100000
DTEND;TZID=America/New_York:20270127T113000
DTSTAMP:20260419T153648
CREATED:20250503T164202Z
LAST-MODIFIED:20260308T160211Z
UID:10055861-1801044000-1801049400@meetings.greysheet.org
SUMMARY:Qualification WED 1000
DESCRIPTION:Speakers qualify who have at least 90 days of back-to-back GreySheet abstinence – eating only three weighed and measured meals per day only from foods listed on the GreySheet\, without exception. The Speaker will qualify for approximately 15 to 20 minutes on their Experience\, Strength\, and Hope related to GreySheet abstinence.
URL:https://meetings.greysheet.org/meeting/pbig-wed-1000/2027-01-27
CATEGORIES:Telephone or Audio
ATTACH;FMTTYPE=image/svg+xml:https://meetings.greysheet.org/wp-content/uploads/2025/05/phone.svg
LOCATION:Phone Number: 712 432 5229, PIN: Phone Bridge
END:VEVENT
BEGIN:VEVENT
DTSTART;TZID=America/New_York:20270203T100000
DTEND;TZID=America/New_York:20270203T113000
DTSTAMP:20260419T153648
CREATED:20250503T164202Z
LAST-MODIFIED:20260308T160211Z
UID:10055862-1801648800-1801654200@meetings.greysheet.org
SUMMARY:Qualification WED 1000
DESCRIPTION:Speakers qualify who have at least 90 days of back-to-back GreySheet abstinence – eating only three weighed and measured meals per day only from foods listed on the GreySheet\, without exception. The Speaker will qualify for approximately 15 to 20 minutes on their Experience\, Strength\, and Hope related to GreySheet abstinence.
URL:https://meetings.greysheet.org/meeting/pbig-wed-1000/2027-02-03
CATEGORIES:Telephone or Audio
ATTACH;FMTTYPE=image/svg+xml:https://meetings.greysheet.org/wp-content/uploads/2025/05/phone.svg
LOCATION:Phone Number: 712 432 5229, PIN: Phone Bridge
END:VEVENT
BEGIN:VEVENT
DTSTART;TZID=America/New_York:20270210T100000
DTEND;TZID=America/New_York:20270210T113000
DTSTAMP:20260419T153648
CREATED:20250503T164202Z
LAST-MODIFIED:20260308T160211Z
UID:10055863-1802253600-1802259000@meetings.greysheet.org
SUMMARY:Qualification WED 1000
DESCRIPTION:Speakers qualify who have at least 90 days of back-to-back GreySheet abstinence – eating only three weighed and measured meals per day only from foods listed on the GreySheet\, without exception. The Speaker will qualify for approximately 15 to 20 minutes on their Experience\, Strength\, and Hope related to GreySheet abstinence.
URL:https://meetings.greysheet.org/meeting/pbig-wed-1000/2027-02-10
CATEGORIES:Telephone or Audio
ATTACH;FMTTYPE=image/svg+xml:https://meetings.greysheet.org/wp-content/uploads/2025/05/phone.svg
LOCATION:Phone Number: 712 432 5229, PIN: Phone Bridge
END:VEVENT
BEGIN:VEVENT
DTSTART;TZID=America/New_York:20270217T100000
DTEND;TZID=America/New_York:20270217T113000
DTSTAMP:20260419T153648
CREATED:20250503T164202Z
LAST-MODIFIED:20260308T160211Z
UID:10055864-1802858400-1802863800@meetings.greysheet.org
SUMMARY:Qualification WED 1000
DESCRIPTION:Speakers qualify who have at least 90 days of back-to-back GreySheet abstinence – eating only three weighed and measured meals per day only from foods listed on the GreySheet\, without exception. The Speaker will qualify for approximately 15 to 20 minutes on their Experience\, Strength\, and Hope related to GreySheet abstinence.
URL:https://meetings.greysheet.org/meeting/pbig-wed-1000/2027-02-17
CATEGORIES:Telephone or Audio
ATTACH;FMTTYPE=image/svg+xml:https://meetings.greysheet.org/wp-content/uploads/2025/05/phone.svg
LOCATION:Phone Number: 712 432 5229, PIN: Phone Bridge
END:VEVENT
BEGIN:VEVENT
DTSTART;TZID=America/New_York:20270224T100000
DTEND;TZID=America/New_York:20270224T113000
DTSTAMP:20260419T153648
CREATED:20250503T164202Z
LAST-MODIFIED:20260308T160211Z
UID:10055865-1803463200-1803468600@meetings.greysheet.org
SUMMARY:Qualification WED 1000
DESCRIPTION:Speakers qualify who have at least 90 days of back-to-back GreySheet abstinence – eating only three weighed and measured meals per day only from foods listed on the GreySheet\, without exception. The Speaker will qualify for approximately 15 to 20 minutes on their Experience\, Strength\, and Hope related to GreySheet abstinence.
URL:https://meetings.greysheet.org/meeting/pbig-wed-1000/2027-02-24
CATEGORIES:Telephone or Audio
ATTACH;FMTTYPE=image/svg+xml:https://meetings.greysheet.org/wp-content/uploads/2025/05/phone.svg
LOCATION:Phone Number: 712 432 5229, PIN: Phone Bridge
END:VEVENT
BEGIN:VEVENT
DTSTART;TZID=America/New_York:20270303T100000
DTEND;TZID=America/New_York:20270303T113000
DTSTAMP:20260419T153648
CREATED:20250503T164202Z
LAST-MODIFIED:20260308T160211Z
UID:10055866-1804068000-1804073400@meetings.greysheet.org
SUMMARY:Qualification WED 1000
DESCRIPTION:Speakers qualify who have at least 90 days of back-to-back GreySheet abstinence – eating only three weighed and measured meals per day only from foods listed on the GreySheet\, without exception. The Speaker will qualify for approximately 15 to 20 minutes on their Experience\, Strength\, and Hope related to GreySheet abstinence.
URL:https://meetings.greysheet.org/meeting/pbig-wed-1000/2027-03-03
CATEGORIES:Telephone or Audio
ATTACH;FMTTYPE=image/svg+xml:https://meetings.greysheet.org/wp-content/uploads/2025/05/phone.svg
LOCATION:Phone Number: 712 432 5229, PIN: Phone Bridge
END:VEVENT
BEGIN:VEVENT
DTSTART;TZID=America/New_York:20270310T100000
DTEND;TZID=America/New_York:20270310T113000
DTSTAMP:20260419T153648
CREATED:20250503T164202Z
LAST-MODIFIED:20260308T160211Z
UID:10055867-1804672800-1804678200@meetings.greysheet.org
SUMMARY:Qualification WED 1000
DESCRIPTION:Speakers qualify who have at least 90 days of back-to-back GreySheet abstinence – eating only three weighed and measured meals per day only from foods listed on the GreySheet\, without exception. The Speaker will qualify for approximately 15 to 20 minutes on their Experience\, Strength\, and Hope related to GreySheet abstinence.
URL:https://meetings.greysheet.org/meeting/pbig-wed-1000/2027-03-10
CATEGORIES:Telephone or Audio
ATTACH;FMTTYPE=image/svg+xml:https://meetings.greysheet.org/wp-content/uploads/2025/05/phone.svg
LOCATION:Phone Number: 712 432 5229, PIN: Phone Bridge
END:VEVENT
BEGIN:VEVENT
DTSTART;TZID=America/New_York:20270317T100000
DTEND;TZID=America/New_York:20270317T113000
DTSTAMP:20260419T153648
CREATED:20250503T164202Z
LAST-MODIFIED:20260308T160211Z
UID:10055868-1805277600-1805283000@meetings.greysheet.org
SUMMARY:Qualification WED 1000
DESCRIPTION:Speakers qualify who have at least 90 days of back-to-back GreySheet abstinence – eating only three weighed and measured meals per day only from foods listed on the GreySheet\, without exception. The Speaker will qualify for approximately 15 to 20 minutes on their Experience\, Strength\, and Hope related to GreySheet abstinence.
URL:https://meetings.greysheet.org/meeting/pbig-wed-1000/2027-03-17
CATEGORIES:Telephone or Audio
ATTACH;FMTTYPE=image/svg+xml:https://meetings.greysheet.org/wp-content/uploads/2025/05/phone.svg
LOCATION:Phone Number: 712 432 5229, PIN: Phone Bridge
END:VEVENT
BEGIN:VEVENT
DTSTART;TZID=America/New_York:20270324T100000
DTEND;TZID=America/New_York:20270324T113000
DTSTAMP:20260419T153648
CREATED:20250503T164202Z
LAST-MODIFIED:20260308T160211Z
UID:10055869-1805882400-1805887800@meetings.greysheet.org
SUMMARY:Qualification WED 1000
DESCRIPTION:Speakers qualify who have at least 90 days of back-to-back GreySheet abstinence – eating only three weighed and measured meals per day only from foods listed on the GreySheet\, without exception. The Speaker will qualify for approximately 15 to 20 minutes on their Experience\, Strength\, and Hope related to GreySheet abstinence.
URL:https://meetings.greysheet.org/meeting/pbig-wed-1000/2027-03-24
CATEGORIES:Telephone or Audio
ATTACH;FMTTYPE=image/svg+xml:https://meetings.greysheet.org/wp-content/uploads/2025/05/phone.svg
LOCATION:Phone Number: 712 432 5229, PIN: Phone Bridge
END:VEVENT
BEGIN:VEVENT
DTSTART;TZID=America/New_York:20270331T100000
DTEND;TZID=America/New_York:20270331T113000
DTSTAMP:20260419T153648
CREATED:20250503T164202Z
LAST-MODIFIED:20260308T160211Z
UID:10055870-1806487200-1806492600@meetings.greysheet.org
SUMMARY:Qualification WED 1000
DESCRIPTION:Speakers qualify who have at least 90 days of back-to-back GreySheet abstinence – eating only three weighed and measured meals per day only from foods listed on the GreySheet\, without exception. The Speaker will qualify for approximately 15 to 20 minutes on their Experience\, Strength\, and Hope related to GreySheet abstinence.
URL:https://meetings.greysheet.org/meeting/pbig-wed-1000/2027-03-31
CATEGORIES:Telephone or Audio
ATTACH;FMTTYPE=image/svg+xml:https://meetings.greysheet.org/wp-content/uploads/2025/05/phone.svg
LOCATION:Phone Number: 712 432 5229, PIN: Phone Bridge
END:VEVENT
BEGIN:VEVENT
DTSTART;TZID=America/New_York:20270407T100000
DTEND;TZID=America/New_York:20270407T113000
DTSTAMP:20260419T153648
CREATED:20250503T164202Z
LAST-MODIFIED:20260308T160211Z
UID:10055871-1807092000-1807097400@meetings.greysheet.org
SUMMARY:Qualification WED 1000
DESCRIPTION:Speakers qualify who have at least 90 days of back-to-back GreySheet abstinence – eating only three weighed and measured meals per day only from foods listed on the GreySheet\, without exception. The Speaker will qualify for approximately 15 to 20 minutes on their Experience\, Strength\, and Hope related to GreySheet abstinence.
URL:https://meetings.greysheet.org/meeting/pbig-wed-1000/2027-04-07
CATEGORIES:Telephone or Audio
ATTACH;FMTTYPE=image/svg+xml:https://meetings.greysheet.org/wp-content/uploads/2025/05/phone.svg
LOCATION:Phone Number: 712 432 5229, PIN: Phone Bridge
END:VEVENT
BEGIN:VEVENT
DTSTART;TZID=America/New_York:20270414T100000
DTEND;TZID=America/New_York:20270414T113000
DTSTAMP:20260419T153648
CREATED:20250503T164202Z
LAST-MODIFIED:20260308T160211Z
UID:10055872-1807696800-1807702200@meetings.greysheet.org
SUMMARY:Qualification WED 1000
DESCRIPTION:Speakers qualify who have at least 90 days of back-to-back GreySheet abstinence – eating only three weighed and measured meals per day only from foods listed on the GreySheet\, without exception. The Speaker will qualify for approximately 15 to 20 minutes on their Experience\, Strength\, and Hope related to GreySheet abstinence.
URL:https://meetings.greysheet.org/meeting/pbig-wed-1000/2027-04-14
CATEGORIES:Telephone or Audio
ATTACH;FMTTYPE=image/svg+xml:https://meetings.greysheet.org/wp-content/uploads/2025/05/phone.svg
LOCATION:Phone Number: 712 432 5229, PIN: Phone Bridge
END:VEVENT
BEGIN:VEVENT
DTSTART;TZID=America/New_York:20270421T100000
DTEND;TZID=America/New_York:20270421T113000
DTSTAMP:20260419T153648
CREATED:20250503T164202Z
LAST-MODIFIED:20260308T160211Z
UID:10055873-1808301600-1808307000@meetings.greysheet.org
SUMMARY:Qualification WED 1000
DESCRIPTION:Speakers qualify who have at least 90 days of back-to-back GreySheet abstinence – eating only three weighed and measured meals per day only from foods listed on the GreySheet\, without exception. The Speaker will qualify for approximately 15 to 20 minutes on their Experience\, Strength\, and Hope related to GreySheet abstinence.
URL:https://meetings.greysheet.org/meeting/pbig-wed-1000/2027-04-21
CATEGORIES:Telephone or Audio
ATTACH;FMTTYPE=image/svg+xml:https://meetings.greysheet.org/wp-content/uploads/2025/05/phone.svg
LOCATION:Phone Number: 712 432 5229, PIN: Phone Bridge
END:VEVENT
BEGIN:VEVENT
DTSTART;TZID=America/New_York:20270428T100000
DTEND;TZID=America/New_York:20270428T113000
DTSTAMP:20260419T153648
CREATED:20250503T164202Z
LAST-MODIFIED:20260308T160211Z
UID:10055874-1808906400-1808911800@meetings.greysheet.org
SUMMARY:Qualification WED 1000
DESCRIPTION:Speakers qualify who have at least 90 days of back-to-back GreySheet abstinence – eating only three weighed and measured meals per day only from foods listed on the GreySheet\, without exception. The Speaker will qualify for approximately 15 to 20 minutes on their Experience\, Strength\, and Hope related to GreySheet abstinence.
URL:https://meetings.greysheet.org/meeting/pbig-wed-1000/2027-04-28
CATEGORIES:Telephone or Audio
ATTACH;FMTTYPE=image/svg+xml:https://meetings.greysheet.org/wp-content/uploads/2025/05/phone.svg
LOCATION:Phone Number: 712 432 5229, PIN: Phone Bridge
END:VEVENT
END:VCALENDAR