BEGIN:VCALENDAR
VERSION:2.0
PRODID:-//GreySheeters Anonymous World Services - ECPv6.15.20//NONSGML v1.0//EN
CALSCALE:GREGORIAN
METHOD:PUBLISH
X-WR-CALNAME:GreySheeters Anonymous World Services
X-ORIGINAL-URL:https://meetings.greysheet.org
X-WR-CALDESC:Events for GreySheeters Anonymous World Services
REFRESH-INTERVAL;VALUE=DURATION:PT1H
X-Robots-Tag:noindex
X-PUBLISHED-TTL:PT1H
BEGIN:VTIMEZONE
TZID:Europe/Madrid
BEGIN:DAYLIGHT
TZOFFSETFROM:+0100
TZOFFSETTO:+0200
TZNAME:CEST
DTSTART:20250330T010000
END:DAYLIGHT
BEGIN:STANDARD
TZOFFSETFROM:+0200
TZOFFSETTO:+0100
TZNAME:CET
DTSTART:20251026T010000
END:STANDARD
BEGIN:DAYLIGHT
TZOFFSETFROM:+0100
TZOFFSETTO:+0200
TZNAME:CEST
DTSTART:20260329T010000
END:DAYLIGHT
BEGIN:STANDARD
TZOFFSETFROM:+0200
TZOFFSETTO:+0100
TZNAME:CET
DTSTART:20261025T010000
END:STANDARD
BEGIN:DAYLIGHT
TZOFFSETFROM:+0100
TZOFFSETTO:+0200
TZNAME:CEST
DTSTART:20270328T010000
END:DAYLIGHT
BEGIN:STANDARD
TZOFFSETFROM:+0200
TZOFFSETTO:+0100
TZNAME:CET
DTSTART:20271031T010000
END:STANDARD
BEGIN:DAYLIGHT
TZOFFSETFROM:+0100
TZOFFSETTO:+0200
TZNAME:CEST
DTSTART:20280326T010000
END:DAYLIGHT
BEGIN:STANDARD
TZOFFSETFROM:+0200
TZOFFSETTO:+0100
TZNAME:CET
DTSTART:20281029T010000
END:STANDARD
END:VTIMEZONE
BEGIN:VEVENT
DTSTART;TZID=Europe/Madrid:20261009T200000
DTEND;TZID=Europe/Madrid:20261009T210000
DTSTAMP:20260421T105012
CREATED:20260207T204441Z
LAST-MODIFIED:20260216T135525Z
UID:10062587-1791576000-1791579600@meetings.greysheet.org
SUMMARY:Friday Night Literature Study
DESCRIPTION:We read from GSA and AA conference approved literature. We are starting with Living Abstinent.
URL:https://meetings.greysheet.org/meeting/friday-night-literature-study/2026-10-09
CATEGORIES:Zoom
ATTACH;FMTTYPE=image/svg+xml:https://meetings.greysheet.org/wp-content/uploads/2025/05/desktop.svg
LOCATION:Zoom ID: 86761638203, Passcode: Universal, Camera: Required
END:VEVENT
BEGIN:VEVENT
DTSTART;TZID=Europe/Madrid:20261016T200000
DTEND;TZID=Europe/Madrid:20261016T210000
DTSTAMP:20260421T105012
CREATED:20260207T204441Z
LAST-MODIFIED:20260216T135525Z
UID:10062588-1792180800-1792184400@meetings.greysheet.org
SUMMARY:Friday Night Literature Study
DESCRIPTION:We read from GSA and AA conference approved literature. We are starting with Living Abstinent.
URL:https://meetings.greysheet.org/meeting/friday-night-literature-study/2026-10-16
CATEGORIES:Zoom
ATTACH;FMTTYPE=image/svg+xml:https://meetings.greysheet.org/wp-content/uploads/2025/05/desktop.svg
LOCATION:Zoom ID: 86761638203, Passcode: Universal, Camera: Required
END:VEVENT
BEGIN:VEVENT
DTSTART;TZID=Europe/Madrid:20261023T200000
DTEND;TZID=Europe/Madrid:20261023T210000
DTSTAMP:20260421T105012
CREATED:20260207T204441Z
LAST-MODIFIED:20260216T135525Z
UID:10062589-1792785600-1792789200@meetings.greysheet.org
SUMMARY:Friday Night Literature Study
DESCRIPTION:We read from GSA and AA conference approved literature. We are starting with Living Abstinent.
URL:https://meetings.greysheet.org/meeting/friday-night-literature-study/2026-10-23
CATEGORIES:Zoom
ATTACH;FMTTYPE=image/svg+xml:https://meetings.greysheet.org/wp-content/uploads/2025/05/desktop.svg
LOCATION:Zoom ID: 86761638203, Passcode: Universal, Camera: Required
END:VEVENT
BEGIN:VEVENT
DTSTART;TZID=Europe/Madrid:20261030T200000
DTEND;TZID=Europe/Madrid:20261030T210000
DTSTAMP:20260421T105012
CREATED:20260207T204441Z
LAST-MODIFIED:20260216T135525Z
UID:10062590-1793390400-1793394000@meetings.greysheet.org
SUMMARY:Friday Night Literature Study
DESCRIPTION:We read from GSA and AA conference approved literature. We are starting with Living Abstinent.
URL:https://meetings.greysheet.org/meeting/friday-night-literature-study/2026-10-30
CATEGORIES:Zoom
ATTACH;FMTTYPE=image/svg+xml:https://meetings.greysheet.org/wp-content/uploads/2025/05/desktop.svg
LOCATION:Zoom ID: 86761638203, Passcode: Universal, Camera: Required
END:VEVENT
BEGIN:VEVENT
DTSTART;TZID=Europe/Madrid:20261106T200000
DTEND;TZID=Europe/Madrid:20261106T210000
DTSTAMP:20260421T105012
CREATED:20260207T204441Z
LAST-MODIFIED:20260216T135525Z
UID:10062591-1793995200-1793998800@meetings.greysheet.org
SUMMARY:Friday Night Literature Study
DESCRIPTION:We read from GSA and AA conference approved literature. We are starting with Living Abstinent.
URL:https://meetings.greysheet.org/meeting/friday-night-literature-study/2026-11-06
CATEGORIES:Zoom
ATTACH;FMTTYPE=image/svg+xml:https://meetings.greysheet.org/wp-content/uploads/2025/05/desktop.svg
LOCATION:Zoom ID: 86761638203, Passcode: Universal, Camera: Required
END:VEVENT
BEGIN:VEVENT
DTSTART;TZID=Europe/Madrid:20261113T200000
DTEND;TZID=Europe/Madrid:20261113T210000
DTSTAMP:20260421T105012
CREATED:20260207T204441Z
LAST-MODIFIED:20260216T135525Z
UID:10062592-1794600000-1794603600@meetings.greysheet.org
SUMMARY:Friday Night Literature Study
DESCRIPTION:We read from GSA and AA conference approved literature. We are starting with Living Abstinent.
URL:https://meetings.greysheet.org/meeting/friday-night-literature-study/2026-11-13
CATEGORIES:Zoom
ATTACH;FMTTYPE=image/svg+xml:https://meetings.greysheet.org/wp-content/uploads/2025/05/desktop.svg
LOCATION:Zoom ID: 86761638203, Passcode: Universal, Camera: Required
END:VEVENT
BEGIN:VEVENT
DTSTART;TZID=Europe/Madrid:20261120T200000
DTEND;TZID=Europe/Madrid:20261120T210000
DTSTAMP:20260421T105012
CREATED:20260207T204441Z
LAST-MODIFIED:20260216T135525Z
UID:10062593-1795204800-1795208400@meetings.greysheet.org
SUMMARY:Friday Night Literature Study
DESCRIPTION:We read from GSA and AA conference approved literature. We are starting with Living Abstinent.
URL:https://meetings.greysheet.org/meeting/friday-night-literature-study/2026-11-20
CATEGORIES:Zoom
ATTACH;FMTTYPE=image/svg+xml:https://meetings.greysheet.org/wp-content/uploads/2025/05/desktop.svg
LOCATION:Zoom ID: 86761638203, Passcode: Universal, Camera: Required
END:VEVENT
BEGIN:VEVENT
DTSTART;TZID=Europe/Madrid:20261127T200000
DTEND;TZID=Europe/Madrid:20261127T210000
DTSTAMP:20260421T105012
CREATED:20260207T204441Z
LAST-MODIFIED:20260216T135525Z
UID:10062594-1795809600-1795813200@meetings.greysheet.org
SUMMARY:Friday Night Literature Study
DESCRIPTION:We read from GSA and AA conference approved literature. We are starting with Living Abstinent.
URL:https://meetings.greysheet.org/meeting/friday-night-literature-study/2026-11-27
CATEGORIES:Zoom
ATTACH;FMTTYPE=image/svg+xml:https://meetings.greysheet.org/wp-content/uploads/2025/05/desktop.svg
LOCATION:Zoom ID: 86761638203, Passcode: Universal, Camera: Required
END:VEVENT
BEGIN:VEVENT
DTSTART;TZID=Europe/Madrid:20261204T200000
DTEND;TZID=Europe/Madrid:20261204T210000
DTSTAMP:20260421T105012
CREATED:20260207T204441Z
LAST-MODIFIED:20260216T135525Z
UID:10062595-1796414400-1796418000@meetings.greysheet.org
SUMMARY:Friday Night Literature Study
DESCRIPTION:We read from GSA and AA conference approved literature. We are starting with Living Abstinent.
URL:https://meetings.greysheet.org/meeting/friday-night-literature-study/2026-12-04
CATEGORIES:Zoom
ATTACH;FMTTYPE=image/svg+xml:https://meetings.greysheet.org/wp-content/uploads/2025/05/desktop.svg
LOCATION:Zoom ID: 86761638203, Passcode: Universal, Camera: Required
END:VEVENT
BEGIN:VEVENT
DTSTART;TZID=Europe/Madrid:20261211T200000
DTEND;TZID=Europe/Madrid:20261211T210000
DTSTAMP:20260421T105012
CREATED:20260207T204441Z
LAST-MODIFIED:20260216T135525Z
UID:10062596-1797019200-1797022800@meetings.greysheet.org
SUMMARY:Friday Night Literature Study
DESCRIPTION:We read from GSA and AA conference approved literature. We are starting with Living Abstinent.
URL:https://meetings.greysheet.org/meeting/friday-night-literature-study/2026-12-11
CATEGORIES:Zoom
ATTACH;FMTTYPE=image/svg+xml:https://meetings.greysheet.org/wp-content/uploads/2025/05/desktop.svg
LOCATION:Zoom ID: 86761638203, Passcode: Universal, Camera: Required
END:VEVENT
BEGIN:VEVENT
DTSTART;TZID=Europe/Madrid:20261218T200000
DTEND;TZID=Europe/Madrid:20261218T210000
DTSTAMP:20260421T105012
CREATED:20260207T204441Z
LAST-MODIFIED:20260216T135525Z
UID:10062597-1797624000-1797627600@meetings.greysheet.org
SUMMARY:Friday Night Literature Study
DESCRIPTION:We read from GSA and AA conference approved literature. We are starting with Living Abstinent.
URL:https://meetings.greysheet.org/meeting/friday-night-literature-study/2026-12-18
CATEGORIES:Zoom
ATTACH;FMTTYPE=image/svg+xml:https://meetings.greysheet.org/wp-content/uploads/2025/05/desktop.svg
LOCATION:Zoom ID: 86761638203, Passcode: Universal, Camera: Required
END:VEVENT
BEGIN:VEVENT
DTSTART;TZID=Europe/Madrid:20261225T200000
DTEND;TZID=Europe/Madrid:20261225T210000
DTSTAMP:20260421T105012
CREATED:20260207T204441Z
LAST-MODIFIED:20260216T135525Z
UID:10062598-1798228800-1798232400@meetings.greysheet.org
SUMMARY:Friday Night Literature Study
DESCRIPTION:We read from GSA and AA conference approved literature. We are starting with Living Abstinent.
URL:https://meetings.greysheet.org/meeting/friday-night-literature-study/2026-12-25
CATEGORIES:Zoom
ATTACH;FMTTYPE=image/svg+xml:https://meetings.greysheet.org/wp-content/uploads/2025/05/desktop.svg
LOCATION:Zoom ID: 86761638203, Passcode: Universal, Camera: Required
END:VEVENT
BEGIN:VEVENT
DTSTART;TZID=Europe/Madrid:20270101T200000
DTEND;TZID=Europe/Madrid:20270101T210000
DTSTAMP:20260421T105012
CREATED:20260207T204441Z
LAST-MODIFIED:20260216T135525Z
UID:10062599-1798833600-1798837200@meetings.greysheet.org
SUMMARY:Friday Night Literature Study
DESCRIPTION:We read from GSA and AA conference approved literature. We are starting with Living Abstinent.
URL:https://meetings.greysheet.org/meeting/friday-night-literature-study/2027-01-01
CATEGORIES:Zoom
ATTACH;FMTTYPE=image/svg+xml:https://meetings.greysheet.org/wp-content/uploads/2025/05/desktop.svg
LOCATION:Zoom ID: 86761638203, Passcode: Universal, Camera: Required
END:VEVENT
BEGIN:VEVENT
DTSTART;TZID=Europe/Madrid:20270108T200000
DTEND;TZID=Europe/Madrid:20270108T210000
DTSTAMP:20260421T105012
CREATED:20260207T204441Z
LAST-MODIFIED:20260216T135525Z
UID:10062600-1799438400-1799442000@meetings.greysheet.org
SUMMARY:Friday Night Literature Study
DESCRIPTION:We read from GSA and AA conference approved literature. We are starting with Living Abstinent.
URL:https://meetings.greysheet.org/meeting/friday-night-literature-study/2027-01-08
CATEGORIES:Zoom
ATTACH;FMTTYPE=image/svg+xml:https://meetings.greysheet.org/wp-content/uploads/2025/05/desktop.svg
LOCATION:Zoom ID: 86761638203, Passcode: Universal, Camera: Required
END:VEVENT
BEGIN:VEVENT
DTSTART;TZID=Europe/Madrid:20270115T200000
DTEND;TZID=Europe/Madrid:20270115T210000
DTSTAMP:20260421T105012
CREATED:20260207T204441Z
LAST-MODIFIED:20260216T135525Z
UID:10062601-1800043200-1800046800@meetings.greysheet.org
SUMMARY:Friday Night Literature Study
DESCRIPTION:We read from GSA and AA conference approved literature. We are starting with Living Abstinent.
URL:https://meetings.greysheet.org/meeting/friday-night-literature-study/2027-01-15
CATEGORIES:Zoom
ATTACH;FMTTYPE=image/svg+xml:https://meetings.greysheet.org/wp-content/uploads/2025/05/desktop.svg
LOCATION:Zoom ID: 86761638203, Passcode: Universal, Camera: Required
END:VEVENT
BEGIN:VEVENT
DTSTART;TZID=Europe/Madrid:20270122T200000
DTEND;TZID=Europe/Madrid:20270122T210000
DTSTAMP:20260421T105013
CREATED:20260207T204441Z
LAST-MODIFIED:20260216T135525Z
UID:10062602-1800648000-1800651600@meetings.greysheet.org
SUMMARY:Friday Night Literature Study
DESCRIPTION:We read from GSA and AA conference approved literature. We are starting with Living Abstinent.
URL:https://meetings.greysheet.org/meeting/friday-night-literature-study/2027-01-22
CATEGORIES:Zoom
ATTACH;FMTTYPE=image/svg+xml:https://meetings.greysheet.org/wp-content/uploads/2025/05/desktop.svg
LOCATION:Zoom ID: 86761638203, Passcode: Universal, Camera: Required
END:VEVENT
BEGIN:VEVENT
DTSTART;TZID=Europe/Madrid:20270129T200000
DTEND;TZID=Europe/Madrid:20270129T210000
DTSTAMP:20260421T105013
CREATED:20260207T204441Z
LAST-MODIFIED:20260216T135525Z
UID:10062603-1801252800-1801256400@meetings.greysheet.org
SUMMARY:Friday Night Literature Study
DESCRIPTION:We read from GSA and AA conference approved literature. We are starting with Living Abstinent.
URL:https://meetings.greysheet.org/meeting/friday-night-literature-study/2027-01-29
CATEGORIES:Zoom
ATTACH;FMTTYPE=image/svg+xml:https://meetings.greysheet.org/wp-content/uploads/2025/05/desktop.svg
LOCATION:Zoom ID: 86761638203, Passcode: Universal, Camera: Required
END:VEVENT
BEGIN:VEVENT
DTSTART;TZID=Europe/Madrid:20270205T200000
DTEND;TZID=Europe/Madrid:20270205T210000
DTSTAMP:20260421T105013
CREATED:20260207T204441Z
LAST-MODIFIED:20260216T135525Z
UID:10062604-1801857600-1801861200@meetings.greysheet.org
SUMMARY:Friday Night Literature Study
DESCRIPTION:We read from GSA and AA conference approved literature. We are starting with Living Abstinent.
URL:https://meetings.greysheet.org/meeting/friday-night-literature-study/2027-02-05
CATEGORIES:Zoom
ATTACH;FMTTYPE=image/svg+xml:https://meetings.greysheet.org/wp-content/uploads/2025/05/desktop.svg
LOCATION:Zoom ID: 86761638203, Passcode: Universal, Camera: Required
END:VEVENT
BEGIN:VEVENT
DTSTART;TZID=Europe/Madrid:20270212T200000
DTEND;TZID=Europe/Madrid:20270212T210000
DTSTAMP:20260421T105013
CREATED:20260207T204441Z
LAST-MODIFIED:20260216T135525Z
UID:10062605-1802462400-1802466000@meetings.greysheet.org
SUMMARY:Friday Night Literature Study
DESCRIPTION:We read from GSA and AA conference approved literature. We are starting with Living Abstinent.
URL:https://meetings.greysheet.org/meeting/friday-night-literature-study/2027-02-12
CATEGORIES:Zoom
ATTACH;FMTTYPE=image/svg+xml:https://meetings.greysheet.org/wp-content/uploads/2025/05/desktop.svg
LOCATION:Zoom ID: 86761638203, Passcode: Universal, Camera: Required
END:VEVENT
BEGIN:VEVENT
DTSTART;TZID=Europe/Madrid:20270219T200000
DTEND;TZID=Europe/Madrid:20270219T210000
DTSTAMP:20260421T105013
CREATED:20260207T204441Z
LAST-MODIFIED:20260216T135525Z
UID:10062606-1803067200-1803070800@meetings.greysheet.org
SUMMARY:Friday Night Literature Study
DESCRIPTION:We read from GSA and AA conference approved literature. We are starting with Living Abstinent.
URL:https://meetings.greysheet.org/meeting/friday-night-literature-study/2027-02-19
CATEGORIES:Zoom
ATTACH;FMTTYPE=image/svg+xml:https://meetings.greysheet.org/wp-content/uploads/2025/05/desktop.svg
LOCATION:Zoom ID: 86761638203, Passcode: Universal, Camera: Required
END:VEVENT
BEGIN:VEVENT
DTSTART;TZID=Europe/Madrid:20270226T200000
DTEND;TZID=Europe/Madrid:20270226T210000
DTSTAMP:20260421T105013
CREATED:20260207T204441Z
LAST-MODIFIED:20260216T135525Z
UID:10062607-1803672000-1803675600@meetings.greysheet.org
SUMMARY:Friday Night Literature Study
DESCRIPTION:We read from GSA and AA conference approved literature. We are starting with Living Abstinent.
URL:https://meetings.greysheet.org/meeting/friday-night-literature-study/2027-02-26
CATEGORIES:Zoom
ATTACH;FMTTYPE=image/svg+xml:https://meetings.greysheet.org/wp-content/uploads/2025/05/desktop.svg
LOCATION:Zoom ID: 86761638203, Passcode: Universal, Camera: Required
END:VEVENT
BEGIN:VEVENT
DTSTART;TZID=Europe/Madrid:20270305T200000
DTEND;TZID=Europe/Madrid:20270305T210000
DTSTAMP:20260421T105013
CREATED:20260207T204441Z
LAST-MODIFIED:20260216T135525Z
UID:10062608-1804276800-1804280400@meetings.greysheet.org
SUMMARY:Friday Night Literature Study
DESCRIPTION:We read from GSA and AA conference approved literature. We are starting with Living Abstinent.
URL:https://meetings.greysheet.org/meeting/friday-night-literature-study/2027-03-05
CATEGORIES:Zoom
ATTACH;FMTTYPE=image/svg+xml:https://meetings.greysheet.org/wp-content/uploads/2025/05/desktop.svg
LOCATION:Zoom ID: 86761638203, Passcode: Universal, Camera: Required
END:VEVENT
BEGIN:VEVENT
DTSTART;TZID=Europe/Madrid:20270312T200000
DTEND;TZID=Europe/Madrid:20270312T210000
DTSTAMP:20260421T105013
CREATED:20260207T204441Z
LAST-MODIFIED:20260216T135525Z
UID:10062609-1804881600-1804885200@meetings.greysheet.org
SUMMARY:Friday Night Literature Study
DESCRIPTION:We read from GSA and AA conference approved literature. We are starting with Living Abstinent.
URL:https://meetings.greysheet.org/meeting/friday-night-literature-study/2027-03-12
CATEGORIES:Zoom
ATTACH;FMTTYPE=image/svg+xml:https://meetings.greysheet.org/wp-content/uploads/2025/05/desktop.svg
LOCATION:Zoom ID: 86761638203, Passcode: Universal, Camera: Required
END:VEVENT
BEGIN:VEVENT
DTSTART;TZID=Europe/Madrid:20270319T200000
DTEND;TZID=Europe/Madrid:20270319T210000
DTSTAMP:20260421T105013
CREATED:20260207T204441Z
LAST-MODIFIED:20260216T135525Z
UID:10062610-1805486400-1805490000@meetings.greysheet.org
SUMMARY:Friday Night Literature Study
DESCRIPTION:We read from GSA and AA conference approved literature. We are starting with Living Abstinent.
URL:https://meetings.greysheet.org/meeting/friday-night-literature-study/2027-03-19
CATEGORIES:Zoom
ATTACH;FMTTYPE=image/svg+xml:https://meetings.greysheet.org/wp-content/uploads/2025/05/desktop.svg
LOCATION:Zoom ID: 86761638203, Passcode: Universal, Camera: Required
END:VEVENT
BEGIN:VEVENT
DTSTART;TZID=Europe/Madrid:20270326T200000
DTEND;TZID=Europe/Madrid:20270326T210000
DTSTAMP:20260421T105013
CREATED:20260207T204441Z
LAST-MODIFIED:20260216T135525Z
UID:10062611-1806091200-1806094800@meetings.greysheet.org
SUMMARY:Friday Night Literature Study
DESCRIPTION:We read from GSA and AA conference approved literature. We are starting with Living Abstinent.
URL:https://meetings.greysheet.org/meeting/friday-night-literature-study/2027-03-26
CATEGORIES:Zoom
ATTACH;FMTTYPE=image/svg+xml:https://meetings.greysheet.org/wp-content/uploads/2025/05/desktop.svg
LOCATION:Zoom ID: 86761638203, Passcode: Universal, Camera: Required
END:VEVENT
BEGIN:VEVENT
DTSTART;TZID=Europe/Madrid:20270402T200000
DTEND;TZID=Europe/Madrid:20270402T210000
DTSTAMP:20260421T105013
CREATED:20260207T204441Z
LAST-MODIFIED:20260216T135525Z
UID:10062612-1806696000-1806699600@meetings.greysheet.org
SUMMARY:Friday Night Literature Study
DESCRIPTION:We read from GSA and AA conference approved literature. We are starting with Living Abstinent.
URL:https://meetings.greysheet.org/meeting/friday-night-literature-study/2027-04-02
CATEGORIES:Zoom
ATTACH;FMTTYPE=image/svg+xml:https://meetings.greysheet.org/wp-content/uploads/2025/05/desktop.svg
LOCATION:Zoom ID: 86761638203, Passcode: Universal, Camera: Required
END:VEVENT
BEGIN:VEVENT
DTSTART;TZID=Europe/Madrid:20270409T200000
DTEND;TZID=Europe/Madrid:20270409T210000
DTSTAMP:20260421T105013
CREATED:20260207T204441Z
LAST-MODIFIED:20260216T135525Z
UID:10062613-1807300800-1807304400@meetings.greysheet.org
SUMMARY:Friday Night Literature Study
DESCRIPTION:We read from GSA and AA conference approved literature. We are starting with Living Abstinent.
URL:https://meetings.greysheet.org/meeting/friday-night-literature-study/2027-04-09
CATEGORIES:Zoom
ATTACH;FMTTYPE=image/svg+xml:https://meetings.greysheet.org/wp-content/uploads/2025/05/desktop.svg
LOCATION:Zoom ID: 86761638203, Passcode: Universal, Camera: Required
END:VEVENT
BEGIN:VEVENT
DTSTART;TZID=Europe/Madrid:20270416T200000
DTEND;TZID=Europe/Madrid:20270416T210000
DTSTAMP:20260421T105013
CREATED:20260207T204441Z
LAST-MODIFIED:20260216T135525Z
UID:10062614-1807905600-1807909200@meetings.greysheet.org
SUMMARY:Friday Night Literature Study
DESCRIPTION:We read from GSA and AA conference approved literature. We are starting with Living Abstinent.
URL:https://meetings.greysheet.org/meeting/friday-night-literature-study/2027-04-16
CATEGORIES:Zoom
ATTACH;FMTTYPE=image/svg+xml:https://meetings.greysheet.org/wp-content/uploads/2025/05/desktop.svg
LOCATION:Zoom ID: 86761638203, Passcode: Universal, Camera: Required
END:VEVENT
BEGIN:VEVENT
DTSTART;TZID=Europe/Madrid:20270423T200000
DTEND;TZID=Europe/Madrid:20270423T210000
DTSTAMP:20260421T105013
CREATED:20260207T204441Z
LAST-MODIFIED:20260216T135525Z
UID:10062615-1808510400-1808514000@meetings.greysheet.org
SUMMARY:Friday Night Literature Study
DESCRIPTION:We read from GSA and AA conference approved literature. We are starting with Living Abstinent.
URL:https://meetings.greysheet.org/meeting/friday-night-literature-study/2027-04-23
CATEGORIES:Zoom
ATTACH;FMTTYPE=image/svg+xml:https://meetings.greysheet.org/wp-content/uploads/2025/05/desktop.svg
LOCATION:Zoom ID: 86761638203, Passcode: Universal, Camera: Required
END:VEVENT
BEGIN:VEVENT
DTSTART;TZID=Europe/Madrid:20270430T200000
DTEND;TZID=Europe/Madrid:20270430T210000
DTSTAMP:20260421T105013
CREATED:20260207T204441Z
LAST-MODIFIED:20260216T135525Z
UID:10062616-1809115200-1809118800@meetings.greysheet.org
SUMMARY:Friday Night Literature Study
DESCRIPTION:We read from GSA and AA conference approved literature. We are starting with Living Abstinent.
URL:https://meetings.greysheet.org/meeting/friday-night-literature-study/2027-04-30
CATEGORIES:Zoom
ATTACH;FMTTYPE=image/svg+xml:https://meetings.greysheet.org/wp-content/uploads/2025/05/desktop.svg
LOCATION:Zoom ID: 86761638203, Passcode: Universal, Camera: Required
END:VEVENT
END:VCALENDAR