BEGIN:VCALENDAR
VERSION:2.0
PRODID:-//GreySheeters Anonymous World Services - ECPv6.15.20//NONSGML v1.0//EN
CALSCALE:GREGORIAN
METHOD:PUBLISH
X-WR-CALNAME:GreySheeters Anonymous World Services
X-ORIGINAL-URL:https://meetings.greysheet.org
X-WR-CALDESC:Events for GreySheeters Anonymous World Services
REFRESH-INTERVAL;VALUE=DURATION:PT1H
X-Robots-Tag:noindex
X-PUBLISHED-TTL:PT1H
BEGIN:VTIMEZONE
TZID:America/New_York
BEGIN:DAYLIGHT
TZOFFSETFROM:-0500
TZOFFSETTO:-0400
TZNAME:EDT
DTSTART:20250309T070000
END:DAYLIGHT
BEGIN:STANDARD
TZOFFSETFROM:-0400
TZOFFSETTO:-0500
TZNAME:EST
DTSTART:20251102T060000
END:STANDARD
BEGIN:DAYLIGHT
TZOFFSETFROM:-0500
TZOFFSETTO:-0400
TZNAME:EDT
DTSTART:20260308T070000
END:DAYLIGHT
BEGIN:STANDARD
TZOFFSETFROM:-0400
TZOFFSETTO:-0500
TZNAME:EST
DTSTART:20261101T060000
END:STANDARD
BEGIN:DAYLIGHT
TZOFFSETFROM:-0500
TZOFFSETTO:-0400
TZNAME:EDT
DTSTART:20270314T070000
END:DAYLIGHT
BEGIN:STANDARD
TZOFFSETFROM:-0400
TZOFFSETTO:-0500
TZNAME:EST
DTSTART:20271107T060000
END:STANDARD
BEGIN:DAYLIGHT
TZOFFSETFROM:-0500
TZOFFSETTO:-0400
TZNAME:EDT
DTSTART:20280312T070000
END:DAYLIGHT
BEGIN:STANDARD
TZOFFSETFROM:-0400
TZOFFSETTO:-0500
TZNAME:EST
DTSTART:20281105T060000
END:STANDARD
END:VTIMEZONE
BEGIN:VEVENT
DTSTART;TZID=America/New_York:20261008T140000
DTEND;TZID=America/New_York:20261008T143000
DTSTAMP:20260422T024622
CREATED:20250503T164152Z
LAST-MODIFIED:20251117T232602Z
UID:10053893-1791468000-1791469800@meetings.greysheet.org
SUMMARY:RelapseRecovery THU 2pm
DESCRIPTION:Half-hour meeting focused on recovery from relapse. 5 minute qualification followed by sharing.
URL:https://meetings.greysheet.org/meeting/relapserecovery-thu-2pm/2026-10-08
CATEGORIES:Telephone or Audio
ATTACH;FMTTYPE=image/svg+xml:https://meetings.greysheet.org/wp-content/uploads/2025/05/phone.svg
LOCATION:Phone Number: 712 432 5229, PIN: Phone Bridge
END:VEVENT
BEGIN:VEVENT
DTSTART;TZID=America/New_York:20261015T140000
DTEND;TZID=America/New_York:20261015T143000
DTSTAMP:20260422T024622
CREATED:20250503T164152Z
LAST-MODIFIED:20251117T232602Z
UID:10053894-1792072800-1792074600@meetings.greysheet.org
SUMMARY:RelapseRecovery THU 2pm
DESCRIPTION:Half-hour meeting focused on recovery from relapse. 5 minute qualification followed by sharing.
URL:https://meetings.greysheet.org/meeting/relapserecovery-thu-2pm/2026-10-15
CATEGORIES:Telephone or Audio
ATTACH;FMTTYPE=image/svg+xml:https://meetings.greysheet.org/wp-content/uploads/2025/05/phone.svg
LOCATION:Phone Number: 712 432 5229, PIN: Phone Bridge
END:VEVENT
BEGIN:VEVENT
DTSTART;TZID=America/New_York:20261022T140000
DTEND;TZID=America/New_York:20261022T143000
DTSTAMP:20260422T024622
CREATED:20250503T164152Z
LAST-MODIFIED:20251117T232602Z
UID:10053895-1792677600-1792679400@meetings.greysheet.org
SUMMARY:RelapseRecovery THU 2pm
DESCRIPTION:Half-hour meeting focused on recovery from relapse. 5 minute qualification followed by sharing.
URL:https://meetings.greysheet.org/meeting/relapserecovery-thu-2pm/2026-10-22
CATEGORIES:Telephone or Audio
ATTACH;FMTTYPE=image/svg+xml:https://meetings.greysheet.org/wp-content/uploads/2025/05/phone.svg
LOCATION:Phone Number: 712 432 5229, PIN: Phone Bridge
END:VEVENT
BEGIN:VEVENT
DTSTART;TZID=America/New_York:20261029T140000
DTEND;TZID=America/New_York:20261029T143000
DTSTAMP:20260422T024622
CREATED:20250503T164152Z
LAST-MODIFIED:20251117T232602Z
UID:10053896-1793282400-1793284200@meetings.greysheet.org
SUMMARY:RelapseRecovery THU 2pm
DESCRIPTION:Half-hour meeting focused on recovery from relapse. 5 minute qualification followed by sharing.
URL:https://meetings.greysheet.org/meeting/relapserecovery-thu-2pm/2026-10-29
CATEGORIES:Telephone or Audio
ATTACH;FMTTYPE=image/svg+xml:https://meetings.greysheet.org/wp-content/uploads/2025/05/phone.svg
LOCATION:Phone Number: 712 432 5229, PIN: Phone Bridge
END:VEVENT
BEGIN:VEVENT
DTSTART;TZID=America/New_York:20261105T140000
DTEND;TZID=America/New_York:20261105T143000
DTSTAMP:20260422T024622
CREATED:20250503T164152Z
LAST-MODIFIED:20251117T232602Z
UID:10053897-1793887200-1793889000@meetings.greysheet.org
SUMMARY:RelapseRecovery THU 2pm
DESCRIPTION:Half-hour meeting focused on recovery from relapse. 5 minute qualification followed by sharing.
URL:https://meetings.greysheet.org/meeting/relapserecovery-thu-2pm/2026-11-05
CATEGORIES:Telephone or Audio
ATTACH;FMTTYPE=image/svg+xml:https://meetings.greysheet.org/wp-content/uploads/2025/05/phone.svg
LOCATION:Phone Number: 712 432 5229, PIN: Phone Bridge
END:VEVENT
BEGIN:VEVENT
DTSTART;TZID=America/New_York:20261112T140000
DTEND;TZID=America/New_York:20261112T143000
DTSTAMP:20260422T024622
CREATED:20250503T164152Z
LAST-MODIFIED:20251117T232602Z
UID:10053898-1794492000-1794493800@meetings.greysheet.org
SUMMARY:RelapseRecovery THU 2pm
DESCRIPTION:Half-hour meeting focused on recovery from relapse. 5 minute qualification followed by sharing.
URL:https://meetings.greysheet.org/meeting/relapserecovery-thu-2pm/2026-11-12
CATEGORIES:Telephone or Audio
ATTACH;FMTTYPE=image/svg+xml:https://meetings.greysheet.org/wp-content/uploads/2025/05/phone.svg
LOCATION:Phone Number: 712 432 5229, PIN: Phone Bridge
END:VEVENT
BEGIN:VEVENT
DTSTART;TZID=America/New_York:20261119T140000
DTEND;TZID=America/New_York:20261119T143000
DTSTAMP:20260422T024622
CREATED:20250503T164152Z
LAST-MODIFIED:20251117T232602Z
UID:10053899-1795096800-1795098600@meetings.greysheet.org
SUMMARY:RelapseRecovery THU 2pm
DESCRIPTION:Half-hour meeting focused on recovery from relapse. 5 minute qualification followed by sharing.
URL:https://meetings.greysheet.org/meeting/relapserecovery-thu-2pm/2026-11-19
CATEGORIES:Telephone or Audio
ATTACH;FMTTYPE=image/svg+xml:https://meetings.greysheet.org/wp-content/uploads/2025/05/phone.svg
LOCATION:Phone Number: 712 432 5229, PIN: Phone Bridge
END:VEVENT
BEGIN:VEVENT
DTSTART;TZID=America/New_York:20261126T140000
DTEND;TZID=America/New_York:20261126T143000
DTSTAMP:20260422T024622
CREATED:20250503T164152Z
LAST-MODIFIED:20251117T232602Z
UID:10053900-1795701600-1795703400@meetings.greysheet.org
SUMMARY:RelapseRecovery THU 2pm
DESCRIPTION:Half-hour meeting focused on recovery from relapse. 5 minute qualification followed by sharing.
URL:https://meetings.greysheet.org/meeting/relapserecovery-thu-2pm/2026-11-26
CATEGORIES:Telephone or Audio
ATTACH;FMTTYPE=image/svg+xml:https://meetings.greysheet.org/wp-content/uploads/2025/05/phone.svg
LOCATION:Phone Number: 712 432 5229, PIN: Phone Bridge
END:VEVENT
BEGIN:VEVENT
DTSTART;TZID=America/New_York:20261203T140000
DTEND;TZID=America/New_York:20261203T143000
DTSTAMP:20260422T024622
CREATED:20250503T164152Z
LAST-MODIFIED:20251117T232602Z
UID:10053901-1796306400-1796308200@meetings.greysheet.org
SUMMARY:RelapseRecovery THU 2pm
DESCRIPTION:Half-hour meeting focused on recovery from relapse. 5 minute qualification followed by sharing.
URL:https://meetings.greysheet.org/meeting/relapserecovery-thu-2pm/2026-12-03
CATEGORIES:Telephone or Audio
ATTACH;FMTTYPE=image/svg+xml:https://meetings.greysheet.org/wp-content/uploads/2025/05/phone.svg
LOCATION:Phone Number: 712 432 5229, PIN: Phone Bridge
END:VEVENT
BEGIN:VEVENT
DTSTART;TZID=America/New_York:20261210T140000
DTEND;TZID=America/New_York:20261210T143000
DTSTAMP:20260422T024622
CREATED:20250503T164152Z
LAST-MODIFIED:20251117T232602Z
UID:10053902-1796911200-1796913000@meetings.greysheet.org
SUMMARY:RelapseRecovery THU 2pm
DESCRIPTION:Half-hour meeting focused on recovery from relapse. 5 minute qualification followed by sharing.
URL:https://meetings.greysheet.org/meeting/relapserecovery-thu-2pm/2026-12-10
CATEGORIES:Telephone or Audio
ATTACH;FMTTYPE=image/svg+xml:https://meetings.greysheet.org/wp-content/uploads/2025/05/phone.svg
LOCATION:Phone Number: 712 432 5229, PIN: Phone Bridge
END:VEVENT
BEGIN:VEVENT
DTSTART;TZID=America/New_York:20261217T140000
DTEND;TZID=America/New_York:20261217T143000
DTSTAMP:20260422T024622
CREATED:20250503T164152Z
LAST-MODIFIED:20251117T232602Z
UID:10053903-1797516000-1797517800@meetings.greysheet.org
SUMMARY:RelapseRecovery THU 2pm
DESCRIPTION:Half-hour meeting focused on recovery from relapse. 5 minute qualification followed by sharing.
URL:https://meetings.greysheet.org/meeting/relapserecovery-thu-2pm/2026-12-17
CATEGORIES:Telephone or Audio
ATTACH;FMTTYPE=image/svg+xml:https://meetings.greysheet.org/wp-content/uploads/2025/05/phone.svg
LOCATION:Phone Number: 712 432 5229, PIN: Phone Bridge
END:VEVENT
BEGIN:VEVENT
DTSTART;TZID=America/New_York:20261224T140000
DTEND;TZID=America/New_York:20261224T143000
DTSTAMP:20260422T024622
CREATED:20250503T164152Z
LAST-MODIFIED:20251117T232602Z
UID:10053904-1798120800-1798122600@meetings.greysheet.org
SUMMARY:RelapseRecovery THU 2pm
DESCRIPTION:Half-hour meeting focused on recovery from relapse. 5 minute qualification followed by sharing.
URL:https://meetings.greysheet.org/meeting/relapserecovery-thu-2pm/2026-12-24
CATEGORIES:Telephone or Audio
ATTACH;FMTTYPE=image/svg+xml:https://meetings.greysheet.org/wp-content/uploads/2025/05/phone.svg
LOCATION:Phone Number: 712 432 5229, PIN: Phone Bridge
END:VEVENT
BEGIN:VEVENT
DTSTART;TZID=America/New_York:20261231T140000
DTEND;TZID=America/New_York:20261231T143000
DTSTAMP:20260422T024622
CREATED:20250503T164152Z
LAST-MODIFIED:20251117T232602Z
UID:10053905-1798725600-1798727400@meetings.greysheet.org
SUMMARY:RelapseRecovery THU 2pm
DESCRIPTION:Half-hour meeting focused on recovery from relapse. 5 minute qualification followed by sharing.
URL:https://meetings.greysheet.org/meeting/relapserecovery-thu-2pm/2026-12-31
CATEGORIES:Telephone or Audio
ATTACH;FMTTYPE=image/svg+xml:https://meetings.greysheet.org/wp-content/uploads/2025/05/phone.svg
LOCATION:Phone Number: 712 432 5229, PIN: Phone Bridge
END:VEVENT
BEGIN:VEVENT
DTSTART;TZID=America/New_York:20270107T140000
DTEND;TZID=America/New_York:20270107T143000
DTSTAMP:20260422T024622
CREATED:20250503T164152Z
LAST-MODIFIED:20251117T232602Z
UID:10053906-1799330400-1799332200@meetings.greysheet.org
SUMMARY:RelapseRecovery THU 2pm
DESCRIPTION:Half-hour meeting focused on recovery from relapse. 5 minute qualification followed by sharing.
URL:https://meetings.greysheet.org/meeting/relapserecovery-thu-2pm/2027-01-07
CATEGORIES:Telephone or Audio
ATTACH;FMTTYPE=image/svg+xml:https://meetings.greysheet.org/wp-content/uploads/2025/05/phone.svg
LOCATION:Phone Number: 712 432 5229, PIN: Phone Bridge
END:VEVENT
BEGIN:VEVENT
DTSTART;TZID=America/New_York:20270114T140000
DTEND;TZID=America/New_York:20270114T143000
DTSTAMP:20260422T024622
CREATED:20250503T164152Z
LAST-MODIFIED:20251117T232602Z
UID:10053907-1799935200-1799937000@meetings.greysheet.org
SUMMARY:RelapseRecovery THU 2pm
DESCRIPTION:Half-hour meeting focused on recovery from relapse. 5 minute qualification followed by sharing.
URL:https://meetings.greysheet.org/meeting/relapserecovery-thu-2pm/2027-01-14
CATEGORIES:Telephone or Audio
ATTACH;FMTTYPE=image/svg+xml:https://meetings.greysheet.org/wp-content/uploads/2025/05/phone.svg
LOCATION:Phone Number: 712 432 5229, PIN: Phone Bridge
END:VEVENT
BEGIN:VEVENT
DTSTART;TZID=America/New_York:20270121T140000
DTEND;TZID=America/New_York:20270121T143000
DTSTAMP:20260422T024622
CREATED:20250503T164152Z
LAST-MODIFIED:20251117T232602Z
UID:10053908-1800540000-1800541800@meetings.greysheet.org
SUMMARY:RelapseRecovery THU 2pm
DESCRIPTION:Half-hour meeting focused on recovery from relapse. 5 minute qualification followed by sharing.
URL:https://meetings.greysheet.org/meeting/relapserecovery-thu-2pm/2027-01-21
CATEGORIES:Telephone or Audio
ATTACH;FMTTYPE=image/svg+xml:https://meetings.greysheet.org/wp-content/uploads/2025/05/phone.svg
LOCATION:Phone Number: 712 432 5229, PIN: Phone Bridge
END:VEVENT
BEGIN:VEVENT
DTSTART;TZID=America/New_York:20270128T140000
DTEND;TZID=America/New_York:20270128T143000
DTSTAMP:20260422T024622
CREATED:20250503T164152Z
LAST-MODIFIED:20251117T232602Z
UID:10053909-1801144800-1801146600@meetings.greysheet.org
SUMMARY:RelapseRecovery THU 2pm
DESCRIPTION:Half-hour meeting focused on recovery from relapse. 5 minute qualification followed by sharing.
URL:https://meetings.greysheet.org/meeting/relapserecovery-thu-2pm/2027-01-28
CATEGORIES:Telephone or Audio
ATTACH;FMTTYPE=image/svg+xml:https://meetings.greysheet.org/wp-content/uploads/2025/05/phone.svg
LOCATION:Phone Number: 712 432 5229, PIN: Phone Bridge
END:VEVENT
BEGIN:VEVENT
DTSTART;TZID=America/New_York:20270204T140000
DTEND;TZID=America/New_York:20270204T143000
DTSTAMP:20260422T024622
CREATED:20250503T164152Z
LAST-MODIFIED:20251117T232602Z
UID:10053910-1801749600-1801751400@meetings.greysheet.org
SUMMARY:RelapseRecovery THU 2pm
DESCRIPTION:Half-hour meeting focused on recovery from relapse. 5 minute qualification followed by sharing.
URL:https://meetings.greysheet.org/meeting/relapserecovery-thu-2pm/2027-02-04
CATEGORIES:Telephone or Audio
ATTACH;FMTTYPE=image/svg+xml:https://meetings.greysheet.org/wp-content/uploads/2025/05/phone.svg
LOCATION:Phone Number: 712 432 5229, PIN: Phone Bridge
END:VEVENT
BEGIN:VEVENT
DTSTART;TZID=America/New_York:20270211T140000
DTEND;TZID=America/New_York:20270211T143000
DTSTAMP:20260422T024622
CREATED:20250503T164152Z
LAST-MODIFIED:20251117T232602Z
UID:10053911-1802354400-1802356200@meetings.greysheet.org
SUMMARY:RelapseRecovery THU 2pm
DESCRIPTION:Half-hour meeting focused on recovery from relapse. 5 minute qualification followed by sharing.
URL:https://meetings.greysheet.org/meeting/relapserecovery-thu-2pm/2027-02-11
CATEGORIES:Telephone or Audio
ATTACH;FMTTYPE=image/svg+xml:https://meetings.greysheet.org/wp-content/uploads/2025/05/phone.svg
LOCATION:Phone Number: 712 432 5229, PIN: Phone Bridge
END:VEVENT
BEGIN:VEVENT
DTSTART;TZID=America/New_York:20270218T140000
DTEND;TZID=America/New_York:20270218T143000
DTSTAMP:20260422T024622
CREATED:20250503T164152Z
LAST-MODIFIED:20251117T232602Z
UID:10053912-1802959200-1802961000@meetings.greysheet.org
SUMMARY:RelapseRecovery THU 2pm
DESCRIPTION:Half-hour meeting focused on recovery from relapse. 5 minute qualification followed by sharing.
URL:https://meetings.greysheet.org/meeting/relapserecovery-thu-2pm/2027-02-18
CATEGORIES:Telephone or Audio
ATTACH;FMTTYPE=image/svg+xml:https://meetings.greysheet.org/wp-content/uploads/2025/05/phone.svg
LOCATION:Phone Number: 712 432 5229, PIN: Phone Bridge
END:VEVENT
BEGIN:VEVENT
DTSTART;TZID=America/New_York:20270225T140000
DTEND;TZID=America/New_York:20270225T143000
DTSTAMP:20260422T024622
CREATED:20250503T164152Z
LAST-MODIFIED:20251117T232602Z
UID:10053913-1803564000-1803565800@meetings.greysheet.org
SUMMARY:RelapseRecovery THU 2pm
DESCRIPTION:Half-hour meeting focused on recovery from relapse. 5 minute qualification followed by sharing.
URL:https://meetings.greysheet.org/meeting/relapserecovery-thu-2pm/2027-02-25
CATEGORIES:Telephone or Audio
ATTACH;FMTTYPE=image/svg+xml:https://meetings.greysheet.org/wp-content/uploads/2025/05/phone.svg
LOCATION:Phone Number: 712 432 5229, PIN: Phone Bridge
END:VEVENT
BEGIN:VEVENT
DTSTART;TZID=America/New_York:20270304T140000
DTEND;TZID=America/New_York:20270304T143000
DTSTAMP:20260422T024622
CREATED:20250503T164152Z
LAST-MODIFIED:20251117T232602Z
UID:10053914-1804168800-1804170600@meetings.greysheet.org
SUMMARY:RelapseRecovery THU 2pm
DESCRIPTION:Half-hour meeting focused on recovery from relapse. 5 minute qualification followed by sharing.
URL:https://meetings.greysheet.org/meeting/relapserecovery-thu-2pm/2027-03-04
CATEGORIES:Telephone or Audio
ATTACH;FMTTYPE=image/svg+xml:https://meetings.greysheet.org/wp-content/uploads/2025/05/phone.svg
LOCATION:Phone Number: 712 432 5229, PIN: Phone Bridge
END:VEVENT
BEGIN:VEVENT
DTSTART;TZID=America/New_York:20270311T140000
DTEND;TZID=America/New_York:20270311T143000
DTSTAMP:20260422T024622
CREATED:20250503T164152Z
LAST-MODIFIED:20251117T232602Z
UID:10053915-1804773600-1804775400@meetings.greysheet.org
SUMMARY:RelapseRecovery THU 2pm
DESCRIPTION:Half-hour meeting focused on recovery from relapse. 5 minute qualification followed by sharing.
URL:https://meetings.greysheet.org/meeting/relapserecovery-thu-2pm/2027-03-11
CATEGORIES:Telephone or Audio
ATTACH;FMTTYPE=image/svg+xml:https://meetings.greysheet.org/wp-content/uploads/2025/05/phone.svg
LOCATION:Phone Number: 712 432 5229, PIN: Phone Bridge
END:VEVENT
BEGIN:VEVENT
DTSTART;TZID=America/New_York:20270318T140000
DTEND;TZID=America/New_York:20270318T143000
DTSTAMP:20260422T024622
CREATED:20250503T164152Z
LAST-MODIFIED:20251117T232602Z
UID:10053916-1805378400-1805380200@meetings.greysheet.org
SUMMARY:RelapseRecovery THU 2pm
DESCRIPTION:Half-hour meeting focused on recovery from relapse. 5 minute qualification followed by sharing.
URL:https://meetings.greysheet.org/meeting/relapserecovery-thu-2pm/2027-03-18
CATEGORIES:Telephone or Audio
ATTACH;FMTTYPE=image/svg+xml:https://meetings.greysheet.org/wp-content/uploads/2025/05/phone.svg
LOCATION:Phone Number: 712 432 5229, PIN: Phone Bridge
END:VEVENT
BEGIN:VEVENT
DTSTART;TZID=America/New_York:20270325T140000
DTEND;TZID=America/New_York:20270325T143000
DTSTAMP:20260422T024622
CREATED:20250503T164152Z
LAST-MODIFIED:20251117T232602Z
UID:10053917-1805983200-1805985000@meetings.greysheet.org
SUMMARY:RelapseRecovery THU 2pm
DESCRIPTION:Half-hour meeting focused on recovery from relapse. 5 minute qualification followed by sharing.
URL:https://meetings.greysheet.org/meeting/relapserecovery-thu-2pm/2027-03-25
CATEGORIES:Telephone or Audio
ATTACH;FMTTYPE=image/svg+xml:https://meetings.greysheet.org/wp-content/uploads/2025/05/phone.svg
LOCATION:Phone Number: 712 432 5229, PIN: Phone Bridge
END:VEVENT
BEGIN:VEVENT
DTSTART;TZID=America/New_York:20270401T140000
DTEND;TZID=America/New_York:20270401T143000
DTSTAMP:20260422T024622
CREATED:20250503T164152Z
LAST-MODIFIED:20251117T232602Z
UID:10053918-1806588000-1806589800@meetings.greysheet.org
SUMMARY:RelapseRecovery THU 2pm
DESCRIPTION:Half-hour meeting focused on recovery from relapse. 5 minute qualification followed by sharing.
URL:https://meetings.greysheet.org/meeting/relapserecovery-thu-2pm/2027-04-01
CATEGORIES:Telephone or Audio
ATTACH;FMTTYPE=image/svg+xml:https://meetings.greysheet.org/wp-content/uploads/2025/05/phone.svg
LOCATION:Phone Number: 712 432 5229, PIN: Phone Bridge
END:VEVENT
BEGIN:VEVENT
DTSTART;TZID=America/New_York:20270408T140000
DTEND;TZID=America/New_York:20270408T143000
DTSTAMP:20260422T024622
CREATED:20250503T164152Z
LAST-MODIFIED:20251117T232602Z
UID:10053919-1807192800-1807194600@meetings.greysheet.org
SUMMARY:RelapseRecovery THU 2pm
DESCRIPTION:Half-hour meeting focused on recovery from relapse. 5 minute qualification followed by sharing.
URL:https://meetings.greysheet.org/meeting/relapserecovery-thu-2pm/2027-04-08
CATEGORIES:Telephone or Audio
ATTACH;FMTTYPE=image/svg+xml:https://meetings.greysheet.org/wp-content/uploads/2025/05/phone.svg
LOCATION:Phone Number: 712 432 5229, PIN: Phone Bridge
END:VEVENT
BEGIN:VEVENT
DTSTART;TZID=America/New_York:20270415T140000
DTEND;TZID=America/New_York:20270415T143000
DTSTAMP:20260422T024622
CREATED:20250503T164152Z
LAST-MODIFIED:20251117T232602Z
UID:10053920-1807797600-1807799400@meetings.greysheet.org
SUMMARY:RelapseRecovery THU 2pm
DESCRIPTION:Half-hour meeting focused on recovery from relapse. 5 minute qualification followed by sharing.
URL:https://meetings.greysheet.org/meeting/relapserecovery-thu-2pm/2027-04-15
CATEGORIES:Telephone or Audio
ATTACH;FMTTYPE=image/svg+xml:https://meetings.greysheet.org/wp-content/uploads/2025/05/phone.svg
LOCATION:Phone Number: 712 432 5229, PIN: Phone Bridge
END:VEVENT
BEGIN:VEVENT
DTSTART;TZID=America/New_York:20270422T140000
DTEND;TZID=America/New_York:20270422T143000
DTSTAMP:20260422T024622
CREATED:20250503T164152Z
LAST-MODIFIED:20251117T232602Z
UID:10053921-1808402400-1808404200@meetings.greysheet.org
SUMMARY:RelapseRecovery THU 2pm
DESCRIPTION:Half-hour meeting focused on recovery from relapse. 5 minute qualification followed by sharing.
URL:https://meetings.greysheet.org/meeting/relapserecovery-thu-2pm/2027-04-22
CATEGORIES:Telephone or Audio
ATTACH;FMTTYPE=image/svg+xml:https://meetings.greysheet.org/wp-content/uploads/2025/05/phone.svg
LOCATION:Phone Number: 712 432 5229, PIN: Phone Bridge
END:VEVENT
BEGIN:VEVENT
DTSTART;TZID=America/New_York:20270429T140000
DTEND;TZID=America/New_York:20270429T143000
DTSTAMP:20260422T024622
CREATED:20250503T164152Z
LAST-MODIFIED:20251117T232602Z
UID:10053922-1809007200-1809009000@meetings.greysheet.org
SUMMARY:RelapseRecovery THU 2pm
DESCRIPTION:Half-hour meeting focused on recovery from relapse. 5 minute qualification followed by sharing.
URL:https://meetings.greysheet.org/meeting/relapserecovery-thu-2pm/2027-04-29
CATEGORIES:Telephone or Audio
ATTACH;FMTTYPE=image/svg+xml:https://meetings.greysheet.org/wp-content/uploads/2025/05/phone.svg
LOCATION:Phone Number: 712 432 5229, PIN: Phone Bridge
END:VEVENT
END:VCALENDAR