BEGIN:VCALENDAR
VERSION:2.0
PRODID:-//GreySheeters Anonymous World Services - ECPv6.15.20//NONSGML v1.0//EN
CALSCALE:GREGORIAN
METHOD:PUBLISH
X-ORIGINAL-URL:https://meetings.greysheet.org
X-WR-CALDESC:Events for GreySheeters Anonymous World Services
REFRESH-INTERVAL;VALUE=DURATION:PT1H
X-Robots-Tag:noindex
X-PUBLISHED-TTL:PT1H
BEGIN:VTIMEZONE
TZID:America/New_York
BEGIN:DAYLIGHT
TZOFFSETFROM:-0500
TZOFFSETTO:-0400
TZNAME:EDT
DTSTART:20250309T070000
END:DAYLIGHT
BEGIN:STANDARD
TZOFFSETFROM:-0400
TZOFFSETTO:-0500
TZNAME:EST
DTSTART:20251102T060000
END:STANDARD
BEGIN:DAYLIGHT
TZOFFSETFROM:-0500
TZOFFSETTO:-0400
TZNAME:EDT
DTSTART:20260308T070000
END:DAYLIGHT
BEGIN:STANDARD
TZOFFSETFROM:-0400
TZOFFSETTO:-0500
TZNAME:EST
DTSTART:20261101T060000
END:STANDARD
BEGIN:DAYLIGHT
TZOFFSETFROM:-0500
TZOFFSETTO:-0400
TZNAME:EDT
DTSTART:20270314T070000
END:DAYLIGHT
BEGIN:STANDARD
TZOFFSETFROM:-0400
TZOFFSETTO:-0500
TZNAME:EST
DTSTART:20271107T060000
END:STANDARD
BEGIN:DAYLIGHT
TZOFFSETFROM:-0500
TZOFFSETTO:-0400
TZNAME:EDT
DTSTART:20280312T070000
END:DAYLIGHT
BEGIN:STANDARD
TZOFFSETFROM:-0400
TZOFFSETTO:-0500
TZNAME:EST
DTSTART:20281105T060000
END:STANDARD
END:VTIMEZONE
BEGIN:VEVENT
DTSTART;TZID=America/New_York:20260716T170000
DTEND;TZID=America/New_York:20260716T173000
DTSTAMP:20260423T181650
CREATED:20250503T164142Z
LAST-MODIFIED:20251117T232508Z
UID:10053704-1784221200-1784223000@meetings.greysheet.org
SUMMARY:Beginners Daily THU
DESCRIPTION:This is a half hour GreySheet Beginner’s meeting. The leader shares for 3-5 minutes\, followed by 2-minute timed shares.
URL:https://meetings.greysheet.org/meeting/beginners-daily-5/2026-07-16
CATEGORIES:Telephone or Audio
ATTACH;FMTTYPE=image/svg+xml:https://meetings.greysheet.org/wp-content/uploads/2025/05/phone.svg
LOCATION:Phone Number: 712 432 5229, PIN: Phone Bridge
END:VEVENT
BEGIN:VEVENT
DTSTART;TZID=America/New_York:20260723T170000
DTEND;TZID=America/New_York:20260723T173000
DTSTAMP:20260423T181650
CREATED:20250503T164142Z
LAST-MODIFIED:20251117T232508Z
UID:10053705-1784826000-1784827800@meetings.greysheet.org
SUMMARY:Beginners Daily THU
DESCRIPTION:This is a half hour GreySheet Beginner’s meeting. The leader shares for 3-5 minutes\, followed by 2-minute timed shares.
URL:https://meetings.greysheet.org/meeting/beginners-daily-5/2026-07-23
CATEGORIES:Telephone or Audio
ATTACH;FMTTYPE=image/svg+xml:https://meetings.greysheet.org/wp-content/uploads/2025/05/phone.svg
LOCATION:Phone Number: 712 432 5229, PIN: Phone Bridge
END:VEVENT
BEGIN:VEVENT
DTSTART;TZID=America/New_York:20260730T170000
DTEND;TZID=America/New_York:20260730T173000
DTSTAMP:20260423T181650
CREATED:20250503T164142Z
LAST-MODIFIED:20251117T232508Z
UID:10053706-1785430800-1785432600@meetings.greysheet.org
SUMMARY:Beginners Daily THU
DESCRIPTION:This is a half hour GreySheet Beginner’s meeting. The leader shares for 3-5 minutes\, followed by 2-minute timed shares.
URL:https://meetings.greysheet.org/meeting/beginners-daily-5/2026-07-30
CATEGORIES:Telephone or Audio
ATTACH;FMTTYPE=image/svg+xml:https://meetings.greysheet.org/wp-content/uploads/2025/05/phone.svg
LOCATION:Phone Number: 712 432 5229, PIN: Phone Bridge
END:VEVENT
BEGIN:VEVENT
DTSTART;TZID=America/New_York:20260806T170000
DTEND;TZID=America/New_York:20260806T173000
DTSTAMP:20260423T181650
CREATED:20250503T164142Z
LAST-MODIFIED:20251117T232508Z
UID:10053707-1786035600-1786037400@meetings.greysheet.org
SUMMARY:Beginners Daily THU
DESCRIPTION:This is a half hour GreySheet Beginner’s meeting. The leader shares for 3-5 minutes\, followed by 2-minute timed shares.
URL:https://meetings.greysheet.org/meeting/beginners-daily-5/2026-08-06
CATEGORIES:Telephone or Audio
ATTACH;FMTTYPE=image/svg+xml:https://meetings.greysheet.org/wp-content/uploads/2025/05/phone.svg
LOCATION:Phone Number: 712 432 5229, PIN: Phone Bridge
END:VEVENT
BEGIN:VEVENT
DTSTART;TZID=America/New_York:20260813T170000
DTEND;TZID=America/New_York:20260813T173000
DTSTAMP:20260423T181650
CREATED:20250503T164142Z
LAST-MODIFIED:20251117T232508Z
UID:10053708-1786640400-1786642200@meetings.greysheet.org
SUMMARY:Beginners Daily THU
DESCRIPTION:This is a half hour GreySheet Beginner’s meeting. The leader shares for 3-5 minutes\, followed by 2-minute timed shares.
URL:https://meetings.greysheet.org/meeting/beginners-daily-5/2026-08-13
CATEGORIES:Telephone or Audio
ATTACH;FMTTYPE=image/svg+xml:https://meetings.greysheet.org/wp-content/uploads/2025/05/phone.svg
LOCATION:Phone Number: 712 432 5229, PIN: Phone Bridge
END:VEVENT
BEGIN:VEVENT
DTSTART;TZID=America/New_York:20260820T170000
DTEND;TZID=America/New_York:20260820T173000
DTSTAMP:20260423T181650
CREATED:20250503T164142Z
LAST-MODIFIED:20251117T232508Z
UID:10053709-1787245200-1787247000@meetings.greysheet.org
SUMMARY:Beginners Daily THU
DESCRIPTION:This is a half hour GreySheet Beginner’s meeting. The leader shares for 3-5 minutes\, followed by 2-minute timed shares.
URL:https://meetings.greysheet.org/meeting/beginners-daily-5/2026-08-20
CATEGORIES:Telephone or Audio
ATTACH;FMTTYPE=image/svg+xml:https://meetings.greysheet.org/wp-content/uploads/2025/05/phone.svg
LOCATION:Phone Number: 712 432 5229, PIN: Phone Bridge
END:VEVENT
BEGIN:VEVENT
DTSTART;TZID=America/New_York:20260827T170000
DTEND;TZID=America/New_York:20260827T173000
DTSTAMP:20260423T181650
CREATED:20250503T164142Z
LAST-MODIFIED:20251117T232508Z
UID:10053710-1787850000-1787851800@meetings.greysheet.org
SUMMARY:Beginners Daily THU
DESCRIPTION:This is a half hour GreySheet Beginner’s meeting. The leader shares for 3-5 minutes\, followed by 2-minute timed shares.
URL:https://meetings.greysheet.org/meeting/beginners-daily-5/2026-08-27
CATEGORIES:Telephone or Audio
ATTACH;FMTTYPE=image/svg+xml:https://meetings.greysheet.org/wp-content/uploads/2025/05/phone.svg
LOCATION:Phone Number: 712 432 5229, PIN: Phone Bridge
END:VEVENT
BEGIN:VEVENT
DTSTART;TZID=America/New_York:20260903T170000
DTEND;TZID=America/New_York:20260903T173000
DTSTAMP:20260423T181650
CREATED:20250503T164142Z
LAST-MODIFIED:20251117T232508Z
UID:10053711-1788454800-1788456600@meetings.greysheet.org
SUMMARY:Beginners Daily THU
DESCRIPTION:This is a half hour GreySheet Beginner’s meeting. The leader shares for 3-5 minutes\, followed by 2-minute timed shares.
URL:https://meetings.greysheet.org/meeting/beginners-daily-5/2026-09-03
CATEGORIES:Telephone or Audio
ATTACH;FMTTYPE=image/svg+xml:https://meetings.greysheet.org/wp-content/uploads/2025/05/phone.svg
LOCATION:Phone Number: 712 432 5229, PIN: Phone Bridge
END:VEVENT
BEGIN:VEVENT
DTSTART;TZID=America/New_York:20260910T170000
DTEND;TZID=America/New_York:20260910T173000
DTSTAMP:20260423T181650
CREATED:20250503T164142Z
LAST-MODIFIED:20251117T232508Z
UID:10053712-1789059600-1789061400@meetings.greysheet.org
SUMMARY:Beginners Daily THU
DESCRIPTION:This is a half hour GreySheet Beginner’s meeting. The leader shares for 3-5 minutes\, followed by 2-minute timed shares.
URL:https://meetings.greysheet.org/meeting/beginners-daily-5/2026-09-10
CATEGORIES:Telephone or Audio
ATTACH;FMTTYPE=image/svg+xml:https://meetings.greysheet.org/wp-content/uploads/2025/05/phone.svg
LOCATION:Phone Number: 712 432 5229, PIN: Phone Bridge
END:VEVENT
BEGIN:VEVENT
DTSTART;TZID=America/New_York:20260917T170000
DTEND;TZID=America/New_York:20260917T173000
DTSTAMP:20260423T181650
CREATED:20250503T164142Z
LAST-MODIFIED:20251117T232508Z
UID:10053713-1789664400-1789666200@meetings.greysheet.org
SUMMARY:Beginners Daily THU
DESCRIPTION:This is a half hour GreySheet Beginner’s meeting. The leader shares for 3-5 minutes\, followed by 2-minute timed shares.
URL:https://meetings.greysheet.org/meeting/beginners-daily-5/2026-09-17
CATEGORIES:Telephone or Audio
ATTACH;FMTTYPE=image/svg+xml:https://meetings.greysheet.org/wp-content/uploads/2025/05/phone.svg
LOCATION:Phone Number: 712 432 5229, PIN: Phone Bridge
END:VEVENT
BEGIN:VEVENT
DTSTART;TZID=America/New_York:20260924T170000
DTEND;TZID=America/New_York:20260924T173000
DTSTAMP:20260423T181650
CREATED:20250503T164142Z
LAST-MODIFIED:20251117T232508Z
UID:10053714-1790269200-1790271000@meetings.greysheet.org
SUMMARY:Beginners Daily THU
DESCRIPTION:This is a half hour GreySheet Beginner’s meeting. The leader shares for 3-5 minutes\, followed by 2-minute timed shares.
URL:https://meetings.greysheet.org/meeting/beginners-daily-5/2026-09-24
CATEGORIES:Telephone or Audio
ATTACH;FMTTYPE=image/svg+xml:https://meetings.greysheet.org/wp-content/uploads/2025/05/phone.svg
LOCATION:Phone Number: 712 432 5229, PIN: Phone Bridge
END:VEVENT
BEGIN:VEVENT
DTSTART;TZID=America/New_York:20261001T170000
DTEND;TZID=America/New_York:20261001T173000
DTSTAMP:20260423T181650
CREATED:20250503T164142Z
LAST-MODIFIED:20251117T232508Z
UID:10053715-1790874000-1790875800@meetings.greysheet.org
SUMMARY:Beginners Daily THU
DESCRIPTION:This is a half hour GreySheet Beginner’s meeting. The leader shares for 3-5 minutes\, followed by 2-minute timed shares.
URL:https://meetings.greysheet.org/meeting/beginners-daily-5/2026-10-01
CATEGORIES:Telephone or Audio
ATTACH;FMTTYPE=image/svg+xml:https://meetings.greysheet.org/wp-content/uploads/2025/05/phone.svg
LOCATION:Phone Number: 712 432 5229, PIN: Phone Bridge
END:VEVENT
BEGIN:VEVENT
DTSTART;TZID=America/New_York:20261008T170000
DTEND;TZID=America/New_York:20261008T173000
DTSTAMP:20260423T181650
CREATED:20250503T164142Z
LAST-MODIFIED:20251117T232508Z
UID:10053716-1791478800-1791480600@meetings.greysheet.org
SUMMARY:Beginners Daily THU
DESCRIPTION:This is a half hour GreySheet Beginner’s meeting. The leader shares for 3-5 minutes\, followed by 2-minute timed shares.
URL:https://meetings.greysheet.org/meeting/beginners-daily-5/2026-10-08
CATEGORIES:Telephone or Audio
ATTACH;FMTTYPE=image/svg+xml:https://meetings.greysheet.org/wp-content/uploads/2025/05/phone.svg
LOCATION:Phone Number: 712 432 5229, PIN: Phone Bridge
END:VEVENT
BEGIN:VEVENT
DTSTART;TZID=America/New_York:20261015T170000
DTEND;TZID=America/New_York:20261015T173000
DTSTAMP:20260423T181650
CREATED:20250503T164142Z
LAST-MODIFIED:20251117T232508Z
UID:10053717-1792083600-1792085400@meetings.greysheet.org
SUMMARY:Beginners Daily THU
DESCRIPTION:This is a half hour GreySheet Beginner’s meeting. The leader shares for 3-5 minutes\, followed by 2-minute timed shares.
URL:https://meetings.greysheet.org/meeting/beginners-daily-5/2026-10-15
CATEGORIES:Telephone or Audio
ATTACH;FMTTYPE=image/svg+xml:https://meetings.greysheet.org/wp-content/uploads/2025/05/phone.svg
LOCATION:Phone Number: 712 432 5229, PIN: Phone Bridge
END:VEVENT
BEGIN:VEVENT
DTSTART;TZID=America/New_York:20261022T170000
DTEND;TZID=America/New_York:20261022T173000
DTSTAMP:20260423T181650
CREATED:20250503T164142Z
LAST-MODIFIED:20251117T232508Z
UID:10053718-1792688400-1792690200@meetings.greysheet.org
SUMMARY:Beginners Daily THU
DESCRIPTION:This is a half hour GreySheet Beginner’s meeting. The leader shares for 3-5 minutes\, followed by 2-minute timed shares.
URL:https://meetings.greysheet.org/meeting/beginners-daily-5/2026-10-22
CATEGORIES:Telephone or Audio
ATTACH;FMTTYPE=image/svg+xml:https://meetings.greysheet.org/wp-content/uploads/2025/05/phone.svg
LOCATION:Phone Number: 712 432 5229, PIN: Phone Bridge
END:VEVENT
BEGIN:VEVENT
DTSTART;TZID=America/New_York:20261029T170000
DTEND;TZID=America/New_York:20261029T173000
DTSTAMP:20260423T181650
CREATED:20250503T164142Z
LAST-MODIFIED:20251117T232508Z
UID:10053719-1793293200-1793295000@meetings.greysheet.org
SUMMARY:Beginners Daily THU
DESCRIPTION:This is a half hour GreySheet Beginner’s meeting. The leader shares for 3-5 minutes\, followed by 2-minute timed shares.
URL:https://meetings.greysheet.org/meeting/beginners-daily-5/2026-10-29
CATEGORIES:Telephone or Audio
ATTACH;FMTTYPE=image/svg+xml:https://meetings.greysheet.org/wp-content/uploads/2025/05/phone.svg
LOCATION:Phone Number: 712 432 5229, PIN: Phone Bridge
END:VEVENT
BEGIN:VEVENT
DTSTART;TZID=America/New_York:20261105T170000
DTEND;TZID=America/New_York:20261105T173000
DTSTAMP:20260423T181650
CREATED:20250503T164142Z
LAST-MODIFIED:20251117T232508Z
UID:10053720-1793898000-1793899800@meetings.greysheet.org
SUMMARY:Beginners Daily THU
DESCRIPTION:This is a half hour GreySheet Beginner’s meeting. The leader shares for 3-5 minutes\, followed by 2-minute timed shares.
URL:https://meetings.greysheet.org/meeting/beginners-daily-5/2026-11-05
CATEGORIES:Telephone or Audio
ATTACH;FMTTYPE=image/svg+xml:https://meetings.greysheet.org/wp-content/uploads/2025/05/phone.svg
LOCATION:Phone Number: 712 432 5229, PIN: Phone Bridge
END:VEVENT
BEGIN:VEVENT
DTSTART;TZID=America/New_York:20261112T170000
DTEND;TZID=America/New_York:20261112T173000
DTSTAMP:20260423T181650
CREATED:20250503T164142Z
LAST-MODIFIED:20251117T232508Z
UID:10053721-1794502800-1794504600@meetings.greysheet.org
SUMMARY:Beginners Daily THU
DESCRIPTION:This is a half hour GreySheet Beginner’s meeting. The leader shares for 3-5 minutes\, followed by 2-minute timed shares.
URL:https://meetings.greysheet.org/meeting/beginners-daily-5/2026-11-12
CATEGORIES:Telephone or Audio
ATTACH;FMTTYPE=image/svg+xml:https://meetings.greysheet.org/wp-content/uploads/2025/05/phone.svg
LOCATION:Phone Number: 712 432 5229, PIN: Phone Bridge
END:VEVENT
BEGIN:VEVENT
DTSTART;TZID=America/New_York:20261119T170000
DTEND;TZID=America/New_York:20261119T173000
DTSTAMP:20260423T181650
CREATED:20250503T164142Z
LAST-MODIFIED:20251117T232508Z
UID:10053722-1795107600-1795109400@meetings.greysheet.org
SUMMARY:Beginners Daily THU
DESCRIPTION:This is a half hour GreySheet Beginner’s meeting. The leader shares for 3-5 minutes\, followed by 2-minute timed shares.
URL:https://meetings.greysheet.org/meeting/beginners-daily-5/2026-11-19
CATEGORIES:Telephone or Audio
ATTACH;FMTTYPE=image/svg+xml:https://meetings.greysheet.org/wp-content/uploads/2025/05/phone.svg
LOCATION:Phone Number: 712 432 5229, PIN: Phone Bridge
END:VEVENT
BEGIN:VEVENT
DTSTART;TZID=America/New_York:20261126T170000
DTEND;TZID=America/New_York:20261126T173000
DTSTAMP:20260423T181650
CREATED:20250503T164142Z
LAST-MODIFIED:20251117T232508Z
UID:10053723-1795712400-1795714200@meetings.greysheet.org
SUMMARY:Beginners Daily THU
DESCRIPTION:This is a half hour GreySheet Beginner’s meeting. The leader shares for 3-5 minutes\, followed by 2-minute timed shares.
URL:https://meetings.greysheet.org/meeting/beginners-daily-5/2026-11-26
CATEGORIES:Telephone or Audio
ATTACH;FMTTYPE=image/svg+xml:https://meetings.greysheet.org/wp-content/uploads/2025/05/phone.svg
LOCATION:Phone Number: 712 432 5229, PIN: Phone Bridge
END:VEVENT
BEGIN:VEVENT
DTSTART;TZID=America/New_York:20261203T170000
DTEND;TZID=America/New_York:20261203T173000
DTSTAMP:20260423T181650
CREATED:20250503T164142Z
LAST-MODIFIED:20251117T232508Z
UID:10053724-1796317200-1796319000@meetings.greysheet.org
SUMMARY:Beginners Daily THU
DESCRIPTION:This is a half hour GreySheet Beginner’s meeting. The leader shares for 3-5 minutes\, followed by 2-minute timed shares.
URL:https://meetings.greysheet.org/meeting/beginners-daily-5/2026-12-03
CATEGORIES:Telephone or Audio
ATTACH;FMTTYPE=image/svg+xml:https://meetings.greysheet.org/wp-content/uploads/2025/05/phone.svg
LOCATION:Phone Number: 712 432 5229, PIN: Phone Bridge
END:VEVENT
BEGIN:VEVENT
DTSTART;TZID=America/New_York:20261210T170000
DTEND;TZID=America/New_York:20261210T173000
DTSTAMP:20260423T181650
CREATED:20250503T164142Z
LAST-MODIFIED:20251117T232508Z
UID:10053725-1796922000-1796923800@meetings.greysheet.org
SUMMARY:Beginners Daily THU
DESCRIPTION:This is a half hour GreySheet Beginner’s meeting. The leader shares for 3-5 minutes\, followed by 2-minute timed shares.
URL:https://meetings.greysheet.org/meeting/beginners-daily-5/2026-12-10
CATEGORIES:Telephone or Audio
ATTACH;FMTTYPE=image/svg+xml:https://meetings.greysheet.org/wp-content/uploads/2025/05/phone.svg
LOCATION:Phone Number: 712 432 5229, PIN: Phone Bridge
END:VEVENT
BEGIN:VEVENT
DTSTART;TZID=America/New_York:20261217T170000
DTEND;TZID=America/New_York:20261217T173000
DTSTAMP:20260423T181650
CREATED:20250503T164142Z
LAST-MODIFIED:20251117T232508Z
UID:10053726-1797526800-1797528600@meetings.greysheet.org
SUMMARY:Beginners Daily THU
DESCRIPTION:This is a half hour GreySheet Beginner’s meeting. The leader shares for 3-5 minutes\, followed by 2-minute timed shares.
URL:https://meetings.greysheet.org/meeting/beginners-daily-5/2026-12-17
CATEGORIES:Telephone or Audio
ATTACH;FMTTYPE=image/svg+xml:https://meetings.greysheet.org/wp-content/uploads/2025/05/phone.svg
LOCATION:Phone Number: 712 432 5229, PIN: Phone Bridge
END:VEVENT
BEGIN:VEVENT
DTSTART;TZID=America/New_York:20261224T170000
DTEND;TZID=America/New_York:20261224T173000
DTSTAMP:20260423T181650
CREATED:20250503T164142Z
LAST-MODIFIED:20251117T232508Z
UID:10053727-1798131600-1798133400@meetings.greysheet.org
SUMMARY:Beginners Daily THU
DESCRIPTION:This is a half hour GreySheet Beginner’s meeting. The leader shares for 3-5 minutes\, followed by 2-minute timed shares.
URL:https://meetings.greysheet.org/meeting/beginners-daily-5/2026-12-24
CATEGORIES:Telephone or Audio
ATTACH;FMTTYPE=image/svg+xml:https://meetings.greysheet.org/wp-content/uploads/2025/05/phone.svg
LOCATION:Phone Number: 712 432 5229, PIN: Phone Bridge
END:VEVENT
BEGIN:VEVENT
DTSTART;TZID=America/New_York:20261231T170000
DTEND;TZID=America/New_York:20261231T173000
DTSTAMP:20260423T181650
CREATED:20250503T164142Z
LAST-MODIFIED:20251117T232508Z
UID:10053728-1798736400-1798738200@meetings.greysheet.org
SUMMARY:Beginners Daily THU
DESCRIPTION:This is a half hour GreySheet Beginner’s meeting. The leader shares for 3-5 minutes\, followed by 2-minute timed shares.
URL:https://meetings.greysheet.org/meeting/beginners-daily-5/2026-12-31
CATEGORIES:Telephone or Audio
ATTACH;FMTTYPE=image/svg+xml:https://meetings.greysheet.org/wp-content/uploads/2025/05/phone.svg
LOCATION:Phone Number: 712 432 5229, PIN: Phone Bridge
END:VEVENT
BEGIN:VEVENT
DTSTART;TZID=America/New_York:20270107T170000
DTEND;TZID=America/New_York:20270107T173000
DTSTAMP:20260423T181650
CREATED:20250503T164142Z
LAST-MODIFIED:20251117T232508Z
UID:10053729-1799341200-1799343000@meetings.greysheet.org
SUMMARY:Beginners Daily THU
DESCRIPTION:This is a half hour GreySheet Beginner’s meeting. The leader shares for 3-5 minutes\, followed by 2-minute timed shares.
URL:https://meetings.greysheet.org/meeting/beginners-daily-5/2027-01-07
CATEGORIES:Telephone or Audio
ATTACH;FMTTYPE=image/svg+xml:https://meetings.greysheet.org/wp-content/uploads/2025/05/phone.svg
LOCATION:Phone Number: 712 432 5229, PIN: Phone Bridge
END:VEVENT
BEGIN:VEVENT
DTSTART;TZID=America/New_York:20270114T170000
DTEND;TZID=America/New_York:20270114T173000
DTSTAMP:20260423T181650
CREATED:20250503T164142Z
LAST-MODIFIED:20251117T232508Z
UID:10053730-1799946000-1799947800@meetings.greysheet.org
SUMMARY:Beginners Daily THU
DESCRIPTION:This is a half hour GreySheet Beginner’s meeting. The leader shares for 3-5 minutes\, followed by 2-minute timed shares.
URL:https://meetings.greysheet.org/meeting/beginners-daily-5/2027-01-14
CATEGORIES:Telephone or Audio
ATTACH;FMTTYPE=image/svg+xml:https://meetings.greysheet.org/wp-content/uploads/2025/05/phone.svg
LOCATION:Phone Number: 712 432 5229, PIN: Phone Bridge
END:VEVENT
BEGIN:VEVENT
DTSTART;TZID=America/New_York:20270121T170000
DTEND;TZID=America/New_York:20270121T173000
DTSTAMP:20260423T181650
CREATED:20250503T164142Z
LAST-MODIFIED:20251117T232508Z
UID:10053731-1800550800-1800552600@meetings.greysheet.org
SUMMARY:Beginners Daily THU
DESCRIPTION:This is a half hour GreySheet Beginner’s meeting. The leader shares for 3-5 minutes\, followed by 2-minute timed shares.
URL:https://meetings.greysheet.org/meeting/beginners-daily-5/2027-01-21
CATEGORIES:Telephone or Audio
ATTACH;FMTTYPE=image/svg+xml:https://meetings.greysheet.org/wp-content/uploads/2025/05/phone.svg
LOCATION:Phone Number: 712 432 5229, PIN: Phone Bridge
END:VEVENT
BEGIN:VEVENT
DTSTART;TZID=America/New_York:20270128T170000
DTEND;TZID=America/New_York:20270128T173000
DTSTAMP:20260423T181650
CREATED:20250503T164142Z
LAST-MODIFIED:20251117T232508Z
UID:10053732-1801155600-1801157400@meetings.greysheet.org
SUMMARY:Beginners Daily THU
DESCRIPTION:This is a half hour GreySheet Beginner’s meeting. The leader shares for 3-5 minutes\, followed by 2-minute timed shares.
URL:https://meetings.greysheet.org/meeting/beginners-daily-5/2027-01-28
CATEGORIES:Telephone or Audio
ATTACH;FMTTYPE=image/svg+xml:https://meetings.greysheet.org/wp-content/uploads/2025/05/phone.svg
LOCATION:Phone Number: 712 432 5229, PIN: Phone Bridge
END:VEVENT
BEGIN:VEVENT
DTSTART;TZID=America/New_York:20270204T170000
DTEND;TZID=America/New_York:20270204T173000
DTSTAMP:20260423T181650
CREATED:20250503T164142Z
LAST-MODIFIED:20251117T232508Z
UID:10053733-1801760400-1801762200@meetings.greysheet.org
SUMMARY:Beginners Daily THU
DESCRIPTION:This is a half hour GreySheet Beginner’s meeting. The leader shares for 3-5 minutes\, followed by 2-minute timed shares.
URL:https://meetings.greysheet.org/meeting/beginners-daily-5/2027-02-04
CATEGORIES:Telephone or Audio
ATTACH;FMTTYPE=image/svg+xml:https://meetings.greysheet.org/wp-content/uploads/2025/05/phone.svg
LOCATION:Phone Number: 712 432 5229, PIN: Phone Bridge
END:VEVENT
END:VCALENDAR