BEGIN:VCALENDAR
VERSION:2.0
PRODID:-//GreySheeters Anonymous World Services - ECPv6.15.20//NONSGML v1.0//EN
CALSCALE:GREGORIAN
METHOD:PUBLISH
X-WR-CALNAME:GreySheeters Anonymous World Services
X-ORIGINAL-URL:https://meetings.greysheet.org
X-WR-CALDESC:Events for GreySheeters Anonymous World Services
REFRESH-INTERVAL;VALUE=DURATION:PT1H
X-Robots-Tag:noindex
X-PUBLISHED-TTL:PT1H
BEGIN:VTIMEZONE
TZID:America/New_York
BEGIN:DAYLIGHT
TZOFFSETFROM:-0500
TZOFFSETTO:-0400
TZNAME:EDT
DTSTART:20250309T070000
END:DAYLIGHT
BEGIN:STANDARD
TZOFFSETFROM:-0400
TZOFFSETTO:-0500
TZNAME:EST
DTSTART:20251102T060000
END:STANDARD
BEGIN:DAYLIGHT
TZOFFSETFROM:-0500
TZOFFSETTO:-0400
TZNAME:EDT
DTSTART:20260308T070000
END:DAYLIGHT
BEGIN:STANDARD
TZOFFSETFROM:-0400
TZOFFSETTO:-0500
TZNAME:EST
DTSTART:20261101T060000
END:STANDARD
BEGIN:DAYLIGHT
TZOFFSETFROM:-0500
TZOFFSETTO:-0400
TZNAME:EDT
DTSTART:20270314T070000
END:DAYLIGHT
BEGIN:STANDARD
TZOFFSETFROM:-0400
TZOFFSETTO:-0500
TZNAME:EST
DTSTART:20271107T060000
END:STANDARD
BEGIN:DAYLIGHT
TZOFFSETFROM:-0500
TZOFFSETTO:-0400
TZNAME:EDT
DTSTART:20280312T070000
END:DAYLIGHT
BEGIN:STANDARD
TZOFFSETFROM:-0400
TZOFFSETTO:-0500
TZNAME:EST
DTSTART:20281105T060000
END:STANDARD
END:VTIMEZONE
BEGIN:VEVENT
DTSTART;TZID=America/New_York:20260718T090000
DTEND;TZID=America/New_York:20260718T093000
DTSTAMP:20260420T201116
CREATED:20250503T164152Z
LAST-MODIFIED:20260212T172836Z
UID:10051580-1784365200-1784367000@meetings.greysheet.org
SUMMARY:RelapseRecovery SAT 9am
DESCRIPTION:Half-hour meeting focused on recovery from relapse. 5 minute qualification followed by sharing.
URL:https://meetings.greysheet.org/meeting/relapserecovery-sat-9am/2026-07-18
CATEGORIES:Telephone or Audio
ATTACH;FMTTYPE=image/svg+xml:https://meetings.greysheet.org/wp-content/uploads/2025/05/phone.svg
LOCATION:Phone Number: 712 432 5229, PIN: Phone Bridge
END:VEVENT
BEGIN:VEVENT
DTSTART;TZID=America/New_York:20260725T090000
DTEND;TZID=America/New_York:20260725T093000
DTSTAMP:20260420T201116
CREATED:20250503T164152Z
LAST-MODIFIED:20260212T172836Z
UID:10051581-1784970000-1784971800@meetings.greysheet.org
SUMMARY:RelapseRecovery SAT 9am
DESCRIPTION:Half-hour meeting focused on recovery from relapse. 5 minute qualification followed by sharing.
URL:https://meetings.greysheet.org/meeting/relapserecovery-sat-9am/2026-07-25
CATEGORIES:Telephone or Audio
ATTACH;FMTTYPE=image/svg+xml:https://meetings.greysheet.org/wp-content/uploads/2025/05/phone.svg
LOCATION:Phone Number: 712 432 5229, PIN: Phone Bridge
END:VEVENT
BEGIN:VEVENT
DTSTART;TZID=America/New_York:20260801T090000
DTEND;TZID=America/New_York:20260801T093000
DTSTAMP:20260420T201116
CREATED:20250503T164152Z
LAST-MODIFIED:20260212T172836Z
UID:10051582-1785574800-1785576600@meetings.greysheet.org
SUMMARY:RelapseRecovery SAT 9am
DESCRIPTION:Half-hour meeting focused on recovery from relapse. 5 minute qualification followed by sharing.
URL:https://meetings.greysheet.org/meeting/relapserecovery-sat-9am/2026-08-01
CATEGORIES:Telephone or Audio
ATTACH;FMTTYPE=image/svg+xml:https://meetings.greysheet.org/wp-content/uploads/2025/05/phone.svg
LOCATION:Phone Number: 712 432 5229, PIN: Phone Bridge
END:VEVENT
BEGIN:VEVENT
DTSTART;TZID=America/New_York:20260808T090000
DTEND;TZID=America/New_York:20260808T093000
DTSTAMP:20260420T201116
CREATED:20250503T164152Z
LAST-MODIFIED:20260212T172836Z
UID:10051583-1786179600-1786181400@meetings.greysheet.org
SUMMARY:RelapseRecovery SAT 9am
DESCRIPTION:Half-hour meeting focused on recovery from relapse. 5 minute qualification followed by sharing.
URL:https://meetings.greysheet.org/meeting/relapserecovery-sat-9am/2026-08-08
CATEGORIES:Telephone or Audio
ATTACH;FMTTYPE=image/svg+xml:https://meetings.greysheet.org/wp-content/uploads/2025/05/phone.svg
LOCATION:Phone Number: 712 432 5229, PIN: Phone Bridge
END:VEVENT
BEGIN:VEVENT
DTSTART;TZID=America/New_York:20260815T090000
DTEND;TZID=America/New_York:20260815T093000
DTSTAMP:20260420T201116
CREATED:20250503T164152Z
LAST-MODIFIED:20260212T172836Z
UID:10051584-1786784400-1786786200@meetings.greysheet.org
SUMMARY:RelapseRecovery SAT 9am
DESCRIPTION:Half-hour meeting focused on recovery from relapse. 5 minute qualification followed by sharing.
URL:https://meetings.greysheet.org/meeting/relapserecovery-sat-9am/2026-08-15
CATEGORIES:Telephone or Audio
ATTACH;FMTTYPE=image/svg+xml:https://meetings.greysheet.org/wp-content/uploads/2025/05/phone.svg
LOCATION:Phone Number: 712 432 5229, PIN: Phone Bridge
END:VEVENT
BEGIN:VEVENT
DTSTART;TZID=America/New_York:20260822T090000
DTEND;TZID=America/New_York:20260822T093000
DTSTAMP:20260420T201116
CREATED:20250503T164152Z
LAST-MODIFIED:20260212T172836Z
UID:10051585-1787389200-1787391000@meetings.greysheet.org
SUMMARY:RelapseRecovery SAT 9am
DESCRIPTION:Half-hour meeting focused on recovery from relapse. 5 minute qualification followed by sharing.
URL:https://meetings.greysheet.org/meeting/relapserecovery-sat-9am/2026-08-22
CATEGORIES:Telephone or Audio
ATTACH;FMTTYPE=image/svg+xml:https://meetings.greysheet.org/wp-content/uploads/2025/05/phone.svg
LOCATION:Phone Number: 712 432 5229, PIN: Phone Bridge
END:VEVENT
BEGIN:VEVENT
DTSTART;TZID=America/New_York:20260829T090000
DTEND;TZID=America/New_York:20260829T093000
DTSTAMP:20260420T201116
CREATED:20250503T164152Z
LAST-MODIFIED:20260212T172836Z
UID:10051586-1787994000-1787995800@meetings.greysheet.org
SUMMARY:RelapseRecovery SAT 9am
DESCRIPTION:Half-hour meeting focused on recovery from relapse. 5 minute qualification followed by sharing.
URL:https://meetings.greysheet.org/meeting/relapserecovery-sat-9am/2026-08-29
CATEGORIES:Telephone or Audio
ATTACH;FMTTYPE=image/svg+xml:https://meetings.greysheet.org/wp-content/uploads/2025/05/phone.svg
LOCATION:Phone Number: 712 432 5229, PIN: Phone Bridge
END:VEVENT
BEGIN:VEVENT
DTSTART;TZID=America/New_York:20260905T090000
DTEND;TZID=America/New_York:20260905T093000
DTSTAMP:20260420T201116
CREATED:20250503T164152Z
LAST-MODIFIED:20260212T172836Z
UID:10051587-1788598800-1788600600@meetings.greysheet.org
SUMMARY:RelapseRecovery SAT 9am
DESCRIPTION:Half-hour meeting focused on recovery from relapse. 5 minute qualification followed by sharing.
URL:https://meetings.greysheet.org/meeting/relapserecovery-sat-9am/2026-09-05
CATEGORIES:Telephone or Audio
ATTACH;FMTTYPE=image/svg+xml:https://meetings.greysheet.org/wp-content/uploads/2025/05/phone.svg
LOCATION:Phone Number: 712 432 5229, PIN: Phone Bridge
END:VEVENT
BEGIN:VEVENT
DTSTART;TZID=America/New_York:20260912T090000
DTEND;TZID=America/New_York:20260912T093000
DTSTAMP:20260420T201116
CREATED:20250503T164152Z
LAST-MODIFIED:20260212T172836Z
UID:10051588-1789203600-1789205400@meetings.greysheet.org
SUMMARY:RelapseRecovery SAT 9am
DESCRIPTION:Half-hour meeting focused on recovery from relapse. 5 minute qualification followed by sharing.
URL:https://meetings.greysheet.org/meeting/relapserecovery-sat-9am/2026-09-12
CATEGORIES:Telephone or Audio
ATTACH;FMTTYPE=image/svg+xml:https://meetings.greysheet.org/wp-content/uploads/2025/05/phone.svg
LOCATION:Phone Number: 712 432 5229, PIN: Phone Bridge
END:VEVENT
BEGIN:VEVENT
DTSTART;TZID=America/New_York:20260919T090000
DTEND;TZID=America/New_York:20260919T093000
DTSTAMP:20260420T201116
CREATED:20250503T164152Z
LAST-MODIFIED:20260212T172836Z
UID:10051589-1789808400-1789810200@meetings.greysheet.org
SUMMARY:RelapseRecovery SAT 9am
DESCRIPTION:Half-hour meeting focused on recovery from relapse. 5 minute qualification followed by sharing.
URL:https://meetings.greysheet.org/meeting/relapserecovery-sat-9am/2026-09-19
CATEGORIES:Telephone or Audio
ATTACH;FMTTYPE=image/svg+xml:https://meetings.greysheet.org/wp-content/uploads/2025/05/phone.svg
LOCATION:Phone Number: 712 432 5229, PIN: Phone Bridge
END:VEVENT
BEGIN:VEVENT
DTSTART;TZID=America/New_York:20260926T090000
DTEND;TZID=America/New_York:20260926T093000
DTSTAMP:20260420T201116
CREATED:20250503T164152Z
LAST-MODIFIED:20260212T172836Z
UID:10051590-1790413200-1790415000@meetings.greysheet.org
SUMMARY:RelapseRecovery SAT 9am
DESCRIPTION:Half-hour meeting focused on recovery from relapse. 5 minute qualification followed by sharing.
URL:https://meetings.greysheet.org/meeting/relapserecovery-sat-9am/2026-09-26
CATEGORIES:Telephone or Audio
ATTACH;FMTTYPE=image/svg+xml:https://meetings.greysheet.org/wp-content/uploads/2025/05/phone.svg
LOCATION:Phone Number: 712 432 5229, PIN: Phone Bridge
END:VEVENT
BEGIN:VEVENT
DTSTART;TZID=America/New_York:20261003T090000
DTEND;TZID=America/New_York:20261003T093000
DTSTAMP:20260420T201116
CREATED:20250503T164152Z
LAST-MODIFIED:20260212T172836Z
UID:10051591-1791018000-1791019800@meetings.greysheet.org
SUMMARY:RelapseRecovery SAT 9am
DESCRIPTION:Half-hour meeting focused on recovery from relapse. 5 minute qualification followed by sharing.
URL:https://meetings.greysheet.org/meeting/relapserecovery-sat-9am/2026-10-03
CATEGORIES:Telephone or Audio
ATTACH;FMTTYPE=image/svg+xml:https://meetings.greysheet.org/wp-content/uploads/2025/05/phone.svg
LOCATION:Phone Number: 712 432 5229, PIN: Phone Bridge
END:VEVENT
BEGIN:VEVENT
DTSTART;TZID=America/New_York:20261010T090000
DTEND;TZID=America/New_York:20261010T093000
DTSTAMP:20260420T201116
CREATED:20250503T164152Z
LAST-MODIFIED:20260212T172836Z
UID:10051592-1791622800-1791624600@meetings.greysheet.org
SUMMARY:RelapseRecovery SAT 9am
DESCRIPTION:Half-hour meeting focused on recovery from relapse. 5 minute qualification followed by sharing.
URL:https://meetings.greysheet.org/meeting/relapserecovery-sat-9am/2026-10-10
CATEGORIES:Telephone or Audio
ATTACH;FMTTYPE=image/svg+xml:https://meetings.greysheet.org/wp-content/uploads/2025/05/phone.svg
LOCATION:Phone Number: 712 432 5229, PIN: Phone Bridge
END:VEVENT
BEGIN:VEVENT
DTSTART;TZID=America/New_York:20261017T090000
DTEND;TZID=America/New_York:20261017T093000
DTSTAMP:20260420T201116
CREATED:20250503T164152Z
LAST-MODIFIED:20260212T172836Z
UID:10051593-1792227600-1792229400@meetings.greysheet.org
SUMMARY:RelapseRecovery SAT 9am
DESCRIPTION:Half-hour meeting focused on recovery from relapse. 5 minute qualification followed by sharing.
URL:https://meetings.greysheet.org/meeting/relapserecovery-sat-9am/2026-10-17
CATEGORIES:Telephone or Audio
ATTACH;FMTTYPE=image/svg+xml:https://meetings.greysheet.org/wp-content/uploads/2025/05/phone.svg
LOCATION:Phone Number: 712 432 5229, PIN: Phone Bridge
END:VEVENT
BEGIN:VEVENT
DTSTART;TZID=America/New_York:20261024T090000
DTEND;TZID=America/New_York:20261024T093000
DTSTAMP:20260420T201116
CREATED:20250503T164152Z
LAST-MODIFIED:20260212T172836Z
UID:10051594-1792832400-1792834200@meetings.greysheet.org
SUMMARY:RelapseRecovery SAT 9am
DESCRIPTION:Half-hour meeting focused on recovery from relapse. 5 minute qualification followed by sharing.
URL:https://meetings.greysheet.org/meeting/relapserecovery-sat-9am/2026-10-24
CATEGORIES:Telephone or Audio
ATTACH;FMTTYPE=image/svg+xml:https://meetings.greysheet.org/wp-content/uploads/2025/05/phone.svg
LOCATION:Phone Number: 712 432 5229, PIN: Phone Bridge
END:VEVENT
BEGIN:VEVENT
DTSTART;TZID=America/New_York:20261031T090000
DTEND;TZID=America/New_York:20261031T093000
DTSTAMP:20260420T201116
CREATED:20250503T164152Z
LAST-MODIFIED:20260212T172836Z
UID:10051595-1793437200-1793439000@meetings.greysheet.org
SUMMARY:RelapseRecovery SAT 9am
DESCRIPTION:Half-hour meeting focused on recovery from relapse. 5 minute qualification followed by sharing.
URL:https://meetings.greysheet.org/meeting/relapserecovery-sat-9am/2026-10-31
CATEGORIES:Telephone or Audio
ATTACH;FMTTYPE=image/svg+xml:https://meetings.greysheet.org/wp-content/uploads/2025/05/phone.svg
LOCATION:Phone Number: 712 432 5229, PIN: Phone Bridge
END:VEVENT
BEGIN:VEVENT
DTSTART;TZID=America/New_York:20261107T090000
DTEND;TZID=America/New_York:20261107T093000
DTSTAMP:20260420T201116
CREATED:20250503T164152Z
LAST-MODIFIED:20260212T172836Z
UID:10051596-1794042000-1794043800@meetings.greysheet.org
SUMMARY:RelapseRecovery SAT 9am
DESCRIPTION:Half-hour meeting focused on recovery from relapse. 5 minute qualification followed by sharing.
URL:https://meetings.greysheet.org/meeting/relapserecovery-sat-9am/2026-11-07
CATEGORIES:Telephone or Audio
ATTACH;FMTTYPE=image/svg+xml:https://meetings.greysheet.org/wp-content/uploads/2025/05/phone.svg
LOCATION:Phone Number: 712 432 5229, PIN: Phone Bridge
END:VEVENT
BEGIN:VEVENT
DTSTART;TZID=America/New_York:20261114T090000
DTEND;TZID=America/New_York:20261114T093000
DTSTAMP:20260420T201116
CREATED:20250503T164152Z
LAST-MODIFIED:20260212T172836Z
UID:10051597-1794646800-1794648600@meetings.greysheet.org
SUMMARY:RelapseRecovery SAT 9am
DESCRIPTION:Half-hour meeting focused on recovery from relapse. 5 minute qualification followed by sharing.
URL:https://meetings.greysheet.org/meeting/relapserecovery-sat-9am/2026-11-14
CATEGORIES:Telephone or Audio
ATTACH;FMTTYPE=image/svg+xml:https://meetings.greysheet.org/wp-content/uploads/2025/05/phone.svg
LOCATION:Phone Number: 712 432 5229, PIN: Phone Bridge
END:VEVENT
BEGIN:VEVENT
DTSTART;TZID=America/New_York:20261121T090000
DTEND;TZID=America/New_York:20261121T093000
DTSTAMP:20260420T201116
CREATED:20250503T164152Z
LAST-MODIFIED:20260212T172836Z
UID:10051598-1795251600-1795253400@meetings.greysheet.org
SUMMARY:RelapseRecovery SAT 9am
DESCRIPTION:Half-hour meeting focused on recovery from relapse. 5 minute qualification followed by sharing.
URL:https://meetings.greysheet.org/meeting/relapserecovery-sat-9am/2026-11-21
CATEGORIES:Telephone or Audio
ATTACH;FMTTYPE=image/svg+xml:https://meetings.greysheet.org/wp-content/uploads/2025/05/phone.svg
LOCATION:Phone Number: 712 432 5229, PIN: Phone Bridge
END:VEVENT
BEGIN:VEVENT
DTSTART;TZID=America/New_York:20261128T090000
DTEND;TZID=America/New_York:20261128T093000
DTSTAMP:20260420T201116
CREATED:20250503T164152Z
LAST-MODIFIED:20260212T172836Z
UID:10051599-1795856400-1795858200@meetings.greysheet.org
SUMMARY:RelapseRecovery SAT 9am
DESCRIPTION:Half-hour meeting focused on recovery from relapse. 5 minute qualification followed by sharing.
URL:https://meetings.greysheet.org/meeting/relapserecovery-sat-9am/2026-11-28
CATEGORIES:Telephone or Audio
ATTACH;FMTTYPE=image/svg+xml:https://meetings.greysheet.org/wp-content/uploads/2025/05/phone.svg
LOCATION:Phone Number: 712 432 5229, PIN: Phone Bridge
END:VEVENT
BEGIN:VEVENT
DTSTART;TZID=America/New_York:20261205T090000
DTEND;TZID=America/New_York:20261205T093000
DTSTAMP:20260420T201116
CREATED:20250503T164152Z
LAST-MODIFIED:20260212T172836Z
UID:10051600-1796461200-1796463000@meetings.greysheet.org
SUMMARY:RelapseRecovery SAT 9am
DESCRIPTION:Half-hour meeting focused on recovery from relapse. 5 minute qualification followed by sharing.
URL:https://meetings.greysheet.org/meeting/relapserecovery-sat-9am/2026-12-05
CATEGORIES:Telephone or Audio
ATTACH;FMTTYPE=image/svg+xml:https://meetings.greysheet.org/wp-content/uploads/2025/05/phone.svg
LOCATION:Phone Number: 712 432 5229, PIN: Phone Bridge
END:VEVENT
BEGIN:VEVENT
DTSTART;TZID=America/New_York:20261212T090000
DTEND;TZID=America/New_York:20261212T093000
DTSTAMP:20260420T201116
CREATED:20250503T164152Z
LAST-MODIFIED:20260212T172836Z
UID:10051601-1797066000-1797067800@meetings.greysheet.org
SUMMARY:RelapseRecovery SAT 9am
DESCRIPTION:Half-hour meeting focused on recovery from relapse. 5 minute qualification followed by sharing.
URL:https://meetings.greysheet.org/meeting/relapserecovery-sat-9am/2026-12-12
CATEGORIES:Telephone or Audio
ATTACH;FMTTYPE=image/svg+xml:https://meetings.greysheet.org/wp-content/uploads/2025/05/phone.svg
LOCATION:Phone Number: 712 432 5229, PIN: Phone Bridge
END:VEVENT
BEGIN:VEVENT
DTSTART;TZID=America/New_York:20261219T090000
DTEND;TZID=America/New_York:20261219T093000
DTSTAMP:20260420T201116
CREATED:20250503T164152Z
LAST-MODIFIED:20260212T172836Z
UID:10051602-1797670800-1797672600@meetings.greysheet.org
SUMMARY:RelapseRecovery SAT 9am
DESCRIPTION:Half-hour meeting focused on recovery from relapse. 5 minute qualification followed by sharing.
URL:https://meetings.greysheet.org/meeting/relapserecovery-sat-9am/2026-12-19
CATEGORIES:Telephone or Audio
ATTACH;FMTTYPE=image/svg+xml:https://meetings.greysheet.org/wp-content/uploads/2025/05/phone.svg
LOCATION:Phone Number: 712 432 5229, PIN: Phone Bridge
END:VEVENT
BEGIN:VEVENT
DTSTART;TZID=America/New_York:20261226T090000
DTEND;TZID=America/New_York:20261226T093000
DTSTAMP:20260420T201116
CREATED:20250503T164152Z
LAST-MODIFIED:20260212T172836Z
UID:10051603-1798275600-1798277400@meetings.greysheet.org
SUMMARY:RelapseRecovery SAT 9am
DESCRIPTION:Half-hour meeting focused on recovery from relapse. 5 minute qualification followed by sharing.
URL:https://meetings.greysheet.org/meeting/relapserecovery-sat-9am/2026-12-26
CATEGORIES:Telephone or Audio
ATTACH;FMTTYPE=image/svg+xml:https://meetings.greysheet.org/wp-content/uploads/2025/05/phone.svg
LOCATION:Phone Number: 712 432 5229, PIN: Phone Bridge
END:VEVENT
BEGIN:VEVENT
DTSTART;TZID=America/New_York:20270102T090000
DTEND;TZID=America/New_York:20270102T093000
DTSTAMP:20260420T201116
CREATED:20250503T164152Z
LAST-MODIFIED:20260212T172836Z
UID:10051604-1798880400-1798882200@meetings.greysheet.org
SUMMARY:RelapseRecovery SAT 9am
DESCRIPTION:Half-hour meeting focused on recovery from relapse. 5 minute qualification followed by sharing.
URL:https://meetings.greysheet.org/meeting/relapserecovery-sat-9am/2027-01-02
CATEGORIES:Telephone or Audio
ATTACH;FMTTYPE=image/svg+xml:https://meetings.greysheet.org/wp-content/uploads/2025/05/phone.svg
LOCATION:Phone Number: 712 432 5229, PIN: Phone Bridge
END:VEVENT
BEGIN:VEVENT
DTSTART;TZID=America/New_York:20270109T090000
DTEND;TZID=America/New_York:20270109T093000
DTSTAMP:20260420T201116
CREATED:20250503T164152Z
LAST-MODIFIED:20260212T172836Z
UID:10051605-1799485200-1799487000@meetings.greysheet.org
SUMMARY:RelapseRecovery SAT 9am
DESCRIPTION:Half-hour meeting focused on recovery from relapse. 5 minute qualification followed by sharing.
URL:https://meetings.greysheet.org/meeting/relapserecovery-sat-9am/2027-01-09
CATEGORIES:Telephone or Audio
ATTACH;FMTTYPE=image/svg+xml:https://meetings.greysheet.org/wp-content/uploads/2025/05/phone.svg
LOCATION:Phone Number: 712 432 5229, PIN: Phone Bridge
END:VEVENT
BEGIN:VEVENT
DTSTART;TZID=America/New_York:20270116T090000
DTEND;TZID=America/New_York:20270116T093000
DTSTAMP:20260420T201116
CREATED:20250503T164152Z
LAST-MODIFIED:20260212T172836Z
UID:10051606-1800090000-1800091800@meetings.greysheet.org
SUMMARY:RelapseRecovery SAT 9am
DESCRIPTION:Half-hour meeting focused on recovery from relapse. 5 minute qualification followed by sharing.
URL:https://meetings.greysheet.org/meeting/relapserecovery-sat-9am/2027-01-16
CATEGORIES:Telephone or Audio
ATTACH;FMTTYPE=image/svg+xml:https://meetings.greysheet.org/wp-content/uploads/2025/05/phone.svg
LOCATION:Phone Number: 712 432 5229, PIN: Phone Bridge
END:VEVENT
BEGIN:VEVENT
DTSTART;TZID=America/New_York:20270123T090000
DTEND;TZID=America/New_York:20270123T093000
DTSTAMP:20260420T201116
CREATED:20250503T164152Z
LAST-MODIFIED:20260212T172836Z
UID:10051607-1800694800-1800696600@meetings.greysheet.org
SUMMARY:RelapseRecovery SAT 9am
DESCRIPTION:Half-hour meeting focused on recovery from relapse. 5 minute qualification followed by sharing.
URL:https://meetings.greysheet.org/meeting/relapserecovery-sat-9am/2027-01-23
CATEGORIES:Telephone or Audio
ATTACH;FMTTYPE=image/svg+xml:https://meetings.greysheet.org/wp-content/uploads/2025/05/phone.svg
LOCATION:Phone Number: 712 432 5229, PIN: Phone Bridge
END:VEVENT
BEGIN:VEVENT
DTSTART;TZID=America/New_York:20270130T090000
DTEND;TZID=America/New_York:20270130T093000
DTSTAMP:20260420T201116
CREATED:20250503T164152Z
LAST-MODIFIED:20260212T172836Z
UID:10051608-1801299600-1801301400@meetings.greysheet.org
SUMMARY:RelapseRecovery SAT 9am
DESCRIPTION:Half-hour meeting focused on recovery from relapse. 5 minute qualification followed by sharing.
URL:https://meetings.greysheet.org/meeting/relapserecovery-sat-9am/2027-01-30
CATEGORIES:Telephone or Audio
ATTACH;FMTTYPE=image/svg+xml:https://meetings.greysheet.org/wp-content/uploads/2025/05/phone.svg
LOCATION:Phone Number: 712 432 5229, PIN: Phone Bridge
END:VEVENT
BEGIN:VEVENT
DTSTART;TZID=America/New_York:20270206T090000
DTEND;TZID=America/New_York:20270206T093000
DTSTAMP:20260420T201116
CREATED:20250503T164152Z
LAST-MODIFIED:20260212T172836Z
UID:10051609-1801904400-1801906200@meetings.greysheet.org
SUMMARY:RelapseRecovery SAT 9am
DESCRIPTION:Half-hour meeting focused on recovery from relapse. 5 minute qualification followed by sharing.
URL:https://meetings.greysheet.org/meeting/relapserecovery-sat-9am/2027-02-06
CATEGORIES:Telephone or Audio
ATTACH;FMTTYPE=image/svg+xml:https://meetings.greysheet.org/wp-content/uploads/2025/05/phone.svg
LOCATION:Phone Number: 712 432 5229, PIN: Phone Bridge
END:VEVENT
END:VCALENDAR