BEGIN:VCALENDAR
VERSION:2.0
PRODID:-//GreySheeters Anonymous World Services - ECPv6.15.20//NONSGML v1.0//EN
CALSCALE:GREGORIAN
METHOD:PUBLISH
X-ORIGINAL-URL:https://meetings.greysheet.org
X-WR-CALDESC:Events for GreySheeters Anonymous World Services
REFRESH-INTERVAL;VALUE=DURATION:PT1H
X-Robots-Tag:noindex
X-PUBLISHED-TTL:PT1H
BEGIN:VTIMEZONE
TZID:America/New_York
BEGIN:DAYLIGHT
TZOFFSETFROM:-0500
TZOFFSETTO:-0400
TZNAME:EDT
DTSTART:20250309T070000
END:DAYLIGHT
BEGIN:STANDARD
TZOFFSETFROM:-0400
TZOFFSETTO:-0500
TZNAME:EST
DTSTART:20251102T060000
END:STANDARD
BEGIN:DAYLIGHT
TZOFFSETFROM:-0500
TZOFFSETTO:-0400
TZNAME:EDT
DTSTART:20260308T070000
END:DAYLIGHT
BEGIN:STANDARD
TZOFFSETFROM:-0400
TZOFFSETTO:-0500
TZNAME:EST
DTSTART:20261101T060000
END:STANDARD
BEGIN:DAYLIGHT
TZOFFSETFROM:-0500
TZOFFSETTO:-0400
TZNAME:EDT
DTSTART:20270314T070000
END:DAYLIGHT
BEGIN:STANDARD
TZOFFSETFROM:-0400
TZOFFSETTO:-0500
TZNAME:EST
DTSTART:20271107T060000
END:STANDARD
END:VTIMEZONE
BEGIN:VEVENT
DTSTART;TZID=America/New_York:20260501T090000
DTEND;TZID=America/New_York:20260501T100000
DTSTAMP:20260425T105651
CREATED:20250504T220111Z
LAST-MODIFIED:20260215T204825Z
UID:10034727-1777626000-1777629600@meetings.greysheet.org
SUMMARY:Friday CT
DESCRIPTION:We read from the AA Big Book\, Alcoholics Anonymous.
URL:https://meetings.greysheet.org/meeting/friday-ct/2026-05-01
CATEGORIES:Zoom
ATTACH;FMTTYPE=image/svg+xml:https://meetings.greysheet.org/wp-content/uploads/2025/05/desktop.svg
LOCATION:Zoom ID: 650982094, Passcode: Universal, Camera: Required
END:VEVENT
BEGIN:VEVENT
DTSTART;TZID=America/New_York:20260508T090000
DTEND;TZID=America/New_York:20260508T100000
DTSTAMP:20260425T105651
CREATED:20250504T220111Z
LAST-MODIFIED:20260215T204825Z
UID:10034728-1778230800-1778234400@meetings.greysheet.org
SUMMARY:Friday CT
DESCRIPTION:We read from the AA Big Book\, Alcoholics Anonymous.
URL:https://meetings.greysheet.org/meeting/friday-ct/2026-05-08
CATEGORIES:Zoom
ATTACH;FMTTYPE=image/svg+xml:https://meetings.greysheet.org/wp-content/uploads/2025/05/desktop.svg
LOCATION:Zoom ID: 650982094, Passcode: Universal, Camera: Required
END:VEVENT
BEGIN:VEVENT
DTSTART;TZID=America/New_York:20260515T090000
DTEND;TZID=America/New_York:20260515T100000
DTSTAMP:20260425T105651
CREATED:20250504T220111Z
LAST-MODIFIED:20260215T204825Z
UID:10034729-1778835600-1778839200@meetings.greysheet.org
SUMMARY:Friday CT
DESCRIPTION:We read from the AA Big Book\, Alcoholics Anonymous.
URL:https://meetings.greysheet.org/meeting/friday-ct/2026-05-15
CATEGORIES:Zoom
ATTACH;FMTTYPE=image/svg+xml:https://meetings.greysheet.org/wp-content/uploads/2025/05/desktop.svg
LOCATION:Zoom ID: 650982094, Passcode: Universal, Camera: Required
END:VEVENT
BEGIN:VEVENT
DTSTART;TZID=America/New_York:20260522T090000
DTEND;TZID=America/New_York:20260522T100000
DTSTAMP:20260425T105651
CREATED:20250504T220111Z
LAST-MODIFIED:20260215T204825Z
UID:10034730-1779440400-1779444000@meetings.greysheet.org
SUMMARY:Friday CT
DESCRIPTION:We read from the AA Big Book\, Alcoholics Anonymous.
URL:https://meetings.greysheet.org/meeting/friday-ct/2026-05-22
CATEGORIES:Zoom
ATTACH;FMTTYPE=image/svg+xml:https://meetings.greysheet.org/wp-content/uploads/2025/05/desktop.svg
LOCATION:Zoom ID: 650982094, Passcode: Universal, Camera: Required
END:VEVENT
BEGIN:VEVENT
DTSTART;TZID=America/New_York:20260529T090000
DTEND;TZID=America/New_York:20260529T100000
DTSTAMP:20260425T105651
CREATED:20250504T220111Z
LAST-MODIFIED:20260215T204825Z
UID:10034731-1780045200-1780048800@meetings.greysheet.org
SUMMARY:Friday CT
DESCRIPTION:We read from the AA Big Book\, Alcoholics Anonymous.
URL:https://meetings.greysheet.org/meeting/friday-ct/2026-05-29
CATEGORIES:Zoom
ATTACH;FMTTYPE=image/svg+xml:https://meetings.greysheet.org/wp-content/uploads/2025/05/desktop.svg
LOCATION:Zoom ID: 650982094, Passcode: Universal, Camera: Required
END:VEVENT
BEGIN:VEVENT
DTSTART;TZID=America/New_York:20260605T090000
DTEND;TZID=America/New_York:20260605T100000
DTSTAMP:20260425T105651
CREATED:20250504T220111Z
LAST-MODIFIED:20260215T204825Z
UID:10034732-1780650000-1780653600@meetings.greysheet.org
SUMMARY:Friday CT
DESCRIPTION:We read from the AA Big Book\, Alcoholics Anonymous.
URL:https://meetings.greysheet.org/meeting/friday-ct/2026-06-05
CATEGORIES:Zoom
ATTACH;FMTTYPE=image/svg+xml:https://meetings.greysheet.org/wp-content/uploads/2025/05/desktop.svg
LOCATION:Zoom ID: 650982094, Passcode: Universal, Camera: Required
END:VEVENT
BEGIN:VEVENT
DTSTART;TZID=America/New_York:20260612T090000
DTEND;TZID=America/New_York:20260612T100000
DTSTAMP:20260425T105651
CREATED:20250504T220111Z
LAST-MODIFIED:20260215T204825Z
UID:10034733-1781254800-1781258400@meetings.greysheet.org
SUMMARY:Friday CT
DESCRIPTION:We read from the AA Big Book\, Alcoholics Anonymous.
URL:https://meetings.greysheet.org/meeting/friday-ct/2026-06-12
CATEGORIES:Zoom
ATTACH;FMTTYPE=image/svg+xml:https://meetings.greysheet.org/wp-content/uploads/2025/05/desktop.svg
LOCATION:Zoom ID: 650982094, Passcode: Universal, Camera: Required
END:VEVENT
BEGIN:VEVENT
DTSTART;TZID=America/New_York:20260619T090000
DTEND;TZID=America/New_York:20260619T100000
DTSTAMP:20260425T105651
CREATED:20250504T220111Z
LAST-MODIFIED:20260215T204825Z
UID:10034734-1781859600-1781863200@meetings.greysheet.org
SUMMARY:Friday CT
DESCRIPTION:We read from the AA Big Book\, Alcoholics Anonymous.
URL:https://meetings.greysheet.org/meeting/friday-ct/2026-06-19
CATEGORIES:Zoom
ATTACH;FMTTYPE=image/svg+xml:https://meetings.greysheet.org/wp-content/uploads/2025/05/desktop.svg
LOCATION:Zoom ID: 650982094, Passcode: Universal, Camera: Required
END:VEVENT
BEGIN:VEVENT
DTSTART;TZID=America/New_York:20260626T090000
DTEND;TZID=America/New_York:20260626T100000
DTSTAMP:20260425T105651
CREATED:20250504T220111Z
LAST-MODIFIED:20260215T204825Z
UID:10034735-1782464400-1782468000@meetings.greysheet.org
SUMMARY:Friday CT
DESCRIPTION:We read from the AA Big Book\, Alcoholics Anonymous.
URL:https://meetings.greysheet.org/meeting/friday-ct/2026-06-26
CATEGORIES:Zoom
ATTACH;FMTTYPE=image/svg+xml:https://meetings.greysheet.org/wp-content/uploads/2025/05/desktop.svg
LOCATION:Zoom ID: 650982094, Passcode: Universal, Camera: Required
END:VEVENT
BEGIN:VEVENT
DTSTART;TZID=America/New_York:20260703T090000
DTEND;TZID=America/New_York:20260703T100000
DTSTAMP:20260425T105651
CREATED:20250504T220111Z
LAST-MODIFIED:20260215T204825Z
UID:10034736-1783069200-1783072800@meetings.greysheet.org
SUMMARY:Friday CT
DESCRIPTION:We read from the AA Big Book\, Alcoholics Anonymous.
URL:https://meetings.greysheet.org/meeting/friday-ct/2026-07-03
CATEGORIES:Zoom
ATTACH;FMTTYPE=image/svg+xml:https://meetings.greysheet.org/wp-content/uploads/2025/05/desktop.svg
LOCATION:Zoom ID: 650982094, Passcode: Universal, Camera: Required
END:VEVENT
BEGIN:VEVENT
DTSTART;TZID=America/New_York:20260710T090000
DTEND;TZID=America/New_York:20260710T100000
DTSTAMP:20260425T105651
CREATED:20250504T220111Z
LAST-MODIFIED:20260215T204825Z
UID:10034737-1783674000-1783677600@meetings.greysheet.org
SUMMARY:Friday CT
DESCRIPTION:We read from the AA Big Book\, Alcoholics Anonymous.
URL:https://meetings.greysheet.org/meeting/friday-ct/2026-07-10
CATEGORIES:Zoom
ATTACH;FMTTYPE=image/svg+xml:https://meetings.greysheet.org/wp-content/uploads/2025/05/desktop.svg
LOCATION:Zoom ID: 650982094, Passcode: Universal, Camera: Required
END:VEVENT
BEGIN:VEVENT
DTSTART;TZID=America/New_York:20260717T090000
DTEND;TZID=America/New_York:20260717T100000
DTSTAMP:20260425T105651
CREATED:20250504T220111Z
LAST-MODIFIED:20260215T204825Z
UID:10034738-1784278800-1784282400@meetings.greysheet.org
SUMMARY:Friday CT
DESCRIPTION:We read from the AA Big Book\, Alcoholics Anonymous.
URL:https://meetings.greysheet.org/meeting/friday-ct/2026-07-17
CATEGORIES:Zoom
ATTACH;FMTTYPE=image/svg+xml:https://meetings.greysheet.org/wp-content/uploads/2025/05/desktop.svg
LOCATION:Zoom ID: 650982094, Passcode: Universal, Camera: Required
END:VEVENT
BEGIN:VEVENT
DTSTART;TZID=America/New_York:20260724T090000
DTEND;TZID=America/New_York:20260724T100000
DTSTAMP:20260425T105651
CREATED:20250504T220111Z
LAST-MODIFIED:20260215T204825Z
UID:10034739-1784883600-1784887200@meetings.greysheet.org
SUMMARY:Friday CT
DESCRIPTION:We read from the AA Big Book\, Alcoholics Anonymous.
URL:https://meetings.greysheet.org/meeting/friday-ct/2026-07-24
CATEGORIES:Zoom
ATTACH;FMTTYPE=image/svg+xml:https://meetings.greysheet.org/wp-content/uploads/2025/05/desktop.svg
LOCATION:Zoom ID: 650982094, Passcode: Universal, Camera: Required
END:VEVENT
BEGIN:VEVENT
DTSTART;TZID=America/New_York:20260731T090000
DTEND;TZID=America/New_York:20260731T100000
DTSTAMP:20260425T105651
CREATED:20250504T220111Z
LAST-MODIFIED:20260215T204825Z
UID:10034740-1785488400-1785492000@meetings.greysheet.org
SUMMARY:Friday CT
DESCRIPTION:We read from the AA Big Book\, Alcoholics Anonymous.
URL:https://meetings.greysheet.org/meeting/friday-ct/2026-07-31
CATEGORIES:Zoom
ATTACH;FMTTYPE=image/svg+xml:https://meetings.greysheet.org/wp-content/uploads/2025/05/desktop.svg
LOCATION:Zoom ID: 650982094, Passcode: Universal, Camera: Required
END:VEVENT
BEGIN:VEVENT
DTSTART;TZID=America/New_York:20260807T090000
DTEND;TZID=America/New_York:20260807T100000
DTSTAMP:20260425T105651
CREATED:20250504T220111Z
LAST-MODIFIED:20260215T204825Z
UID:10034741-1786093200-1786096800@meetings.greysheet.org
SUMMARY:Friday CT
DESCRIPTION:We read from the AA Big Book\, Alcoholics Anonymous.
URL:https://meetings.greysheet.org/meeting/friday-ct/2026-08-07
CATEGORIES:Zoom
ATTACH;FMTTYPE=image/svg+xml:https://meetings.greysheet.org/wp-content/uploads/2025/05/desktop.svg
LOCATION:Zoom ID: 650982094, Passcode: Universal, Camera: Required
END:VEVENT
BEGIN:VEVENT
DTSTART;TZID=America/New_York:20260814T090000
DTEND;TZID=America/New_York:20260814T100000
DTSTAMP:20260425T105651
CREATED:20250504T220111Z
LAST-MODIFIED:20260215T204825Z
UID:10034742-1786698000-1786701600@meetings.greysheet.org
SUMMARY:Friday CT
DESCRIPTION:We read from the AA Big Book\, Alcoholics Anonymous.
URL:https://meetings.greysheet.org/meeting/friday-ct/2026-08-14
CATEGORIES:Zoom
ATTACH;FMTTYPE=image/svg+xml:https://meetings.greysheet.org/wp-content/uploads/2025/05/desktop.svg
LOCATION:Zoom ID: 650982094, Passcode: Universal, Camera: Required
END:VEVENT
BEGIN:VEVENT
DTSTART;TZID=America/New_York:20260821T090000
DTEND;TZID=America/New_York:20260821T100000
DTSTAMP:20260425T105651
CREATED:20250504T220111Z
LAST-MODIFIED:20260215T204825Z
UID:10034743-1787302800-1787306400@meetings.greysheet.org
SUMMARY:Friday CT
DESCRIPTION:We read from the AA Big Book\, Alcoholics Anonymous.
URL:https://meetings.greysheet.org/meeting/friday-ct/2026-08-21
CATEGORIES:Zoom
ATTACH;FMTTYPE=image/svg+xml:https://meetings.greysheet.org/wp-content/uploads/2025/05/desktop.svg
LOCATION:Zoom ID: 650982094, Passcode: Universal, Camera: Required
END:VEVENT
BEGIN:VEVENT
DTSTART;TZID=America/New_York:20260828T090000
DTEND;TZID=America/New_York:20260828T100000
DTSTAMP:20260425T105651
CREATED:20250504T220111Z
LAST-MODIFIED:20260215T204825Z
UID:10034744-1787907600-1787911200@meetings.greysheet.org
SUMMARY:Friday CT
DESCRIPTION:We read from the AA Big Book\, Alcoholics Anonymous.
URL:https://meetings.greysheet.org/meeting/friday-ct/2026-08-28
CATEGORIES:Zoom
ATTACH;FMTTYPE=image/svg+xml:https://meetings.greysheet.org/wp-content/uploads/2025/05/desktop.svg
LOCATION:Zoom ID: 650982094, Passcode: Universal, Camera: Required
END:VEVENT
BEGIN:VEVENT
DTSTART;TZID=America/New_York:20260904T090000
DTEND;TZID=America/New_York:20260904T100000
DTSTAMP:20260425T105651
CREATED:20250504T220111Z
LAST-MODIFIED:20260215T204825Z
UID:10034745-1788512400-1788516000@meetings.greysheet.org
SUMMARY:Friday CT
DESCRIPTION:We read from the AA Big Book\, Alcoholics Anonymous.
URL:https://meetings.greysheet.org/meeting/friday-ct/2026-09-04
CATEGORIES:Zoom
ATTACH;FMTTYPE=image/svg+xml:https://meetings.greysheet.org/wp-content/uploads/2025/05/desktop.svg
LOCATION:Zoom ID: 650982094, Passcode: Universal, Camera: Required
END:VEVENT
BEGIN:VEVENT
DTSTART;TZID=America/New_York:20260911T090000
DTEND;TZID=America/New_York:20260911T100000
DTSTAMP:20260425T105651
CREATED:20250504T220111Z
LAST-MODIFIED:20260215T204825Z
UID:10034746-1789117200-1789120800@meetings.greysheet.org
SUMMARY:Friday CT
DESCRIPTION:We read from the AA Big Book\, Alcoholics Anonymous.
URL:https://meetings.greysheet.org/meeting/friday-ct/2026-09-11
CATEGORIES:Zoom
ATTACH;FMTTYPE=image/svg+xml:https://meetings.greysheet.org/wp-content/uploads/2025/05/desktop.svg
LOCATION:Zoom ID: 650982094, Passcode: Universal, Camera: Required
END:VEVENT
BEGIN:VEVENT
DTSTART;TZID=America/New_York:20260918T090000
DTEND;TZID=America/New_York:20260918T100000
DTSTAMP:20260425T105651
CREATED:20250504T220111Z
LAST-MODIFIED:20260215T204825Z
UID:10034747-1789722000-1789725600@meetings.greysheet.org
SUMMARY:Friday CT
DESCRIPTION:We read from the AA Big Book\, Alcoholics Anonymous.
URL:https://meetings.greysheet.org/meeting/friday-ct/2026-09-18
CATEGORIES:Zoom
ATTACH;FMTTYPE=image/svg+xml:https://meetings.greysheet.org/wp-content/uploads/2025/05/desktop.svg
LOCATION:Zoom ID: 650982094, Passcode: Universal, Camera: Required
END:VEVENT
BEGIN:VEVENT
DTSTART;TZID=America/New_York:20260925T090000
DTEND;TZID=America/New_York:20260925T100000
DTSTAMP:20260425T105651
CREATED:20250504T220111Z
LAST-MODIFIED:20260215T204825Z
UID:10034748-1790326800-1790330400@meetings.greysheet.org
SUMMARY:Friday CT
DESCRIPTION:We read from the AA Big Book\, Alcoholics Anonymous.
URL:https://meetings.greysheet.org/meeting/friday-ct/2026-09-25
CATEGORIES:Zoom
ATTACH;FMTTYPE=image/svg+xml:https://meetings.greysheet.org/wp-content/uploads/2025/05/desktop.svg
LOCATION:Zoom ID: 650982094, Passcode: Universal, Camera: Required
END:VEVENT
BEGIN:VEVENT
DTSTART;TZID=America/New_York:20261002T090000
DTEND;TZID=America/New_York:20261002T100000
DTSTAMP:20260425T105651
CREATED:20250504T220111Z
LAST-MODIFIED:20260215T204825Z
UID:10034749-1790931600-1790935200@meetings.greysheet.org
SUMMARY:Friday CT
DESCRIPTION:We read from the AA Big Book\, Alcoholics Anonymous.
URL:https://meetings.greysheet.org/meeting/friday-ct/2026-10-02
CATEGORIES:Zoom
ATTACH;FMTTYPE=image/svg+xml:https://meetings.greysheet.org/wp-content/uploads/2025/05/desktop.svg
LOCATION:Zoom ID: 650982094, Passcode: Universal, Camera: Required
END:VEVENT
BEGIN:VEVENT
DTSTART;TZID=America/New_York:20261009T090000
DTEND;TZID=America/New_York:20261009T100000
DTSTAMP:20260425T105651
CREATED:20250504T220111Z
LAST-MODIFIED:20260215T204825Z
UID:10034750-1791536400-1791540000@meetings.greysheet.org
SUMMARY:Friday CT
DESCRIPTION:We read from the AA Big Book\, Alcoholics Anonymous.
URL:https://meetings.greysheet.org/meeting/friday-ct/2026-10-09
CATEGORIES:Zoom
ATTACH;FMTTYPE=image/svg+xml:https://meetings.greysheet.org/wp-content/uploads/2025/05/desktop.svg
LOCATION:Zoom ID: 650982094, Passcode: Universal, Camera: Required
END:VEVENT
BEGIN:VEVENT
DTSTART;TZID=America/New_York:20261016T090000
DTEND;TZID=America/New_York:20261016T100000
DTSTAMP:20260425T105651
CREATED:20250504T220111Z
LAST-MODIFIED:20260215T204825Z
UID:10034751-1792141200-1792144800@meetings.greysheet.org
SUMMARY:Friday CT
DESCRIPTION:We read from the AA Big Book\, Alcoholics Anonymous.
URL:https://meetings.greysheet.org/meeting/friday-ct/2026-10-16
CATEGORIES:Zoom
ATTACH;FMTTYPE=image/svg+xml:https://meetings.greysheet.org/wp-content/uploads/2025/05/desktop.svg
LOCATION:Zoom ID: 650982094, Passcode: Universal, Camera: Required
END:VEVENT
BEGIN:VEVENT
DTSTART;TZID=America/New_York:20261023T090000
DTEND;TZID=America/New_York:20261023T100000
DTSTAMP:20260425T105651
CREATED:20250504T220111Z
LAST-MODIFIED:20260215T204825Z
UID:10034752-1792746000-1792749600@meetings.greysheet.org
SUMMARY:Friday CT
DESCRIPTION:We read from the AA Big Book\, Alcoholics Anonymous.
URL:https://meetings.greysheet.org/meeting/friday-ct/2026-10-23
CATEGORIES:Zoom
ATTACH;FMTTYPE=image/svg+xml:https://meetings.greysheet.org/wp-content/uploads/2025/05/desktop.svg
LOCATION:Zoom ID: 650982094, Passcode: Universal, Camera: Required
END:VEVENT
BEGIN:VEVENT
DTSTART;TZID=America/New_York:20261030T090000
DTEND;TZID=America/New_York:20261030T100000
DTSTAMP:20260425T105651
CREATED:20250504T220111Z
LAST-MODIFIED:20260215T204825Z
UID:10034753-1793350800-1793354400@meetings.greysheet.org
SUMMARY:Friday CT
DESCRIPTION:We read from the AA Big Book\, Alcoholics Anonymous.
URL:https://meetings.greysheet.org/meeting/friday-ct/2026-10-30
CATEGORIES:Zoom
ATTACH;FMTTYPE=image/svg+xml:https://meetings.greysheet.org/wp-content/uploads/2025/05/desktop.svg
LOCATION:Zoom ID: 650982094, Passcode: Universal, Camera: Required
END:VEVENT
BEGIN:VEVENT
DTSTART;TZID=America/New_York:20261106T090000
DTEND;TZID=America/New_York:20261106T100000
DTSTAMP:20260425T105651
CREATED:20250504T220111Z
LAST-MODIFIED:20260215T204825Z
UID:10034754-1793955600-1793959200@meetings.greysheet.org
SUMMARY:Friday CT
DESCRIPTION:We read from the AA Big Book\, Alcoholics Anonymous.
URL:https://meetings.greysheet.org/meeting/friday-ct/2026-11-06
CATEGORIES:Zoom
ATTACH;FMTTYPE=image/svg+xml:https://meetings.greysheet.org/wp-content/uploads/2025/05/desktop.svg
LOCATION:Zoom ID: 650982094, Passcode: Universal, Camera: Required
END:VEVENT
BEGIN:VEVENT
DTSTART;TZID=America/New_York:20261113T090000
DTEND;TZID=America/New_York:20261113T100000
DTSTAMP:20260425T105651
CREATED:20250504T220111Z
LAST-MODIFIED:20260215T204825Z
UID:10034755-1794560400-1794564000@meetings.greysheet.org
SUMMARY:Friday CT
DESCRIPTION:We read from the AA Big Book\, Alcoholics Anonymous.
URL:https://meetings.greysheet.org/meeting/friday-ct/2026-11-13
CATEGORIES:Zoom
ATTACH;FMTTYPE=image/svg+xml:https://meetings.greysheet.org/wp-content/uploads/2025/05/desktop.svg
LOCATION:Zoom ID: 650982094, Passcode: Universal, Camera: Required
END:VEVENT
BEGIN:VEVENT
DTSTART;TZID=America/New_York:20261120T090000
DTEND;TZID=America/New_York:20261120T100000
DTSTAMP:20260425T105651
CREATED:20250504T220111Z
LAST-MODIFIED:20260215T204825Z
UID:10034756-1795165200-1795168800@meetings.greysheet.org
SUMMARY:Friday CT
DESCRIPTION:We read from the AA Big Book\, Alcoholics Anonymous.
URL:https://meetings.greysheet.org/meeting/friday-ct/2026-11-20
CATEGORIES:Zoom
ATTACH;FMTTYPE=image/svg+xml:https://meetings.greysheet.org/wp-content/uploads/2025/05/desktop.svg
LOCATION:Zoom ID: 650982094, Passcode: Universal, Camera: Required
END:VEVENT
END:VCALENDAR