BEGIN:VCALENDAR
VERSION:2.0
PRODID:-//GreySheeters Anonymous World Services - ECPv6.15.20//NONSGML v1.0//EN
CALSCALE:GREGORIAN
METHOD:PUBLISH
X-ORIGINAL-URL:https://meetings.greysheet.org
X-WR-CALDESC:Events for GreySheeters Anonymous World Services
REFRESH-INTERVAL;VALUE=DURATION:PT1H
X-Robots-Tag:noindex
X-PUBLISHED-TTL:PT1H
BEGIN:VTIMEZONE
TZID:America/Santo_Domingo
BEGIN:STANDARD
TZOFFSETFROM:-0400
TZOFFSETTO:-0400
TZNAME:AST
DTSTART:20250101T000000
END:STANDARD
END:VTIMEZONE
BEGIN:VEVENT
DTSTART;TZID=America/Santo_Domingo:20260428T070000
DTEND;TZID=America/Santo_Domingo:20260428T080000
DTSTAMP:20260422T092546
CREATED:20250504T220104Z
LAST-MODIFIED:20260215T202113Z
UID:10038824-1777359600-1777363200@meetings.greysheet.org
SUMMARY:El Cafecito Tues AM
DESCRIPTION:
URL:https://meetings.greysheet.org/meeting/el-cafecito-tues-am/2026-04-28
CATEGORIES:Zoom
ATTACH;FMTTYPE=image/svg+xml:https://meetings.greysheet.org/wp-content/uploads/2025/05/desktop.svg
LOCATION:Zoom ID: 5613437089, Passcode: Universal, Camera: Optional
END:VEVENT
BEGIN:VEVENT
DTSTART;TZID=America/Santo_Domingo:20260505T070000
DTEND;TZID=America/Santo_Domingo:20260505T080000
DTSTAMP:20260422T092546
CREATED:20250504T220104Z
LAST-MODIFIED:20260215T202113Z
UID:10038825-1777964400-1777968000@meetings.greysheet.org
SUMMARY:El Cafecito Tues AM
DESCRIPTION:
URL:https://meetings.greysheet.org/meeting/el-cafecito-tues-am/2026-05-05
CATEGORIES:Zoom
ATTACH;FMTTYPE=image/svg+xml:https://meetings.greysheet.org/wp-content/uploads/2025/05/desktop.svg
LOCATION:Zoom ID: 5613437089, Passcode: Universal, Camera: Optional
END:VEVENT
BEGIN:VEVENT
DTSTART;TZID=America/Santo_Domingo:20260512T070000
DTEND;TZID=America/Santo_Domingo:20260512T080000
DTSTAMP:20260422T092546
CREATED:20250504T220104Z
LAST-MODIFIED:20260215T202113Z
UID:10038826-1778569200-1778572800@meetings.greysheet.org
SUMMARY:El Cafecito Tues AM
DESCRIPTION:
URL:https://meetings.greysheet.org/meeting/el-cafecito-tues-am/2026-05-12
CATEGORIES:Zoom
ATTACH;FMTTYPE=image/svg+xml:https://meetings.greysheet.org/wp-content/uploads/2025/05/desktop.svg
LOCATION:Zoom ID: 5613437089, Passcode: Universal, Camera: Optional
END:VEVENT
BEGIN:VEVENT
DTSTART;TZID=America/Santo_Domingo:20260519T070000
DTEND;TZID=America/Santo_Domingo:20260519T080000
DTSTAMP:20260422T092546
CREATED:20250504T220104Z
LAST-MODIFIED:20260215T202113Z
UID:10038827-1779174000-1779177600@meetings.greysheet.org
SUMMARY:El Cafecito Tues AM
DESCRIPTION:
URL:https://meetings.greysheet.org/meeting/el-cafecito-tues-am/2026-05-19
CATEGORIES:Zoom
ATTACH;FMTTYPE=image/svg+xml:https://meetings.greysheet.org/wp-content/uploads/2025/05/desktop.svg
LOCATION:Zoom ID: 5613437089, Passcode: Universal, Camera: Optional
END:VEVENT
BEGIN:VEVENT
DTSTART;TZID=America/Santo_Domingo:20260526T070000
DTEND;TZID=America/Santo_Domingo:20260526T080000
DTSTAMP:20260422T092546
CREATED:20250504T220104Z
LAST-MODIFIED:20260215T202113Z
UID:10038828-1779778800-1779782400@meetings.greysheet.org
SUMMARY:El Cafecito Tues AM
DESCRIPTION:
URL:https://meetings.greysheet.org/meeting/el-cafecito-tues-am/2026-05-26
CATEGORIES:Zoom
ATTACH;FMTTYPE=image/svg+xml:https://meetings.greysheet.org/wp-content/uploads/2025/05/desktop.svg
LOCATION:Zoom ID: 5613437089, Passcode: Universal, Camera: Optional
END:VEVENT
BEGIN:VEVENT
DTSTART;TZID=America/Santo_Domingo:20260602T070000
DTEND;TZID=America/Santo_Domingo:20260602T080000
DTSTAMP:20260422T092546
CREATED:20250504T220104Z
LAST-MODIFIED:20260215T202113Z
UID:10038829-1780383600-1780387200@meetings.greysheet.org
SUMMARY:El Cafecito Tues AM
DESCRIPTION:
URL:https://meetings.greysheet.org/meeting/el-cafecito-tues-am/2026-06-02
CATEGORIES:Zoom
ATTACH;FMTTYPE=image/svg+xml:https://meetings.greysheet.org/wp-content/uploads/2025/05/desktop.svg
LOCATION:Zoom ID: 5613437089, Passcode: Universal, Camera: Optional
END:VEVENT
BEGIN:VEVENT
DTSTART;TZID=America/Santo_Domingo:20260609T070000
DTEND;TZID=America/Santo_Domingo:20260609T080000
DTSTAMP:20260422T092546
CREATED:20250504T220104Z
LAST-MODIFIED:20260215T202113Z
UID:10038830-1780988400-1780992000@meetings.greysheet.org
SUMMARY:El Cafecito Tues AM
DESCRIPTION:
URL:https://meetings.greysheet.org/meeting/el-cafecito-tues-am/2026-06-09
CATEGORIES:Zoom
ATTACH;FMTTYPE=image/svg+xml:https://meetings.greysheet.org/wp-content/uploads/2025/05/desktop.svg
LOCATION:Zoom ID: 5613437089, Passcode: Universal, Camera: Optional
END:VEVENT
BEGIN:VEVENT
DTSTART;TZID=America/Santo_Domingo:20260616T070000
DTEND;TZID=America/Santo_Domingo:20260616T080000
DTSTAMP:20260422T092546
CREATED:20250504T220104Z
LAST-MODIFIED:20260215T202113Z
UID:10038831-1781593200-1781596800@meetings.greysheet.org
SUMMARY:El Cafecito Tues AM
DESCRIPTION:
URL:https://meetings.greysheet.org/meeting/el-cafecito-tues-am/2026-06-16
CATEGORIES:Zoom
ATTACH;FMTTYPE=image/svg+xml:https://meetings.greysheet.org/wp-content/uploads/2025/05/desktop.svg
LOCATION:Zoom ID: 5613437089, Passcode: Universal, Camera: Optional
END:VEVENT
BEGIN:VEVENT
DTSTART;TZID=America/Santo_Domingo:20260623T070000
DTEND;TZID=America/Santo_Domingo:20260623T080000
DTSTAMP:20260422T092546
CREATED:20250504T220104Z
LAST-MODIFIED:20260215T202113Z
UID:10038832-1782198000-1782201600@meetings.greysheet.org
SUMMARY:El Cafecito Tues AM
DESCRIPTION:
URL:https://meetings.greysheet.org/meeting/el-cafecito-tues-am/2026-06-23
CATEGORIES:Zoom
ATTACH;FMTTYPE=image/svg+xml:https://meetings.greysheet.org/wp-content/uploads/2025/05/desktop.svg
LOCATION:Zoom ID: 5613437089, Passcode: Universal, Camera: Optional
END:VEVENT
BEGIN:VEVENT
DTSTART;TZID=America/Santo_Domingo:20260630T070000
DTEND;TZID=America/Santo_Domingo:20260630T080000
DTSTAMP:20260422T092546
CREATED:20250504T220104Z
LAST-MODIFIED:20260215T202113Z
UID:10038833-1782802800-1782806400@meetings.greysheet.org
SUMMARY:El Cafecito Tues AM
DESCRIPTION:
URL:https://meetings.greysheet.org/meeting/el-cafecito-tues-am/2026-06-30
CATEGORIES:Zoom
ATTACH;FMTTYPE=image/svg+xml:https://meetings.greysheet.org/wp-content/uploads/2025/05/desktop.svg
LOCATION:Zoom ID: 5613437089, Passcode: Universal, Camera: Optional
END:VEVENT
BEGIN:VEVENT
DTSTART;TZID=America/Santo_Domingo:20260707T070000
DTEND;TZID=America/Santo_Domingo:20260707T080000
DTSTAMP:20260422T092546
CREATED:20250504T220104Z
LAST-MODIFIED:20260215T202113Z
UID:10038834-1783407600-1783411200@meetings.greysheet.org
SUMMARY:El Cafecito Tues AM
DESCRIPTION:
URL:https://meetings.greysheet.org/meeting/el-cafecito-tues-am/2026-07-07
CATEGORIES:Zoom
ATTACH;FMTTYPE=image/svg+xml:https://meetings.greysheet.org/wp-content/uploads/2025/05/desktop.svg
LOCATION:Zoom ID: 5613437089, Passcode: Universal, Camera: Optional
END:VEVENT
BEGIN:VEVENT
DTSTART;TZID=America/Santo_Domingo:20260714T070000
DTEND;TZID=America/Santo_Domingo:20260714T080000
DTSTAMP:20260422T092546
CREATED:20250504T220104Z
LAST-MODIFIED:20260215T202113Z
UID:10038835-1784012400-1784016000@meetings.greysheet.org
SUMMARY:El Cafecito Tues AM
DESCRIPTION:
URL:https://meetings.greysheet.org/meeting/el-cafecito-tues-am/2026-07-14
CATEGORIES:Zoom
ATTACH;FMTTYPE=image/svg+xml:https://meetings.greysheet.org/wp-content/uploads/2025/05/desktop.svg
LOCATION:Zoom ID: 5613437089, Passcode: Universal, Camera: Optional
END:VEVENT
BEGIN:VEVENT
DTSTART;TZID=America/Santo_Domingo:20260721T070000
DTEND;TZID=America/Santo_Domingo:20260721T080000
DTSTAMP:20260422T092546
CREATED:20250504T220104Z
LAST-MODIFIED:20260215T202113Z
UID:10038836-1784617200-1784620800@meetings.greysheet.org
SUMMARY:El Cafecito Tues AM
DESCRIPTION:
URL:https://meetings.greysheet.org/meeting/el-cafecito-tues-am/2026-07-21
CATEGORIES:Zoom
ATTACH;FMTTYPE=image/svg+xml:https://meetings.greysheet.org/wp-content/uploads/2025/05/desktop.svg
LOCATION:Zoom ID: 5613437089, Passcode: Universal, Camera: Optional
END:VEVENT
BEGIN:VEVENT
DTSTART;TZID=America/Santo_Domingo:20260728T070000
DTEND;TZID=America/Santo_Domingo:20260728T080000
DTSTAMP:20260422T092546
CREATED:20250504T220104Z
LAST-MODIFIED:20260215T202113Z
UID:10038837-1785222000-1785225600@meetings.greysheet.org
SUMMARY:El Cafecito Tues AM
DESCRIPTION:
URL:https://meetings.greysheet.org/meeting/el-cafecito-tues-am/2026-07-28
CATEGORIES:Zoom
ATTACH;FMTTYPE=image/svg+xml:https://meetings.greysheet.org/wp-content/uploads/2025/05/desktop.svg
LOCATION:Zoom ID: 5613437089, Passcode: Universal, Camera: Optional
END:VEVENT
BEGIN:VEVENT
DTSTART;TZID=America/Santo_Domingo:20260804T070000
DTEND;TZID=America/Santo_Domingo:20260804T080000
DTSTAMP:20260422T092546
CREATED:20250504T220104Z
LAST-MODIFIED:20260215T202113Z
UID:10038838-1785826800-1785830400@meetings.greysheet.org
SUMMARY:El Cafecito Tues AM
DESCRIPTION:
URL:https://meetings.greysheet.org/meeting/el-cafecito-tues-am/2026-08-04
CATEGORIES:Zoom
ATTACH;FMTTYPE=image/svg+xml:https://meetings.greysheet.org/wp-content/uploads/2025/05/desktop.svg
LOCATION:Zoom ID: 5613437089, Passcode: Universal, Camera: Optional
END:VEVENT
BEGIN:VEVENT
DTSTART;TZID=America/Santo_Domingo:20260811T070000
DTEND;TZID=America/Santo_Domingo:20260811T080000
DTSTAMP:20260422T092546
CREATED:20250504T220104Z
LAST-MODIFIED:20260215T202113Z
UID:10038839-1786431600-1786435200@meetings.greysheet.org
SUMMARY:El Cafecito Tues AM
DESCRIPTION:
URL:https://meetings.greysheet.org/meeting/el-cafecito-tues-am/2026-08-11
CATEGORIES:Zoom
ATTACH;FMTTYPE=image/svg+xml:https://meetings.greysheet.org/wp-content/uploads/2025/05/desktop.svg
LOCATION:Zoom ID: 5613437089, Passcode: Universal, Camera: Optional
END:VEVENT
BEGIN:VEVENT
DTSTART;TZID=America/Santo_Domingo:20260818T070000
DTEND;TZID=America/Santo_Domingo:20260818T080000
DTSTAMP:20260422T092546
CREATED:20250504T220104Z
LAST-MODIFIED:20260215T202113Z
UID:10038840-1787036400-1787040000@meetings.greysheet.org
SUMMARY:El Cafecito Tues AM
DESCRIPTION:
URL:https://meetings.greysheet.org/meeting/el-cafecito-tues-am/2026-08-18
CATEGORIES:Zoom
ATTACH;FMTTYPE=image/svg+xml:https://meetings.greysheet.org/wp-content/uploads/2025/05/desktop.svg
LOCATION:Zoom ID: 5613437089, Passcode: Universal, Camera: Optional
END:VEVENT
BEGIN:VEVENT
DTSTART;TZID=America/Santo_Domingo:20260825T070000
DTEND;TZID=America/Santo_Domingo:20260825T080000
DTSTAMP:20260422T092546
CREATED:20250504T220104Z
LAST-MODIFIED:20260215T202113Z
UID:10038841-1787641200-1787644800@meetings.greysheet.org
SUMMARY:El Cafecito Tues AM
DESCRIPTION:
URL:https://meetings.greysheet.org/meeting/el-cafecito-tues-am/2026-08-25
CATEGORIES:Zoom
ATTACH;FMTTYPE=image/svg+xml:https://meetings.greysheet.org/wp-content/uploads/2025/05/desktop.svg
LOCATION:Zoom ID: 5613437089, Passcode: Universal, Camera: Optional
END:VEVENT
BEGIN:VEVENT
DTSTART;TZID=America/Santo_Domingo:20260901T070000
DTEND;TZID=America/Santo_Domingo:20260901T080000
DTSTAMP:20260422T092546
CREATED:20250504T220104Z
LAST-MODIFIED:20260215T202113Z
UID:10038842-1788246000-1788249600@meetings.greysheet.org
SUMMARY:El Cafecito Tues AM
DESCRIPTION:
URL:https://meetings.greysheet.org/meeting/el-cafecito-tues-am/2026-09-01
CATEGORIES:Zoom
ATTACH;FMTTYPE=image/svg+xml:https://meetings.greysheet.org/wp-content/uploads/2025/05/desktop.svg
LOCATION:Zoom ID: 5613437089, Passcode: Universal, Camera: Optional
END:VEVENT
BEGIN:VEVENT
DTSTART;TZID=America/Santo_Domingo:20260908T070000
DTEND;TZID=America/Santo_Domingo:20260908T080000
DTSTAMP:20260422T092546
CREATED:20250504T220104Z
LAST-MODIFIED:20260215T202113Z
UID:10038843-1788850800-1788854400@meetings.greysheet.org
SUMMARY:El Cafecito Tues AM
DESCRIPTION:
URL:https://meetings.greysheet.org/meeting/el-cafecito-tues-am/2026-09-08
CATEGORIES:Zoom
ATTACH;FMTTYPE=image/svg+xml:https://meetings.greysheet.org/wp-content/uploads/2025/05/desktop.svg
LOCATION:Zoom ID: 5613437089, Passcode: Universal, Camera: Optional
END:VEVENT
BEGIN:VEVENT
DTSTART;TZID=America/Santo_Domingo:20260915T070000
DTEND;TZID=America/Santo_Domingo:20260915T080000
DTSTAMP:20260422T092546
CREATED:20250504T220104Z
LAST-MODIFIED:20260215T202113Z
UID:10038844-1789455600-1789459200@meetings.greysheet.org
SUMMARY:El Cafecito Tues AM
DESCRIPTION:
URL:https://meetings.greysheet.org/meeting/el-cafecito-tues-am/2026-09-15
CATEGORIES:Zoom
ATTACH;FMTTYPE=image/svg+xml:https://meetings.greysheet.org/wp-content/uploads/2025/05/desktop.svg
LOCATION:Zoom ID: 5613437089, Passcode: Universal, Camera: Optional
END:VEVENT
BEGIN:VEVENT
DTSTART;TZID=America/Santo_Domingo:20260922T070000
DTEND;TZID=America/Santo_Domingo:20260922T080000
DTSTAMP:20260422T092546
CREATED:20250504T220104Z
LAST-MODIFIED:20260215T202113Z
UID:10038845-1790060400-1790064000@meetings.greysheet.org
SUMMARY:El Cafecito Tues AM
DESCRIPTION:
URL:https://meetings.greysheet.org/meeting/el-cafecito-tues-am/2026-09-22
CATEGORIES:Zoom
ATTACH;FMTTYPE=image/svg+xml:https://meetings.greysheet.org/wp-content/uploads/2025/05/desktop.svg
LOCATION:Zoom ID: 5613437089, Passcode: Universal, Camera: Optional
END:VEVENT
BEGIN:VEVENT
DTSTART;TZID=America/Santo_Domingo:20260929T070000
DTEND;TZID=America/Santo_Domingo:20260929T080000
DTSTAMP:20260422T092546
CREATED:20250504T220104Z
LAST-MODIFIED:20260215T202113Z
UID:10038846-1790665200-1790668800@meetings.greysheet.org
SUMMARY:El Cafecito Tues AM
DESCRIPTION:
URL:https://meetings.greysheet.org/meeting/el-cafecito-tues-am/2026-09-29
CATEGORIES:Zoom
ATTACH;FMTTYPE=image/svg+xml:https://meetings.greysheet.org/wp-content/uploads/2025/05/desktop.svg
LOCATION:Zoom ID: 5613437089, Passcode: Universal, Camera: Optional
END:VEVENT
BEGIN:VEVENT
DTSTART;TZID=America/Santo_Domingo:20261006T070000
DTEND;TZID=America/Santo_Domingo:20261006T080000
DTSTAMP:20260422T092546
CREATED:20250504T220104Z
LAST-MODIFIED:20260215T202113Z
UID:10038847-1791270000-1791273600@meetings.greysheet.org
SUMMARY:El Cafecito Tues AM
DESCRIPTION:
URL:https://meetings.greysheet.org/meeting/el-cafecito-tues-am/2026-10-06
CATEGORIES:Zoom
ATTACH;FMTTYPE=image/svg+xml:https://meetings.greysheet.org/wp-content/uploads/2025/05/desktop.svg
LOCATION:Zoom ID: 5613437089, Passcode: Universal, Camera: Optional
END:VEVENT
BEGIN:VEVENT
DTSTART;TZID=America/Santo_Domingo:20261013T070000
DTEND;TZID=America/Santo_Domingo:20261013T080000
DTSTAMP:20260422T092546
CREATED:20250504T220104Z
LAST-MODIFIED:20260215T202113Z
UID:10038848-1791874800-1791878400@meetings.greysheet.org
SUMMARY:El Cafecito Tues AM
DESCRIPTION:
URL:https://meetings.greysheet.org/meeting/el-cafecito-tues-am/2026-10-13
CATEGORIES:Zoom
ATTACH;FMTTYPE=image/svg+xml:https://meetings.greysheet.org/wp-content/uploads/2025/05/desktop.svg
LOCATION:Zoom ID: 5613437089, Passcode: Universal, Camera: Optional
END:VEVENT
BEGIN:VEVENT
DTSTART;TZID=America/Santo_Domingo:20261020T070000
DTEND;TZID=America/Santo_Domingo:20261020T080000
DTSTAMP:20260422T092546
CREATED:20250504T220104Z
LAST-MODIFIED:20260215T202113Z
UID:10038849-1792479600-1792483200@meetings.greysheet.org
SUMMARY:El Cafecito Tues AM
DESCRIPTION:
URL:https://meetings.greysheet.org/meeting/el-cafecito-tues-am/2026-10-20
CATEGORIES:Zoom
ATTACH;FMTTYPE=image/svg+xml:https://meetings.greysheet.org/wp-content/uploads/2025/05/desktop.svg
LOCATION:Zoom ID: 5613437089, Passcode: Universal, Camera: Optional
END:VEVENT
BEGIN:VEVENT
DTSTART;TZID=America/Santo_Domingo:20261027T070000
DTEND;TZID=America/Santo_Domingo:20261027T080000
DTSTAMP:20260422T092546
CREATED:20250504T220104Z
LAST-MODIFIED:20260215T202113Z
UID:10038850-1793084400-1793088000@meetings.greysheet.org
SUMMARY:El Cafecito Tues AM
DESCRIPTION:
URL:https://meetings.greysheet.org/meeting/el-cafecito-tues-am/2026-10-27
CATEGORIES:Zoom
ATTACH;FMTTYPE=image/svg+xml:https://meetings.greysheet.org/wp-content/uploads/2025/05/desktop.svg
LOCATION:Zoom ID: 5613437089, Passcode: Universal, Camera: Optional
END:VEVENT
BEGIN:VEVENT
DTSTART;TZID=America/Santo_Domingo:20261103T070000
DTEND;TZID=America/Santo_Domingo:20261103T080000
DTSTAMP:20260422T092546
CREATED:20250504T220104Z
LAST-MODIFIED:20260215T202113Z
UID:10038851-1793689200-1793692800@meetings.greysheet.org
SUMMARY:El Cafecito Tues AM
DESCRIPTION:
URL:https://meetings.greysheet.org/meeting/el-cafecito-tues-am/2026-11-03
CATEGORIES:Zoom
ATTACH;FMTTYPE=image/svg+xml:https://meetings.greysheet.org/wp-content/uploads/2025/05/desktop.svg
LOCATION:Zoom ID: 5613437089, Passcode: Universal, Camera: Optional
END:VEVENT
BEGIN:VEVENT
DTSTART;TZID=America/Santo_Domingo:20261110T070000
DTEND;TZID=America/Santo_Domingo:20261110T080000
DTSTAMP:20260422T092546
CREATED:20250504T220104Z
LAST-MODIFIED:20260215T202113Z
UID:10038852-1794294000-1794297600@meetings.greysheet.org
SUMMARY:El Cafecito Tues AM
DESCRIPTION:
URL:https://meetings.greysheet.org/meeting/el-cafecito-tues-am/2026-11-10
CATEGORIES:Zoom
ATTACH;FMTTYPE=image/svg+xml:https://meetings.greysheet.org/wp-content/uploads/2025/05/desktop.svg
LOCATION:Zoom ID: 5613437089, Passcode: Universal, Camera: Optional
END:VEVENT
BEGIN:VEVENT
DTSTART;TZID=America/Santo_Domingo:20261117T070000
DTEND;TZID=America/Santo_Domingo:20261117T080000
DTSTAMP:20260422T092546
CREATED:20250504T220104Z
LAST-MODIFIED:20260215T202113Z
UID:10038853-1794898800-1794902400@meetings.greysheet.org
SUMMARY:El Cafecito Tues AM
DESCRIPTION:
URL:https://meetings.greysheet.org/meeting/el-cafecito-tues-am/2026-11-17
CATEGORIES:Zoom
ATTACH;FMTTYPE=image/svg+xml:https://meetings.greysheet.org/wp-content/uploads/2025/05/desktop.svg
LOCATION:Zoom ID: 5613437089, Passcode: Universal, Camera: Optional
END:VEVENT
END:VCALENDAR