BEGIN:VCALENDAR
VERSION:2.0
PRODID:-//GreySheeters Anonymous World Services - ECPv6.15.20//NONSGML v1.0//EN
CALSCALE:GREGORIAN
METHOD:PUBLISH
X-WR-CALNAME:GreySheeters Anonymous World Services
X-ORIGINAL-URL:https://meetings.greysheet.org
X-WR-CALDESC:Events for GreySheeters Anonymous World Services
REFRESH-INTERVAL;VALUE=DURATION:PT1H
X-Robots-Tag:noindex
X-PUBLISHED-TTL:PT1H
BEGIN:VTIMEZONE
TZID:America/New_York
BEGIN:DAYLIGHT
TZOFFSETFROM:-0500
TZOFFSETTO:-0400
TZNAME:EDT
DTSTART:20250309T070000
END:DAYLIGHT
BEGIN:STANDARD
TZOFFSETFROM:-0400
TZOFFSETTO:-0500
TZNAME:EST
DTSTART:20251102T060000
END:STANDARD
BEGIN:DAYLIGHT
TZOFFSETFROM:-0500
TZOFFSETTO:-0400
TZNAME:EDT
DTSTART:20260308T070000
END:DAYLIGHT
BEGIN:STANDARD
TZOFFSETFROM:-0400
TZOFFSETTO:-0500
TZNAME:EST
DTSTART:20261101T060000
END:STANDARD
BEGIN:DAYLIGHT
TZOFFSETFROM:-0500
TZOFFSETTO:-0400
TZNAME:EDT
DTSTART:20270314T070000
END:DAYLIGHT
BEGIN:STANDARD
TZOFFSETFROM:-0400
TZOFFSETTO:-0500
TZNAME:EST
DTSTART:20271107T060000
END:STANDARD
END:VTIMEZONE
BEGIN:VEVENT
DTSTART;TZID=America/New_York:20260422T090000
DTEND;TZID=America/New_York:20260422T100000
DTSTAMP:20260419T183231
CREATED:20250504T220111Z
LAST-MODIFIED:20260215T204825Z
UID:10037505-1776848400-1776852000@meetings.greysheet.org
SUMMARY:Wednesday CT
DESCRIPTION:We read from the Twelve Steps and Twelve Traditions of Alcoholics Anonymous.
URL:https://meetings.greysheet.org/meeting/wednesday-ct/2026-04-22
CATEGORIES:Zoom
ATTACH;FMTTYPE=image/svg+xml:https://meetings.greysheet.org/wp-content/uploads/2025/05/desktop.svg
LOCATION:Zoom ID: 696119673, Passcode: Universal, Camera: Required
END:VEVENT
BEGIN:VEVENT
DTSTART;TZID=America/New_York:20260429T090000
DTEND;TZID=America/New_York:20260429T100000
DTSTAMP:20260419T183231
CREATED:20250504T220111Z
LAST-MODIFIED:20260215T204825Z
UID:10037506-1777453200-1777456800@meetings.greysheet.org
SUMMARY:Wednesday CT
DESCRIPTION:We read from the Twelve Steps and Twelve Traditions of Alcoholics Anonymous.
URL:https://meetings.greysheet.org/meeting/wednesday-ct/2026-04-29
CATEGORIES:Zoom
ATTACH;FMTTYPE=image/svg+xml:https://meetings.greysheet.org/wp-content/uploads/2025/05/desktop.svg
LOCATION:Zoom ID: 696119673, Passcode: Universal, Camera: Required
END:VEVENT
BEGIN:VEVENT
DTSTART;TZID=America/New_York:20260506T090000
DTEND;TZID=America/New_York:20260506T100000
DTSTAMP:20260419T183231
CREATED:20250504T220111Z
LAST-MODIFIED:20260215T204825Z
UID:10037507-1778058000-1778061600@meetings.greysheet.org
SUMMARY:Wednesday CT
DESCRIPTION:We read from the Twelve Steps and Twelve Traditions of Alcoholics Anonymous.
URL:https://meetings.greysheet.org/meeting/wednesday-ct/2026-05-06
CATEGORIES:Zoom
ATTACH;FMTTYPE=image/svg+xml:https://meetings.greysheet.org/wp-content/uploads/2025/05/desktop.svg
LOCATION:Zoom ID: 696119673, Passcode: Universal, Camera: Required
END:VEVENT
BEGIN:VEVENT
DTSTART;TZID=America/New_York:20260513T090000
DTEND;TZID=America/New_York:20260513T100000
DTSTAMP:20260419T183231
CREATED:20250504T220111Z
LAST-MODIFIED:20260215T204825Z
UID:10037508-1778662800-1778666400@meetings.greysheet.org
SUMMARY:Wednesday CT
DESCRIPTION:We read from the Twelve Steps and Twelve Traditions of Alcoholics Anonymous.
URL:https://meetings.greysheet.org/meeting/wednesday-ct/2026-05-13
CATEGORIES:Zoom
ATTACH;FMTTYPE=image/svg+xml:https://meetings.greysheet.org/wp-content/uploads/2025/05/desktop.svg
LOCATION:Zoom ID: 696119673, Passcode: Universal, Camera: Required
END:VEVENT
BEGIN:VEVENT
DTSTART;TZID=America/New_York:20260520T090000
DTEND;TZID=America/New_York:20260520T100000
DTSTAMP:20260419T183231
CREATED:20250504T220111Z
LAST-MODIFIED:20260215T204825Z
UID:10037509-1779267600-1779271200@meetings.greysheet.org
SUMMARY:Wednesday CT
DESCRIPTION:We read from the Twelve Steps and Twelve Traditions of Alcoholics Anonymous.
URL:https://meetings.greysheet.org/meeting/wednesday-ct/2026-05-20
CATEGORIES:Zoom
ATTACH;FMTTYPE=image/svg+xml:https://meetings.greysheet.org/wp-content/uploads/2025/05/desktop.svg
LOCATION:Zoom ID: 696119673, Passcode: Universal, Camera: Required
END:VEVENT
BEGIN:VEVENT
DTSTART;TZID=America/New_York:20260527T090000
DTEND;TZID=America/New_York:20260527T100000
DTSTAMP:20260419T183231
CREATED:20250504T220111Z
LAST-MODIFIED:20260215T204825Z
UID:10037510-1779872400-1779876000@meetings.greysheet.org
SUMMARY:Wednesday CT
DESCRIPTION:We read from the Twelve Steps and Twelve Traditions of Alcoholics Anonymous.
URL:https://meetings.greysheet.org/meeting/wednesday-ct/2026-05-27
CATEGORIES:Zoom
ATTACH;FMTTYPE=image/svg+xml:https://meetings.greysheet.org/wp-content/uploads/2025/05/desktop.svg
LOCATION:Zoom ID: 696119673, Passcode: Universal, Camera: Required
END:VEVENT
BEGIN:VEVENT
DTSTART;TZID=America/New_York:20260603T090000
DTEND;TZID=America/New_York:20260603T100000
DTSTAMP:20260419T183231
CREATED:20250504T220111Z
LAST-MODIFIED:20260215T204825Z
UID:10037511-1780477200-1780480800@meetings.greysheet.org
SUMMARY:Wednesday CT
DESCRIPTION:We read from the Twelve Steps and Twelve Traditions of Alcoholics Anonymous.
URL:https://meetings.greysheet.org/meeting/wednesday-ct/2026-06-03
CATEGORIES:Zoom
ATTACH;FMTTYPE=image/svg+xml:https://meetings.greysheet.org/wp-content/uploads/2025/05/desktop.svg
LOCATION:Zoom ID: 696119673, Passcode: Universal, Camera: Required
END:VEVENT
BEGIN:VEVENT
DTSTART;TZID=America/New_York:20260610T090000
DTEND;TZID=America/New_York:20260610T100000
DTSTAMP:20260419T183231
CREATED:20250504T220111Z
LAST-MODIFIED:20260215T204825Z
UID:10037512-1781082000-1781085600@meetings.greysheet.org
SUMMARY:Wednesday CT
DESCRIPTION:We read from the Twelve Steps and Twelve Traditions of Alcoholics Anonymous.
URL:https://meetings.greysheet.org/meeting/wednesday-ct/2026-06-10
CATEGORIES:Zoom
ATTACH;FMTTYPE=image/svg+xml:https://meetings.greysheet.org/wp-content/uploads/2025/05/desktop.svg
LOCATION:Zoom ID: 696119673, Passcode: Universal, Camera: Required
END:VEVENT
BEGIN:VEVENT
DTSTART;TZID=America/New_York:20260617T090000
DTEND;TZID=America/New_York:20260617T100000
DTSTAMP:20260419T183231
CREATED:20250504T220111Z
LAST-MODIFIED:20260215T204825Z
UID:10037513-1781686800-1781690400@meetings.greysheet.org
SUMMARY:Wednesday CT
DESCRIPTION:We read from the Twelve Steps and Twelve Traditions of Alcoholics Anonymous.
URL:https://meetings.greysheet.org/meeting/wednesday-ct/2026-06-17
CATEGORIES:Zoom
ATTACH;FMTTYPE=image/svg+xml:https://meetings.greysheet.org/wp-content/uploads/2025/05/desktop.svg
LOCATION:Zoom ID: 696119673, Passcode: Universal, Camera: Required
END:VEVENT
BEGIN:VEVENT
DTSTART;TZID=America/New_York:20260624T090000
DTEND;TZID=America/New_York:20260624T100000
DTSTAMP:20260419T183231
CREATED:20250504T220111Z
LAST-MODIFIED:20260215T204825Z
UID:10037514-1782291600-1782295200@meetings.greysheet.org
SUMMARY:Wednesday CT
DESCRIPTION:We read from the Twelve Steps and Twelve Traditions of Alcoholics Anonymous.
URL:https://meetings.greysheet.org/meeting/wednesday-ct/2026-06-24
CATEGORIES:Zoom
ATTACH;FMTTYPE=image/svg+xml:https://meetings.greysheet.org/wp-content/uploads/2025/05/desktop.svg
LOCATION:Zoom ID: 696119673, Passcode: Universal, Camera: Required
END:VEVENT
BEGIN:VEVENT
DTSTART;TZID=America/New_York:20260701T090000
DTEND;TZID=America/New_York:20260701T100000
DTSTAMP:20260419T183231
CREATED:20250504T220111Z
LAST-MODIFIED:20260215T204825Z
UID:10037515-1782896400-1782900000@meetings.greysheet.org
SUMMARY:Wednesday CT
DESCRIPTION:We read from the Twelve Steps and Twelve Traditions of Alcoholics Anonymous.
URL:https://meetings.greysheet.org/meeting/wednesday-ct/2026-07-01
CATEGORIES:Zoom
ATTACH;FMTTYPE=image/svg+xml:https://meetings.greysheet.org/wp-content/uploads/2025/05/desktop.svg
LOCATION:Zoom ID: 696119673, Passcode: Universal, Camera: Required
END:VEVENT
BEGIN:VEVENT
DTSTART;TZID=America/New_York:20260708T090000
DTEND;TZID=America/New_York:20260708T100000
DTSTAMP:20260419T183231
CREATED:20250504T220111Z
LAST-MODIFIED:20260215T204825Z
UID:10037516-1783501200-1783504800@meetings.greysheet.org
SUMMARY:Wednesday CT
DESCRIPTION:We read from the Twelve Steps and Twelve Traditions of Alcoholics Anonymous.
URL:https://meetings.greysheet.org/meeting/wednesday-ct/2026-07-08
CATEGORIES:Zoom
ATTACH;FMTTYPE=image/svg+xml:https://meetings.greysheet.org/wp-content/uploads/2025/05/desktop.svg
LOCATION:Zoom ID: 696119673, Passcode: Universal, Camera: Required
END:VEVENT
BEGIN:VEVENT
DTSTART;TZID=America/New_York:20260715T090000
DTEND;TZID=America/New_York:20260715T100000
DTSTAMP:20260419T183231
CREATED:20250504T220111Z
LAST-MODIFIED:20260215T204825Z
UID:10037517-1784106000-1784109600@meetings.greysheet.org
SUMMARY:Wednesday CT
DESCRIPTION:We read from the Twelve Steps and Twelve Traditions of Alcoholics Anonymous.
URL:https://meetings.greysheet.org/meeting/wednesday-ct/2026-07-15
CATEGORIES:Zoom
ATTACH;FMTTYPE=image/svg+xml:https://meetings.greysheet.org/wp-content/uploads/2025/05/desktop.svg
LOCATION:Zoom ID: 696119673, Passcode: Universal, Camera: Required
END:VEVENT
BEGIN:VEVENT
DTSTART;TZID=America/New_York:20260722T090000
DTEND;TZID=America/New_York:20260722T100000
DTSTAMP:20260419T183231
CREATED:20250504T220111Z
LAST-MODIFIED:20260215T204825Z
UID:10037518-1784710800-1784714400@meetings.greysheet.org
SUMMARY:Wednesday CT
DESCRIPTION:We read from the Twelve Steps and Twelve Traditions of Alcoholics Anonymous.
URL:https://meetings.greysheet.org/meeting/wednesday-ct/2026-07-22
CATEGORIES:Zoom
ATTACH;FMTTYPE=image/svg+xml:https://meetings.greysheet.org/wp-content/uploads/2025/05/desktop.svg
LOCATION:Zoom ID: 696119673, Passcode: Universal, Camera: Required
END:VEVENT
BEGIN:VEVENT
DTSTART;TZID=America/New_York:20260729T090000
DTEND;TZID=America/New_York:20260729T100000
DTSTAMP:20260419T183231
CREATED:20250504T220111Z
LAST-MODIFIED:20260215T204825Z
UID:10037519-1785315600-1785319200@meetings.greysheet.org
SUMMARY:Wednesday CT
DESCRIPTION:We read from the Twelve Steps and Twelve Traditions of Alcoholics Anonymous.
URL:https://meetings.greysheet.org/meeting/wednesday-ct/2026-07-29
CATEGORIES:Zoom
ATTACH;FMTTYPE=image/svg+xml:https://meetings.greysheet.org/wp-content/uploads/2025/05/desktop.svg
LOCATION:Zoom ID: 696119673, Passcode: Universal, Camera: Required
END:VEVENT
BEGIN:VEVENT
DTSTART;TZID=America/New_York:20260805T090000
DTEND;TZID=America/New_York:20260805T100000
DTSTAMP:20260419T183231
CREATED:20250504T220111Z
LAST-MODIFIED:20260215T204825Z
UID:10037520-1785920400-1785924000@meetings.greysheet.org
SUMMARY:Wednesday CT
DESCRIPTION:We read from the Twelve Steps and Twelve Traditions of Alcoholics Anonymous.
URL:https://meetings.greysheet.org/meeting/wednesday-ct/2026-08-05
CATEGORIES:Zoom
ATTACH;FMTTYPE=image/svg+xml:https://meetings.greysheet.org/wp-content/uploads/2025/05/desktop.svg
LOCATION:Zoom ID: 696119673, Passcode: Universal, Camera: Required
END:VEVENT
BEGIN:VEVENT
DTSTART;TZID=America/New_York:20260812T090000
DTEND;TZID=America/New_York:20260812T100000
DTSTAMP:20260419T183231
CREATED:20250504T220111Z
LAST-MODIFIED:20260215T204825Z
UID:10037521-1786525200-1786528800@meetings.greysheet.org
SUMMARY:Wednesday CT
DESCRIPTION:We read from the Twelve Steps and Twelve Traditions of Alcoholics Anonymous.
URL:https://meetings.greysheet.org/meeting/wednesday-ct/2026-08-12
CATEGORIES:Zoom
ATTACH;FMTTYPE=image/svg+xml:https://meetings.greysheet.org/wp-content/uploads/2025/05/desktop.svg
LOCATION:Zoom ID: 696119673, Passcode: Universal, Camera: Required
END:VEVENT
BEGIN:VEVENT
DTSTART;TZID=America/New_York:20260819T090000
DTEND;TZID=America/New_York:20260819T100000
DTSTAMP:20260419T183231
CREATED:20250504T220111Z
LAST-MODIFIED:20260215T204825Z
UID:10037522-1787130000-1787133600@meetings.greysheet.org
SUMMARY:Wednesday CT
DESCRIPTION:We read from the Twelve Steps and Twelve Traditions of Alcoholics Anonymous.
URL:https://meetings.greysheet.org/meeting/wednesday-ct/2026-08-19
CATEGORIES:Zoom
ATTACH;FMTTYPE=image/svg+xml:https://meetings.greysheet.org/wp-content/uploads/2025/05/desktop.svg
LOCATION:Zoom ID: 696119673, Passcode: Universal, Camera: Required
END:VEVENT
BEGIN:VEVENT
DTSTART;TZID=America/New_York:20260826T090000
DTEND;TZID=America/New_York:20260826T100000
DTSTAMP:20260419T183231
CREATED:20250504T220111Z
LAST-MODIFIED:20260215T204825Z
UID:10037523-1787734800-1787738400@meetings.greysheet.org
SUMMARY:Wednesday CT
DESCRIPTION:We read from the Twelve Steps and Twelve Traditions of Alcoholics Anonymous.
URL:https://meetings.greysheet.org/meeting/wednesday-ct/2026-08-26
CATEGORIES:Zoom
ATTACH;FMTTYPE=image/svg+xml:https://meetings.greysheet.org/wp-content/uploads/2025/05/desktop.svg
LOCATION:Zoom ID: 696119673, Passcode: Universal, Camera: Required
END:VEVENT
BEGIN:VEVENT
DTSTART;TZID=America/New_York:20260902T090000
DTEND;TZID=America/New_York:20260902T100000
DTSTAMP:20260419T183231
CREATED:20250504T220111Z
LAST-MODIFIED:20260215T204825Z
UID:10037524-1788339600-1788343200@meetings.greysheet.org
SUMMARY:Wednesday CT
DESCRIPTION:We read from the Twelve Steps and Twelve Traditions of Alcoholics Anonymous.
URL:https://meetings.greysheet.org/meeting/wednesday-ct/2026-09-02
CATEGORIES:Zoom
ATTACH;FMTTYPE=image/svg+xml:https://meetings.greysheet.org/wp-content/uploads/2025/05/desktop.svg
LOCATION:Zoom ID: 696119673, Passcode: Universal, Camera: Required
END:VEVENT
BEGIN:VEVENT
DTSTART;TZID=America/New_York:20260909T090000
DTEND;TZID=America/New_York:20260909T100000
DTSTAMP:20260419T183231
CREATED:20250504T220111Z
LAST-MODIFIED:20260215T204825Z
UID:10037525-1788944400-1788948000@meetings.greysheet.org
SUMMARY:Wednesday CT
DESCRIPTION:We read from the Twelve Steps and Twelve Traditions of Alcoholics Anonymous.
URL:https://meetings.greysheet.org/meeting/wednesday-ct/2026-09-09
CATEGORIES:Zoom
ATTACH;FMTTYPE=image/svg+xml:https://meetings.greysheet.org/wp-content/uploads/2025/05/desktop.svg
LOCATION:Zoom ID: 696119673, Passcode: Universal, Camera: Required
END:VEVENT
BEGIN:VEVENT
DTSTART;TZID=America/New_York:20260916T090000
DTEND;TZID=America/New_York:20260916T100000
DTSTAMP:20260419T183231
CREATED:20250504T220111Z
LAST-MODIFIED:20260215T204825Z
UID:10037526-1789549200-1789552800@meetings.greysheet.org
SUMMARY:Wednesday CT
DESCRIPTION:We read from the Twelve Steps and Twelve Traditions of Alcoholics Anonymous.
URL:https://meetings.greysheet.org/meeting/wednesday-ct/2026-09-16
CATEGORIES:Zoom
ATTACH;FMTTYPE=image/svg+xml:https://meetings.greysheet.org/wp-content/uploads/2025/05/desktop.svg
LOCATION:Zoom ID: 696119673, Passcode: Universal, Camera: Required
END:VEVENT
BEGIN:VEVENT
DTSTART;TZID=America/New_York:20260923T090000
DTEND;TZID=America/New_York:20260923T100000
DTSTAMP:20260419T183231
CREATED:20250504T220111Z
LAST-MODIFIED:20260215T204825Z
UID:10037527-1790154000-1790157600@meetings.greysheet.org
SUMMARY:Wednesday CT
DESCRIPTION:We read from the Twelve Steps and Twelve Traditions of Alcoholics Anonymous.
URL:https://meetings.greysheet.org/meeting/wednesday-ct/2026-09-23
CATEGORIES:Zoom
ATTACH;FMTTYPE=image/svg+xml:https://meetings.greysheet.org/wp-content/uploads/2025/05/desktop.svg
LOCATION:Zoom ID: 696119673, Passcode: Universal, Camera: Required
END:VEVENT
BEGIN:VEVENT
DTSTART;TZID=America/New_York:20260930T090000
DTEND;TZID=America/New_York:20260930T100000
DTSTAMP:20260419T183231
CREATED:20250504T220111Z
LAST-MODIFIED:20260215T204825Z
UID:10037528-1790758800-1790762400@meetings.greysheet.org
SUMMARY:Wednesday CT
DESCRIPTION:We read from the Twelve Steps and Twelve Traditions of Alcoholics Anonymous.
URL:https://meetings.greysheet.org/meeting/wednesday-ct/2026-09-30
CATEGORIES:Zoom
ATTACH;FMTTYPE=image/svg+xml:https://meetings.greysheet.org/wp-content/uploads/2025/05/desktop.svg
LOCATION:Zoom ID: 696119673, Passcode: Universal, Camera: Required
END:VEVENT
BEGIN:VEVENT
DTSTART;TZID=America/New_York:20261007T090000
DTEND;TZID=America/New_York:20261007T100000
DTSTAMP:20260419T183231
CREATED:20250504T220111Z
LAST-MODIFIED:20260215T204825Z
UID:10037529-1791363600-1791367200@meetings.greysheet.org
SUMMARY:Wednesday CT
DESCRIPTION:We read from the Twelve Steps and Twelve Traditions of Alcoholics Anonymous.
URL:https://meetings.greysheet.org/meeting/wednesday-ct/2026-10-07
CATEGORIES:Zoom
ATTACH;FMTTYPE=image/svg+xml:https://meetings.greysheet.org/wp-content/uploads/2025/05/desktop.svg
LOCATION:Zoom ID: 696119673, Passcode: Universal, Camera: Required
END:VEVENT
BEGIN:VEVENT
DTSTART;TZID=America/New_York:20261014T090000
DTEND;TZID=America/New_York:20261014T100000
DTSTAMP:20260419T183231
CREATED:20250504T220111Z
LAST-MODIFIED:20260215T204825Z
UID:10037530-1791968400-1791972000@meetings.greysheet.org
SUMMARY:Wednesday CT
DESCRIPTION:We read from the Twelve Steps and Twelve Traditions of Alcoholics Anonymous.
URL:https://meetings.greysheet.org/meeting/wednesday-ct/2026-10-14
CATEGORIES:Zoom
ATTACH;FMTTYPE=image/svg+xml:https://meetings.greysheet.org/wp-content/uploads/2025/05/desktop.svg
LOCATION:Zoom ID: 696119673, Passcode: Universal, Camera: Required
END:VEVENT
BEGIN:VEVENT
DTSTART;TZID=America/New_York:20261021T090000
DTEND;TZID=America/New_York:20261021T100000
DTSTAMP:20260419T183231
CREATED:20250504T220111Z
LAST-MODIFIED:20260215T204825Z
UID:10037531-1792573200-1792576800@meetings.greysheet.org
SUMMARY:Wednesday CT
DESCRIPTION:We read from the Twelve Steps and Twelve Traditions of Alcoholics Anonymous.
URL:https://meetings.greysheet.org/meeting/wednesday-ct/2026-10-21
CATEGORIES:Zoom
ATTACH;FMTTYPE=image/svg+xml:https://meetings.greysheet.org/wp-content/uploads/2025/05/desktop.svg
LOCATION:Zoom ID: 696119673, Passcode: Universal, Camera: Required
END:VEVENT
BEGIN:VEVENT
DTSTART;TZID=America/New_York:20261028T090000
DTEND;TZID=America/New_York:20261028T100000
DTSTAMP:20260419T183231
CREATED:20250504T220111Z
LAST-MODIFIED:20260215T204825Z
UID:10037532-1793178000-1793181600@meetings.greysheet.org
SUMMARY:Wednesday CT
DESCRIPTION:We read from the Twelve Steps and Twelve Traditions of Alcoholics Anonymous.
URL:https://meetings.greysheet.org/meeting/wednesday-ct/2026-10-28
CATEGORIES:Zoom
ATTACH;FMTTYPE=image/svg+xml:https://meetings.greysheet.org/wp-content/uploads/2025/05/desktop.svg
LOCATION:Zoom ID: 696119673, Passcode: Universal, Camera: Required
END:VEVENT
BEGIN:VEVENT
DTSTART;TZID=America/New_York:20261104T090000
DTEND;TZID=America/New_York:20261104T100000
DTSTAMP:20260419T183231
CREATED:20250504T220111Z
LAST-MODIFIED:20260215T204825Z
UID:10037533-1793782800-1793786400@meetings.greysheet.org
SUMMARY:Wednesday CT
DESCRIPTION:We read from the Twelve Steps and Twelve Traditions of Alcoholics Anonymous.
URL:https://meetings.greysheet.org/meeting/wednesday-ct/2026-11-04
CATEGORIES:Zoom
ATTACH;FMTTYPE=image/svg+xml:https://meetings.greysheet.org/wp-content/uploads/2025/05/desktop.svg
LOCATION:Zoom ID: 696119673, Passcode: Universal, Camera: Required
END:VEVENT
BEGIN:VEVENT
DTSTART;TZID=America/New_York:20261111T090000
DTEND;TZID=America/New_York:20261111T100000
DTSTAMP:20260419T183231
CREATED:20250504T220111Z
LAST-MODIFIED:20260215T204825Z
UID:10037534-1794387600-1794391200@meetings.greysheet.org
SUMMARY:Wednesday CT
DESCRIPTION:We read from the Twelve Steps and Twelve Traditions of Alcoholics Anonymous.
URL:https://meetings.greysheet.org/meeting/wednesday-ct/2026-11-11
CATEGORIES:Zoom
ATTACH;FMTTYPE=image/svg+xml:https://meetings.greysheet.org/wp-content/uploads/2025/05/desktop.svg
LOCATION:Zoom ID: 696119673, Passcode: Universal, Camera: Required
END:VEVENT
END:VCALENDAR