BEGIN:VCALENDAR
VERSION:2.0
PRODID:-//GreySheeters Anonymous World Services - ECPv6.15.20//NONSGML v1.0//EN
CALSCALE:GREGORIAN
METHOD:PUBLISH
X-WR-CALNAME:GreySheeters Anonymous World Services
X-ORIGINAL-URL:https://meetings.greysheet.org
X-WR-CALDESC:Events for GreySheeters Anonymous World Services
REFRESH-INTERVAL;VALUE=DURATION:PT1H
X-Robots-Tag:noindex
X-PUBLISHED-TTL:PT1H
BEGIN:VTIMEZONE
TZID:America/Santo_Domingo
BEGIN:STANDARD
TZOFFSETFROM:-0400
TZOFFSETTO:-0400
TZNAME:AST
DTSTART:20250101T000000
END:STANDARD
END:VTIMEZONE
BEGIN:VEVENT
DTSTART;TZID=America/Santo_Domingo:20260424T070000
DTEND;TZID=America/Santo_Domingo:20260424T080000
DTSTAMP:20260423T164610
CREATED:20250504T220104Z
LAST-MODIFIED:20260215T202123Z
UID:10034857-1777014000-1777017600@meetings.greysheet.org
SUMMARY:El Cafecito Fri AM
DESCRIPTION:
URL:https://meetings.greysheet.org/meeting/el-cafecito-fri-am/2026-04-24
CATEGORIES:Zoom
ATTACH;FMTTYPE=image/svg+xml:https://meetings.greysheet.org/wp-content/uploads/2025/05/desktop.svg
LOCATION:Zoom ID: 5613437089, Passcode: Universal, Camera: Optional
END:VEVENT
BEGIN:VEVENT
DTSTART;TZID=America/Santo_Domingo:20260501T070000
DTEND;TZID=America/Santo_Domingo:20260501T080000
DTSTAMP:20260423T164610
CREATED:20250504T220104Z
LAST-MODIFIED:20260215T202123Z
UID:10034858-1777618800-1777622400@meetings.greysheet.org
SUMMARY:El Cafecito Fri AM
DESCRIPTION:
URL:https://meetings.greysheet.org/meeting/el-cafecito-fri-am/2026-05-01
CATEGORIES:Zoom
ATTACH;FMTTYPE=image/svg+xml:https://meetings.greysheet.org/wp-content/uploads/2025/05/desktop.svg
LOCATION:Zoom ID: 5613437089, Passcode: Universal, Camera: Optional
END:VEVENT
BEGIN:VEVENT
DTSTART;TZID=America/Santo_Domingo:20260508T070000
DTEND;TZID=America/Santo_Domingo:20260508T080000
DTSTAMP:20260423T164610
CREATED:20250504T220104Z
LAST-MODIFIED:20260215T202123Z
UID:10034859-1778223600-1778227200@meetings.greysheet.org
SUMMARY:El Cafecito Fri AM
DESCRIPTION:
URL:https://meetings.greysheet.org/meeting/el-cafecito-fri-am/2026-05-08
CATEGORIES:Zoom
ATTACH;FMTTYPE=image/svg+xml:https://meetings.greysheet.org/wp-content/uploads/2025/05/desktop.svg
LOCATION:Zoom ID: 5613437089, Passcode: Universal, Camera: Optional
END:VEVENT
BEGIN:VEVENT
DTSTART;TZID=America/Santo_Domingo:20260515T070000
DTEND;TZID=America/Santo_Domingo:20260515T080000
DTSTAMP:20260423T164610
CREATED:20250504T220104Z
LAST-MODIFIED:20260215T202123Z
UID:10034860-1778828400-1778832000@meetings.greysheet.org
SUMMARY:El Cafecito Fri AM
DESCRIPTION:
URL:https://meetings.greysheet.org/meeting/el-cafecito-fri-am/2026-05-15
CATEGORIES:Zoom
ATTACH;FMTTYPE=image/svg+xml:https://meetings.greysheet.org/wp-content/uploads/2025/05/desktop.svg
LOCATION:Zoom ID: 5613437089, Passcode: Universal, Camera: Optional
END:VEVENT
BEGIN:VEVENT
DTSTART;TZID=America/Santo_Domingo:20260522T070000
DTEND;TZID=America/Santo_Domingo:20260522T080000
DTSTAMP:20260423T164610
CREATED:20250504T220104Z
LAST-MODIFIED:20260215T202123Z
UID:10034861-1779433200-1779436800@meetings.greysheet.org
SUMMARY:El Cafecito Fri AM
DESCRIPTION:
URL:https://meetings.greysheet.org/meeting/el-cafecito-fri-am/2026-05-22
CATEGORIES:Zoom
ATTACH;FMTTYPE=image/svg+xml:https://meetings.greysheet.org/wp-content/uploads/2025/05/desktop.svg
LOCATION:Zoom ID: 5613437089, Passcode: Universal, Camera: Optional
END:VEVENT
BEGIN:VEVENT
DTSTART;TZID=America/Santo_Domingo:20260529T070000
DTEND;TZID=America/Santo_Domingo:20260529T080000
DTSTAMP:20260423T164610
CREATED:20250504T220104Z
LAST-MODIFIED:20260215T202123Z
UID:10034862-1780038000-1780041600@meetings.greysheet.org
SUMMARY:El Cafecito Fri AM
DESCRIPTION:
URL:https://meetings.greysheet.org/meeting/el-cafecito-fri-am/2026-05-29
CATEGORIES:Zoom
ATTACH;FMTTYPE=image/svg+xml:https://meetings.greysheet.org/wp-content/uploads/2025/05/desktop.svg
LOCATION:Zoom ID: 5613437089, Passcode: Universal, Camera: Optional
END:VEVENT
BEGIN:VEVENT
DTSTART;TZID=America/Santo_Domingo:20260605T070000
DTEND;TZID=America/Santo_Domingo:20260605T080000
DTSTAMP:20260423T164610
CREATED:20250504T220104Z
LAST-MODIFIED:20260215T202123Z
UID:10034863-1780642800-1780646400@meetings.greysheet.org
SUMMARY:El Cafecito Fri AM
DESCRIPTION:
URL:https://meetings.greysheet.org/meeting/el-cafecito-fri-am/2026-06-05
CATEGORIES:Zoom
ATTACH;FMTTYPE=image/svg+xml:https://meetings.greysheet.org/wp-content/uploads/2025/05/desktop.svg
LOCATION:Zoom ID: 5613437089, Passcode: Universal, Camera: Optional
END:VEVENT
BEGIN:VEVENT
DTSTART;TZID=America/Santo_Domingo:20260612T070000
DTEND;TZID=America/Santo_Domingo:20260612T080000
DTSTAMP:20260423T164610
CREATED:20250504T220104Z
LAST-MODIFIED:20260215T202123Z
UID:10034864-1781247600-1781251200@meetings.greysheet.org
SUMMARY:El Cafecito Fri AM
DESCRIPTION:
URL:https://meetings.greysheet.org/meeting/el-cafecito-fri-am/2026-06-12
CATEGORIES:Zoom
ATTACH;FMTTYPE=image/svg+xml:https://meetings.greysheet.org/wp-content/uploads/2025/05/desktop.svg
LOCATION:Zoom ID: 5613437089, Passcode: Universal, Camera: Optional
END:VEVENT
BEGIN:VEVENT
DTSTART;TZID=America/Santo_Domingo:20260619T070000
DTEND;TZID=America/Santo_Domingo:20260619T080000
DTSTAMP:20260423T164610
CREATED:20250504T220104Z
LAST-MODIFIED:20260215T202123Z
UID:10034865-1781852400-1781856000@meetings.greysheet.org
SUMMARY:El Cafecito Fri AM
DESCRIPTION:
URL:https://meetings.greysheet.org/meeting/el-cafecito-fri-am/2026-06-19
CATEGORIES:Zoom
ATTACH;FMTTYPE=image/svg+xml:https://meetings.greysheet.org/wp-content/uploads/2025/05/desktop.svg
LOCATION:Zoom ID: 5613437089, Passcode: Universal, Camera: Optional
END:VEVENT
BEGIN:VEVENT
DTSTART;TZID=America/Santo_Domingo:20260626T070000
DTEND;TZID=America/Santo_Domingo:20260626T080000
DTSTAMP:20260423T164610
CREATED:20250504T220104Z
LAST-MODIFIED:20260215T202123Z
UID:10034866-1782457200-1782460800@meetings.greysheet.org
SUMMARY:El Cafecito Fri AM
DESCRIPTION:
URL:https://meetings.greysheet.org/meeting/el-cafecito-fri-am/2026-06-26
CATEGORIES:Zoom
ATTACH;FMTTYPE=image/svg+xml:https://meetings.greysheet.org/wp-content/uploads/2025/05/desktop.svg
LOCATION:Zoom ID: 5613437089, Passcode: Universal, Camera: Optional
END:VEVENT
BEGIN:VEVENT
DTSTART;TZID=America/Santo_Domingo:20260703T070000
DTEND;TZID=America/Santo_Domingo:20260703T080000
DTSTAMP:20260423T164610
CREATED:20250504T220104Z
LAST-MODIFIED:20260215T202123Z
UID:10034867-1783062000-1783065600@meetings.greysheet.org
SUMMARY:El Cafecito Fri AM
DESCRIPTION:
URL:https://meetings.greysheet.org/meeting/el-cafecito-fri-am/2026-07-03
CATEGORIES:Zoom
ATTACH;FMTTYPE=image/svg+xml:https://meetings.greysheet.org/wp-content/uploads/2025/05/desktop.svg
LOCATION:Zoom ID: 5613437089, Passcode: Universal, Camera: Optional
END:VEVENT
BEGIN:VEVENT
DTSTART;TZID=America/Santo_Domingo:20260710T070000
DTEND;TZID=America/Santo_Domingo:20260710T080000
DTSTAMP:20260423T164610
CREATED:20250504T220104Z
LAST-MODIFIED:20260215T202123Z
UID:10034868-1783666800-1783670400@meetings.greysheet.org
SUMMARY:El Cafecito Fri AM
DESCRIPTION:
URL:https://meetings.greysheet.org/meeting/el-cafecito-fri-am/2026-07-10
CATEGORIES:Zoom
ATTACH;FMTTYPE=image/svg+xml:https://meetings.greysheet.org/wp-content/uploads/2025/05/desktop.svg
LOCATION:Zoom ID: 5613437089, Passcode: Universal, Camera: Optional
END:VEVENT
BEGIN:VEVENT
DTSTART;TZID=America/Santo_Domingo:20260717T070000
DTEND;TZID=America/Santo_Domingo:20260717T080000
DTSTAMP:20260423T164610
CREATED:20250504T220104Z
LAST-MODIFIED:20260215T202123Z
UID:10034869-1784271600-1784275200@meetings.greysheet.org
SUMMARY:El Cafecito Fri AM
DESCRIPTION:
URL:https://meetings.greysheet.org/meeting/el-cafecito-fri-am/2026-07-17
CATEGORIES:Zoom
ATTACH;FMTTYPE=image/svg+xml:https://meetings.greysheet.org/wp-content/uploads/2025/05/desktop.svg
LOCATION:Zoom ID: 5613437089, Passcode: Universal, Camera: Optional
END:VEVENT
BEGIN:VEVENT
DTSTART;TZID=America/Santo_Domingo:20260724T070000
DTEND;TZID=America/Santo_Domingo:20260724T080000
DTSTAMP:20260423T164610
CREATED:20250504T220104Z
LAST-MODIFIED:20260215T202123Z
UID:10034870-1784876400-1784880000@meetings.greysheet.org
SUMMARY:El Cafecito Fri AM
DESCRIPTION:
URL:https://meetings.greysheet.org/meeting/el-cafecito-fri-am/2026-07-24
CATEGORIES:Zoom
ATTACH;FMTTYPE=image/svg+xml:https://meetings.greysheet.org/wp-content/uploads/2025/05/desktop.svg
LOCATION:Zoom ID: 5613437089, Passcode: Universal, Camera: Optional
END:VEVENT
BEGIN:VEVENT
DTSTART;TZID=America/Santo_Domingo:20260731T070000
DTEND;TZID=America/Santo_Domingo:20260731T080000
DTSTAMP:20260423T164610
CREATED:20250504T220104Z
LAST-MODIFIED:20260215T202123Z
UID:10034871-1785481200-1785484800@meetings.greysheet.org
SUMMARY:El Cafecito Fri AM
DESCRIPTION:
URL:https://meetings.greysheet.org/meeting/el-cafecito-fri-am/2026-07-31
CATEGORIES:Zoom
ATTACH;FMTTYPE=image/svg+xml:https://meetings.greysheet.org/wp-content/uploads/2025/05/desktop.svg
LOCATION:Zoom ID: 5613437089, Passcode: Universal, Camera: Optional
END:VEVENT
BEGIN:VEVENT
DTSTART;TZID=America/Santo_Domingo:20260807T070000
DTEND;TZID=America/Santo_Domingo:20260807T080000
DTSTAMP:20260423T164610
CREATED:20250504T220104Z
LAST-MODIFIED:20260215T202123Z
UID:10034872-1786086000-1786089600@meetings.greysheet.org
SUMMARY:El Cafecito Fri AM
DESCRIPTION:
URL:https://meetings.greysheet.org/meeting/el-cafecito-fri-am/2026-08-07
CATEGORIES:Zoom
ATTACH;FMTTYPE=image/svg+xml:https://meetings.greysheet.org/wp-content/uploads/2025/05/desktop.svg
LOCATION:Zoom ID: 5613437089, Passcode: Universal, Camera: Optional
END:VEVENT
BEGIN:VEVENT
DTSTART;TZID=America/Santo_Domingo:20260814T070000
DTEND;TZID=America/Santo_Domingo:20260814T080000
DTSTAMP:20260423T164610
CREATED:20250504T220104Z
LAST-MODIFIED:20260215T202123Z
UID:10034873-1786690800-1786694400@meetings.greysheet.org
SUMMARY:El Cafecito Fri AM
DESCRIPTION:
URL:https://meetings.greysheet.org/meeting/el-cafecito-fri-am/2026-08-14
CATEGORIES:Zoom
ATTACH;FMTTYPE=image/svg+xml:https://meetings.greysheet.org/wp-content/uploads/2025/05/desktop.svg
LOCATION:Zoom ID: 5613437089, Passcode: Universal, Camera: Optional
END:VEVENT
BEGIN:VEVENT
DTSTART;TZID=America/Santo_Domingo:20260821T070000
DTEND;TZID=America/Santo_Domingo:20260821T080000
DTSTAMP:20260423T164610
CREATED:20250504T220104Z
LAST-MODIFIED:20260215T202123Z
UID:10034874-1787295600-1787299200@meetings.greysheet.org
SUMMARY:El Cafecito Fri AM
DESCRIPTION:
URL:https://meetings.greysheet.org/meeting/el-cafecito-fri-am/2026-08-21
CATEGORIES:Zoom
ATTACH;FMTTYPE=image/svg+xml:https://meetings.greysheet.org/wp-content/uploads/2025/05/desktop.svg
LOCATION:Zoom ID: 5613437089, Passcode: Universal, Camera: Optional
END:VEVENT
BEGIN:VEVENT
DTSTART;TZID=America/Santo_Domingo:20260828T070000
DTEND;TZID=America/Santo_Domingo:20260828T080000
DTSTAMP:20260423T164610
CREATED:20250504T220104Z
LAST-MODIFIED:20260215T202123Z
UID:10034875-1787900400-1787904000@meetings.greysheet.org
SUMMARY:El Cafecito Fri AM
DESCRIPTION:
URL:https://meetings.greysheet.org/meeting/el-cafecito-fri-am/2026-08-28
CATEGORIES:Zoom
ATTACH;FMTTYPE=image/svg+xml:https://meetings.greysheet.org/wp-content/uploads/2025/05/desktop.svg
LOCATION:Zoom ID: 5613437089, Passcode: Universal, Camera: Optional
END:VEVENT
BEGIN:VEVENT
DTSTART;TZID=America/Santo_Domingo:20260904T070000
DTEND;TZID=America/Santo_Domingo:20260904T080000
DTSTAMP:20260423T164610
CREATED:20250504T220104Z
LAST-MODIFIED:20260215T202123Z
UID:10034876-1788505200-1788508800@meetings.greysheet.org
SUMMARY:El Cafecito Fri AM
DESCRIPTION:
URL:https://meetings.greysheet.org/meeting/el-cafecito-fri-am/2026-09-04
CATEGORIES:Zoom
ATTACH;FMTTYPE=image/svg+xml:https://meetings.greysheet.org/wp-content/uploads/2025/05/desktop.svg
LOCATION:Zoom ID: 5613437089, Passcode: Universal, Camera: Optional
END:VEVENT
BEGIN:VEVENT
DTSTART;TZID=America/Santo_Domingo:20260911T070000
DTEND;TZID=America/Santo_Domingo:20260911T080000
DTSTAMP:20260423T164610
CREATED:20250504T220104Z
LAST-MODIFIED:20260215T202123Z
UID:10034877-1789110000-1789113600@meetings.greysheet.org
SUMMARY:El Cafecito Fri AM
DESCRIPTION:
URL:https://meetings.greysheet.org/meeting/el-cafecito-fri-am/2026-09-11
CATEGORIES:Zoom
ATTACH;FMTTYPE=image/svg+xml:https://meetings.greysheet.org/wp-content/uploads/2025/05/desktop.svg
LOCATION:Zoom ID: 5613437089, Passcode: Universal, Camera: Optional
END:VEVENT
BEGIN:VEVENT
DTSTART;TZID=America/Santo_Domingo:20260918T070000
DTEND;TZID=America/Santo_Domingo:20260918T080000
DTSTAMP:20260423T164610
CREATED:20250504T220104Z
LAST-MODIFIED:20260215T202123Z
UID:10034878-1789714800-1789718400@meetings.greysheet.org
SUMMARY:El Cafecito Fri AM
DESCRIPTION:
URL:https://meetings.greysheet.org/meeting/el-cafecito-fri-am/2026-09-18
CATEGORIES:Zoom
ATTACH;FMTTYPE=image/svg+xml:https://meetings.greysheet.org/wp-content/uploads/2025/05/desktop.svg
LOCATION:Zoom ID: 5613437089, Passcode: Universal, Camera: Optional
END:VEVENT
BEGIN:VEVENT
DTSTART;TZID=America/Santo_Domingo:20260925T070000
DTEND;TZID=America/Santo_Domingo:20260925T080000
DTSTAMP:20260423T164610
CREATED:20250504T220104Z
LAST-MODIFIED:20260215T202123Z
UID:10034879-1790319600-1790323200@meetings.greysheet.org
SUMMARY:El Cafecito Fri AM
DESCRIPTION:
URL:https://meetings.greysheet.org/meeting/el-cafecito-fri-am/2026-09-25
CATEGORIES:Zoom
ATTACH;FMTTYPE=image/svg+xml:https://meetings.greysheet.org/wp-content/uploads/2025/05/desktop.svg
LOCATION:Zoom ID: 5613437089, Passcode: Universal, Camera: Optional
END:VEVENT
BEGIN:VEVENT
DTSTART;TZID=America/Santo_Domingo:20261002T070000
DTEND;TZID=America/Santo_Domingo:20261002T080000
DTSTAMP:20260423T164610
CREATED:20250504T220104Z
LAST-MODIFIED:20260215T202123Z
UID:10034880-1790924400-1790928000@meetings.greysheet.org
SUMMARY:El Cafecito Fri AM
DESCRIPTION:
URL:https://meetings.greysheet.org/meeting/el-cafecito-fri-am/2026-10-02
CATEGORIES:Zoom
ATTACH;FMTTYPE=image/svg+xml:https://meetings.greysheet.org/wp-content/uploads/2025/05/desktop.svg
LOCATION:Zoom ID: 5613437089, Passcode: Universal, Camera: Optional
END:VEVENT
BEGIN:VEVENT
DTSTART;TZID=America/Santo_Domingo:20261009T070000
DTEND;TZID=America/Santo_Domingo:20261009T080000
DTSTAMP:20260423T164610
CREATED:20250504T220104Z
LAST-MODIFIED:20260215T202123Z
UID:10034881-1791529200-1791532800@meetings.greysheet.org
SUMMARY:El Cafecito Fri AM
DESCRIPTION:
URL:https://meetings.greysheet.org/meeting/el-cafecito-fri-am/2026-10-09
CATEGORIES:Zoom
ATTACH;FMTTYPE=image/svg+xml:https://meetings.greysheet.org/wp-content/uploads/2025/05/desktop.svg
LOCATION:Zoom ID: 5613437089, Passcode: Universal, Camera: Optional
END:VEVENT
BEGIN:VEVENT
DTSTART;TZID=America/Santo_Domingo:20261016T070000
DTEND;TZID=America/Santo_Domingo:20261016T080000
DTSTAMP:20260423T164610
CREATED:20250504T220104Z
LAST-MODIFIED:20260215T202123Z
UID:10034882-1792134000-1792137600@meetings.greysheet.org
SUMMARY:El Cafecito Fri AM
DESCRIPTION:
URL:https://meetings.greysheet.org/meeting/el-cafecito-fri-am/2026-10-16
CATEGORIES:Zoom
ATTACH;FMTTYPE=image/svg+xml:https://meetings.greysheet.org/wp-content/uploads/2025/05/desktop.svg
LOCATION:Zoom ID: 5613437089, Passcode: Universal, Camera: Optional
END:VEVENT
BEGIN:VEVENT
DTSTART;TZID=America/Santo_Domingo:20261023T070000
DTEND;TZID=America/Santo_Domingo:20261023T080000
DTSTAMP:20260423T164610
CREATED:20250504T220104Z
LAST-MODIFIED:20260215T202123Z
UID:10034883-1792738800-1792742400@meetings.greysheet.org
SUMMARY:El Cafecito Fri AM
DESCRIPTION:
URL:https://meetings.greysheet.org/meeting/el-cafecito-fri-am/2026-10-23
CATEGORIES:Zoom
ATTACH;FMTTYPE=image/svg+xml:https://meetings.greysheet.org/wp-content/uploads/2025/05/desktop.svg
LOCATION:Zoom ID: 5613437089, Passcode: Universal, Camera: Optional
END:VEVENT
BEGIN:VEVENT
DTSTART;TZID=America/Santo_Domingo:20261030T070000
DTEND;TZID=America/Santo_Domingo:20261030T080000
DTSTAMP:20260423T164610
CREATED:20250504T220104Z
LAST-MODIFIED:20260215T202123Z
UID:10034884-1793343600-1793347200@meetings.greysheet.org
SUMMARY:El Cafecito Fri AM
DESCRIPTION:
URL:https://meetings.greysheet.org/meeting/el-cafecito-fri-am/2026-10-30
CATEGORIES:Zoom
ATTACH;FMTTYPE=image/svg+xml:https://meetings.greysheet.org/wp-content/uploads/2025/05/desktop.svg
LOCATION:Zoom ID: 5613437089, Passcode: Universal, Camera: Optional
END:VEVENT
BEGIN:VEVENT
DTSTART;TZID=America/Santo_Domingo:20261106T070000
DTEND;TZID=America/Santo_Domingo:20261106T080000
DTSTAMP:20260423T164610
CREATED:20250504T220104Z
LAST-MODIFIED:20260215T202123Z
UID:10034885-1793948400-1793952000@meetings.greysheet.org
SUMMARY:El Cafecito Fri AM
DESCRIPTION:
URL:https://meetings.greysheet.org/meeting/el-cafecito-fri-am/2026-11-06
CATEGORIES:Zoom
ATTACH;FMTTYPE=image/svg+xml:https://meetings.greysheet.org/wp-content/uploads/2025/05/desktop.svg
LOCATION:Zoom ID: 5613437089, Passcode: Universal, Camera: Optional
END:VEVENT
BEGIN:VEVENT
DTSTART;TZID=America/Santo_Domingo:20261113T070000
DTEND;TZID=America/Santo_Domingo:20261113T080000
DTSTAMP:20260423T164610
CREATED:20250504T220104Z
LAST-MODIFIED:20260215T202123Z
UID:10034886-1794553200-1794556800@meetings.greysheet.org
SUMMARY:El Cafecito Fri AM
DESCRIPTION:
URL:https://meetings.greysheet.org/meeting/el-cafecito-fri-am/2026-11-13
CATEGORIES:Zoom
ATTACH;FMTTYPE=image/svg+xml:https://meetings.greysheet.org/wp-content/uploads/2025/05/desktop.svg
LOCATION:Zoom ID: 5613437089, Passcode: Universal, Camera: Optional
END:VEVENT
END:VCALENDAR