BEGIN:VCALENDAR
VERSION:2.0
PRODID:-//GreySheeters Anonymous World Services - ECPv6.15.20//NONSGML v1.0//EN
CALSCALE:GREGORIAN
METHOD:PUBLISH
X-WR-CALNAME:GreySheeters Anonymous World Services
X-ORIGINAL-URL:https://meetings.greysheet.org
X-WR-CALDESC:Events for GreySheeters Anonymous World Services
REFRESH-INTERVAL;VALUE=DURATION:PT1H
X-Robots-Tag:noindex
X-PUBLISHED-TTL:PT1H
BEGIN:VTIMEZONE
TZID:America/Mexico_City
BEGIN:STANDARD
TZOFFSETFROM:-0600
TZOFFSETTO:-0600
TZNAME:CST
DTSTART:20250101T000000
END:STANDARD
END:VTIMEZONE
BEGIN:VEVENT
DTSTART;TZID=America/Mexico_City:20260423T150000
DTEND;TZID=America/Mexico_City:20260423T160000
DTSTAMP:20260420T165852
CREATED:20250504T220055Z
LAST-MODIFIED:20260215T200506Z
UID:10029985-1776956400-1776960000@meetings.greysheet.org
SUMMARY:Al Transcurrir Thu
DESCRIPTION:When agitated or doubtful\, we pause.
URL:https://meetings.greysheet.org/meeting/transcurir-thu/2026-04-23
CATEGORIES:Zoom
ATTACH;FMTTYPE=image/svg+xml:https://meetings.greysheet.org/wp-content/uploads/2025/05/desktop.svg
LOCATION:Zoom ID: 4612168301, Passcode: Universal, Camera: Optional
END:VEVENT
BEGIN:VEVENT
DTSTART;TZID=America/Mexico_City:20260430T150000
DTEND;TZID=America/Mexico_City:20260430T160000
DTSTAMP:20260420T165852
CREATED:20250504T220055Z
LAST-MODIFIED:20260215T200506Z
UID:10029986-1777561200-1777564800@meetings.greysheet.org
SUMMARY:Al Transcurrir Thu
DESCRIPTION:When agitated or doubtful\, we pause.
URL:https://meetings.greysheet.org/meeting/transcurir-thu/2026-04-30
CATEGORIES:Zoom
ATTACH;FMTTYPE=image/svg+xml:https://meetings.greysheet.org/wp-content/uploads/2025/05/desktop.svg
LOCATION:Zoom ID: 4612168301, Passcode: Universal, Camera: Optional
END:VEVENT
BEGIN:VEVENT
DTSTART;TZID=America/Mexico_City:20260507T150000
DTEND;TZID=America/Mexico_City:20260507T160000
DTSTAMP:20260420T165852
CREATED:20250504T220055Z
LAST-MODIFIED:20260215T200506Z
UID:10029987-1778166000-1778169600@meetings.greysheet.org
SUMMARY:Al Transcurrir Thu
DESCRIPTION:When agitated or doubtful\, we pause.
URL:https://meetings.greysheet.org/meeting/transcurir-thu/2026-05-07
CATEGORIES:Zoom
ATTACH;FMTTYPE=image/svg+xml:https://meetings.greysheet.org/wp-content/uploads/2025/05/desktop.svg
LOCATION:Zoom ID: 4612168301, Passcode: Universal, Camera: Optional
END:VEVENT
BEGIN:VEVENT
DTSTART;TZID=America/Mexico_City:20260514T150000
DTEND;TZID=America/Mexico_City:20260514T160000
DTSTAMP:20260420T165852
CREATED:20250504T220055Z
LAST-MODIFIED:20260215T200506Z
UID:10029988-1778770800-1778774400@meetings.greysheet.org
SUMMARY:Al Transcurrir Thu
DESCRIPTION:When agitated or doubtful\, we pause.
URL:https://meetings.greysheet.org/meeting/transcurir-thu/2026-05-14
CATEGORIES:Zoom
ATTACH;FMTTYPE=image/svg+xml:https://meetings.greysheet.org/wp-content/uploads/2025/05/desktop.svg
LOCATION:Zoom ID: 4612168301, Passcode: Universal, Camera: Optional
END:VEVENT
BEGIN:VEVENT
DTSTART;TZID=America/Mexico_City:20260521T150000
DTEND;TZID=America/Mexico_City:20260521T160000
DTSTAMP:20260420T165852
CREATED:20250504T220055Z
LAST-MODIFIED:20260215T200506Z
UID:10029989-1779375600-1779379200@meetings.greysheet.org
SUMMARY:Al Transcurrir Thu
DESCRIPTION:When agitated or doubtful\, we pause.
URL:https://meetings.greysheet.org/meeting/transcurir-thu/2026-05-21
CATEGORIES:Zoom
ATTACH;FMTTYPE=image/svg+xml:https://meetings.greysheet.org/wp-content/uploads/2025/05/desktop.svg
LOCATION:Zoom ID: 4612168301, Passcode: Universal, Camera: Optional
END:VEVENT
BEGIN:VEVENT
DTSTART;TZID=America/Mexico_City:20260528T150000
DTEND;TZID=America/Mexico_City:20260528T160000
DTSTAMP:20260420T165852
CREATED:20250504T220055Z
LAST-MODIFIED:20260215T200506Z
UID:10029990-1779980400-1779984000@meetings.greysheet.org
SUMMARY:Al Transcurrir Thu
DESCRIPTION:When agitated or doubtful\, we pause.
URL:https://meetings.greysheet.org/meeting/transcurir-thu/2026-05-28
CATEGORIES:Zoom
ATTACH;FMTTYPE=image/svg+xml:https://meetings.greysheet.org/wp-content/uploads/2025/05/desktop.svg
LOCATION:Zoom ID: 4612168301, Passcode: Universal, Camera: Optional
END:VEVENT
BEGIN:VEVENT
DTSTART;TZID=America/Mexico_City:20260604T150000
DTEND;TZID=America/Mexico_City:20260604T160000
DTSTAMP:20260420T165852
CREATED:20250504T220055Z
LAST-MODIFIED:20260215T200506Z
UID:10029991-1780585200-1780588800@meetings.greysheet.org
SUMMARY:Al Transcurrir Thu
DESCRIPTION:When agitated or doubtful\, we pause.
URL:https://meetings.greysheet.org/meeting/transcurir-thu/2026-06-04
CATEGORIES:Zoom
ATTACH;FMTTYPE=image/svg+xml:https://meetings.greysheet.org/wp-content/uploads/2025/05/desktop.svg
LOCATION:Zoom ID: 4612168301, Passcode: Universal, Camera: Optional
END:VEVENT
BEGIN:VEVENT
DTSTART;TZID=America/Mexico_City:20260611T150000
DTEND;TZID=America/Mexico_City:20260611T160000
DTSTAMP:20260420T165852
CREATED:20250504T220055Z
LAST-MODIFIED:20260215T200506Z
UID:10029992-1781190000-1781193600@meetings.greysheet.org
SUMMARY:Al Transcurrir Thu
DESCRIPTION:When agitated or doubtful\, we pause.
URL:https://meetings.greysheet.org/meeting/transcurir-thu/2026-06-11
CATEGORIES:Zoom
ATTACH;FMTTYPE=image/svg+xml:https://meetings.greysheet.org/wp-content/uploads/2025/05/desktop.svg
LOCATION:Zoom ID: 4612168301, Passcode: Universal, Camera: Optional
END:VEVENT
BEGIN:VEVENT
DTSTART;TZID=America/Mexico_City:20260618T150000
DTEND;TZID=America/Mexico_City:20260618T160000
DTSTAMP:20260420T165852
CREATED:20250504T220055Z
LAST-MODIFIED:20260215T200506Z
UID:10029993-1781794800-1781798400@meetings.greysheet.org
SUMMARY:Al Transcurrir Thu
DESCRIPTION:When agitated or doubtful\, we pause.
URL:https://meetings.greysheet.org/meeting/transcurir-thu/2026-06-18
CATEGORIES:Zoom
ATTACH;FMTTYPE=image/svg+xml:https://meetings.greysheet.org/wp-content/uploads/2025/05/desktop.svg
LOCATION:Zoom ID: 4612168301, Passcode: Universal, Camera: Optional
END:VEVENT
BEGIN:VEVENT
DTSTART;TZID=America/Mexico_City:20260625T150000
DTEND;TZID=America/Mexico_City:20260625T160000
DTSTAMP:20260420T165852
CREATED:20250504T220055Z
LAST-MODIFIED:20260215T200506Z
UID:10029994-1782399600-1782403200@meetings.greysheet.org
SUMMARY:Al Transcurrir Thu
DESCRIPTION:When agitated or doubtful\, we pause.
URL:https://meetings.greysheet.org/meeting/transcurir-thu/2026-06-25
CATEGORIES:Zoom
ATTACH;FMTTYPE=image/svg+xml:https://meetings.greysheet.org/wp-content/uploads/2025/05/desktop.svg
LOCATION:Zoom ID: 4612168301, Passcode: Universal, Camera: Optional
END:VEVENT
BEGIN:VEVENT
DTSTART;TZID=America/Mexico_City:20260702T150000
DTEND;TZID=America/Mexico_City:20260702T160000
DTSTAMP:20260420T165852
CREATED:20250504T220055Z
LAST-MODIFIED:20260215T200506Z
UID:10029995-1783004400-1783008000@meetings.greysheet.org
SUMMARY:Al Transcurrir Thu
DESCRIPTION:When agitated or doubtful\, we pause.
URL:https://meetings.greysheet.org/meeting/transcurir-thu/2026-07-02
CATEGORIES:Zoom
ATTACH;FMTTYPE=image/svg+xml:https://meetings.greysheet.org/wp-content/uploads/2025/05/desktop.svg
LOCATION:Zoom ID: 4612168301, Passcode: Universal, Camera: Optional
END:VEVENT
BEGIN:VEVENT
DTSTART;TZID=America/Mexico_City:20260709T150000
DTEND;TZID=America/Mexico_City:20260709T160000
DTSTAMP:20260420T165852
CREATED:20250504T220055Z
LAST-MODIFIED:20260215T200506Z
UID:10029996-1783609200-1783612800@meetings.greysheet.org
SUMMARY:Al Transcurrir Thu
DESCRIPTION:When agitated or doubtful\, we pause.
URL:https://meetings.greysheet.org/meeting/transcurir-thu/2026-07-09
CATEGORIES:Zoom
ATTACH;FMTTYPE=image/svg+xml:https://meetings.greysheet.org/wp-content/uploads/2025/05/desktop.svg
LOCATION:Zoom ID: 4612168301, Passcode: Universal, Camera: Optional
END:VEVENT
BEGIN:VEVENT
DTSTART;TZID=America/Mexico_City:20260716T150000
DTEND;TZID=America/Mexico_City:20260716T160000
DTSTAMP:20260420T165852
CREATED:20250504T220055Z
LAST-MODIFIED:20260215T200506Z
UID:10029997-1784214000-1784217600@meetings.greysheet.org
SUMMARY:Al Transcurrir Thu
DESCRIPTION:When agitated or doubtful\, we pause.
URL:https://meetings.greysheet.org/meeting/transcurir-thu/2026-07-16
CATEGORIES:Zoom
ATTACH;FMTTYPE=image/svg+xml:https://meetings.greysheet.org/wp-content/uploads/2025/05/desktop.svg
LOCATION:Zoom ID: 4612168301, Passcode: Universal, Camera: Optional
END:VEVENT
BEGIN:VEVENT
DTSTART;TZID=America/Mexico_City:20260723T150000
DTEND;TZID=America/Mexico_City:20260723T160000
DTSTAMP:20260420T165852
CREATED:20250504T220055Z
LAST-MODIFIED:20260215T200506Z
UID:10029998-1784818800-1784822400@meetings.greysheet.org
SUMMARY:Al Transcurrir Thu
DESCRIPTION:When agitated or doubtful\, we pause.
URL:https://meetings.greysheet.org/meeting/transcurir-thu/2026-07-23
CATEGORIES:Zoom
ATTACH;FMTTYPE=image/svg+xml:https://meetings.greysheet.org/wp-content/uploads/2025/05/desktop.svg
LOCATION:Zoom ID: 4612168301, Passcode: Universal, Camera: Optional
END:VEVENT
BEGIN:VEVENT
DTSTART;TZID=America/Mexico_City:20260730T150000
DTEND;TZID=America/Mexico_City:20260730T160000
DTSTAMP:20260420T165852
CREATED:20250504T220055Z
LAST-MODIFIED:20260215T200506Z
UID:10029999-1785423600-1785427200@meetings.greysheet.org
SUMMARY:Al Transcurrir Thu
DESCRIPTION:When agitated or doubtful\, we pause.
URL:https://meetings.greysheet.org/meeting/transcurir-thu/2026-07-30
CATEGORIES:Zoom
ATTACH;FMTTYPE=image/svg+xml:https://meetings.greysheet.org/wp-content/uploads/2025/05/desktop.svg
LOCATION:Zoom ID: 4612168301, Passcode: Universal, Camera: Optional
END:VEVENT
BEGIN:VEVENT
DTSTART;TZID=America/Mexico_City:20260806T150000
DTEND;TZID=America/Mexico_City:20260806T160000
DTSTAMP:20260420T165852
CREATED:20250504T220055Z
LAST-MODIFIED:20260215T200506Z
UID:10030000-1786028400-1786032000@meetings.greysheet.org
SUMMARY:Al Transcurrir Thu
DESCRIPTION:When agitated or doubtful\, we pause.
URL:https://meetings.greysheet.org/meeting/transcurir-thu/2026-08-06
CATEGORIES:Zoom
ATTACH;FMTTYPE=image/svg+xml:https://meetings.greysheet.org/wp-content/uploads/2025/05/desktop.svg
LOCATION:Zoom ID: 4612168301, Passcode: Universal, Camera: Optional
END:VEVENT
BEGIN:VEVENT
DTSTART;TZID=America/Mexico_City:20260813T150000
DTEND;TZID=America/Mexico_City:20260813T160000
DTSTAMP:20260420T165852
CREATED:20250504T220055Z
LAST-MODIFIED:20260215T200506Z
UID:10030001-1786633200-1786636800@meetings.greysheet.org
SUMMARY:Al Transcurrir Thu
DESCRIPTION:When agitated or doubtful\, we pause.
URL:https://meetings.greysheet.org/meeting/transcurir-thu/2026-08-13
CATEGORIES:Zoom
ATTACH;FMTTYPE=image/svg+xml:https://meetings.greysheet.org/wp-content/uploads/2025/05/desktop.svg
LOCATION:Zoom ID: 4612168301, Passcode: Universal, Camera: Optional
END:VEVENT
BEGIN:VEVENT
DTSTART;TZID=America/Mexico_City:20260820T150000
DTEND;TZID=America/Mexico_City:20260820T160000
DTSTAMP:20260420T165852
CREATED:20250504T220055Z
LAST-MODIFIED:20260215T200506Z
UID:10030002-1787238000-1787241600@meetings.greysheet.org
SUMMARY:Al Transcurrir Thu
DESCRIPTION:When agitated or doubtful\, we pause.
URL:https://meetings.greysheet.org/meeting/transcurir-thu/2026-08-20
CATEGORIES:Zoom
ATTACH;FMTTYPE=image/svg+xml:https://meetings.greysheet.org/wp-content/uploads/2025/05/desktop.svg
LOCATION:Zoom ID: 4612168301, Passcode: Universal, Camera: Optional
END:VEVENT
BEGIN:VEVENT
DTSTART;TZID=America/Mexico_City:20260827T150000
DTEND;TZID=America/Mexico_City:20260827T160000
DTSTAMP:20260420T165852
CREATED:20250504T220055Z
LAST-MODIFIED:20260215T200506Z
UID:10030003-1787842800-1787846400@meetings.greysheet.org
SUMMARY:Al Transcurrir Thu
DESCRIPTION:When agitated or doubtful\, we pause.
URL:https://meetings.greysheet.org/meeting/transcurir-thu/2026-08-27
CATEGORIES:Zoom
ATTACH;FMTTYPE=image/svg+xml:https://meetings.greysheet.org/wp-content/uploads/2025/05/desktop.svg
LOCATION:Zoom ID: 4612168301, Passcode: Universal, Camera: Optional
END:VEVENT
BEGIN:VEVENT
DTSTART;TZID=America/Mexico_City:20260903T150000
DTEND;TZID=America/Mexico_City:20260903T160000
DTSTAMP:20260420T165852
CREATED:20250504T220055Z
LAST-MODIFIED:20260215T200506Z
UID:10030004-1788447600-1788451200@meetings.greysheet.org
SUMMARY:Al Transcurrir Thu
DESCRIPTION:When agitated or doubtful\, we pause.
URL:https://meetings.greysheet.org/meeting/transcurir-thu/2026-09-03
CATEGORIES:Zoom
ATTACH;FMTTYPE=image/svg+xml:https://meetings.greysheet.org/wp-content/uploads/2025/05/desktop.svg
LOCATION:Zoom ID: 4612168301, Passcode: Universal, Camera: Optional
END:VEVENT
BEGIN:VEVENT
DTSTART;TZID=America/Mexico_City:20260910T150000
DTEND;TZID=America/Mexico_City:20260910T160000
DTSTAMP:20260420T165852
CREATED:20250504T220055Z
LAST-MODIFIED:20260215T200506Z
UID:10030005-1789052400-1789056000@meetings.greysheet.org
SUMMARY:Al Transcurrir Thu
DESCRIPTION:When agitated or doubtful\, we pause.
URL:https://meetings.greysheet.org/meeting/transcurir-thu/2026-09-10
CATEGORIES:Zoom
ATTACH;FMTTYPE=image/svg+xml:https://meetings.greysheet.org/wp-content/uploads/2025/05/desktop.svg
LOCATION:Zoom ID: 4612168301, Passcode: Universal, Camera: Optional
END:VEVENT
BEGIN:VEVENT
DTSTART;TZID=America/Mexico_City:20260917T150000
DTEND;TZID=America/Mexico_City:20260917T160000
DTSTAMP:20260420T165852
CREATED:20250504T220055Z
LAST-MODIFIED:20260215T200506Z
UID:10030006-1789657200-1789660800@meetings.greysheet.org
SUMMARY:Al Transcurrir Thu
DESCRIPTION:When agitated or doubtful\, we pause.
URL:https://meetings.greysheet.org/meeting/transcurir-thu/2026-09-17
CATEGORIES:Zoom
ATTACH;FMTTYPE=image/svg+xml:https://meetings.greysheet.org/wp-content/uploads/2025/05/desktop.svg
LOCATION:Zoom ID: 4612168301, Passcode: Universal, Camera: Optional
END:VEVENT
BEGIN:VEVENT
DTSTART;TZID=America/Mexico_City:20260924T150000
DTEND;TZID=America/Mexico_City:20260924T160000
DTSTAMP:20260420T165852
CREATED:20250504T220055Z
LAST-MODIFIED:20260215T200506Z
UID:10030007-1790262000-1790265600@meetings.greysheet.org
SUMMARY:Al Transcurrir Thu
DESCRIPTION:When agitated or doubtful\, we pause.
URL:https://meetings.greysheet.org/meeting/transcurir-thu/2026-09-24
CATEGORIES:Zoom
ATTACH;FMTTYPE=image/svg+xml:https://meetings.greysheet.org/wp-content/uploads/2025/05/desktop.svg
LOCATION:Zoom ID: 4612168301, Passcode: Universal, Camera: Optional
END:VEVENT
BEGIN:VEVENT
DTSTART;TZID=America/Mexico_City:20261001T150000
DTEND;TZID=America/Mexico_City:20261001T160000
DTSTAMP:20260420T165852
CREATED:20250504T220055Z
LAST-MODIFIED:20260215T200506Z
UID:10030008-1790866800-1790870400@meetings.greysheet.org
SUMMARY:Al Transcurrir Thu
DESCRIPTION:When agitated or doubtful\, we pause.
URL:https://meetings.greysheet.org/meeting/transcurir-thu/2026-10-01
CATEGORIES:Zoom
ATTACH;FMTTYPE=image/svg+xml:https://meetings.greysheet.org/wp-content/uploads/2025/05/desktop.svg
LOCATION:Zoom ID: 4612168301, Passcode: Universal, Camera: Optional
END:VEVENT
BEGIN:VEVENT
DTSTART;TZID=America/Mexico_City:20261008T150000
DTEND;TZID=America/Mexico_City:20261008T160000
DTSTAMP:20260420T165852
CREATED:20250504T220055Z
LAST-MODIFIED:20260215T200506Z
UID:10030009-1791471600-1791475200@meetings.greysheet.org
SUMMARY:Al Transcurrir Thu
DESCRIPTION:When agitated or doubtful\, we pause.
URL:https://meetings.greysheet.org/meeting/transcurir-thu/2026-10-08
CATEGORIES:Zoom
ATTACH;FMTTYPE=image/svg+xml:https://meetings.greysheet.org/wp-content/uploads/2025/05/desktop.svg
LOCATION:Zoom ID: 4612168301, Passcode: Universal, Camera: Optional
END:VEVENT
BEGIN:VEVENT
DTSTART;TZID=America/Mexico_City:20261015T150000
DTEND;TZID=America/Mexico_City:20261015T160000
DTSTAMP:20260420T165852
CREATED:20250504T220055Z
LAST-MODIFIED:20260215T200506Z
UID:10030010-1792076400-1792080000@meetings.greysheet.org
SUMMARY:Al Transcurrir Thu
DESCRIPTION:When agitated or doubtful\, we pause.
URL:https://meetings.greysheet.org/meeting/transcurir-thu/2026-10-15
CATEGORIES:Zoom
ATTACH;FMTTYPE=image/svg+xml:https://meetings.greysheet.org/wp-content/uploads/2025/05/desktop.svg
LOCATION:Zoom ID: 4612168301, Passcode: Universal, Camera: Optional
END:VEVENT
BEGIN:VEVENT
DTSTART;TZID=America/Mexico_City:20261022T150000
DTEND;TZID=America/Mexico_City:20261022T160000
DTSTAMP:20260420T165852
CREATED:20250504T220055Z
LAST-MODIFIED:20260215T200506Z
UID:10030011-1792681200-1792684800@meetings.greysheet.org
SUMMARY:Al Transcurrir Thu
DESCRIPTION:When agitated or doubtful\, we pause.
URL:https://meetings.greysheet.org/meeting/transcurir-thu/2026-10-22
CATEGORIES:Zoom
ATTACH;FMTTYPE=image/svg+xml:https://meetings.greysheet.org/wp-content/uploads/2025/05/desktop.svg
LOCATION:Zoom ID: 4612168301, Passcode: Universal, Camera: Optional
END:VEVENT
BEGIN:VEVENT
DTSTART;TZID=America/Mexico_City:20261029T150000
DTEND;TZID=America/Mexico_City:20261029T160000
DTSTAMP:20260420T165852
CREATED:20250504T220055Z
LAST-MODIFIED:20260215T200506Z
UID:10030012-1793286000-1793289600@meetings.greysheet.org
SUMMARY:Al Transcurrir Thu
DESCRIPTION:When agitated or doubtful\, we pause.
URL:https://meetings.greysheet.org/meeting/transcurir-thu/2026-10-29
CATEGORIES:Zoom
ATTACH;FMTTYPE=image/svg+xml:https://meetings.greysheet.org/wp-content/uploads/2025/05/desktop.svg
LOCATION:Zoom ID: 4612168301, Passcode: Universal, Camera: Optional
END:VEVENT
BEGIN:VEVENT
DTSTART;TZID=America/Mexico_City:20261105T150000
DTEND;TZID=America/Mexico_City:20261105T160000
DTSTAMP:20260420T165852
CREATED:20250504T220055Z
LAST-MODIFIED:20260215T200506Z
UID:10030013-1793890800-1793894400@meetings.greysheet.org
SUMMARY:Al Transcurrir Thu
DESCRIPTION:When agitated or doubtful\, we pause.
URL:https://meetings.greysheet.org/meeting/transcurir-thu/2026-11-05
CATEGORIES:Zoom
ATTACH;FMTTYPE=image/svg+xml:https://meetings.greysheet.org/wp-content/uploads/2025/05/desktop.svg
LOCATION:Zoom ID: 4612168301, Passcode: Universal, Camera: Optional
END:VEVENT
BEGIN:VEVENT
DTSTART;TZID=America/Mexico_City:20261112T150000
DTEND;TZID=America/Mexico_City:20261112T160000
DTSTAMP:20260420T165852
CREATED:20250504T220055Z
LAST-MODIFIED:20260215T200506Z
UID:10030014-1794495600-1794499200@meetings.greysheet.org
SUMMARY:Al Transcurrir Thu
DESCRIPTION:When agitated or doubtful\, we pause.
URL:https://meetings.greysheet.org/meeting/transcurir-thu/2026-11-12
CATEGORIES:Zoom
ATTACH;FMTTYPE=image/svg+xml:https://meetings.greysheet.org/wp-content/uploads/2025/05/desktop.svg
LOCATION:Zoom ID: 4612168301, Passcode: Universal, Camera: Optional
END:VEVENT
END:VCALENDAR