BEGIN:VCALENDAR
VERSION:2.0
PRODID:-//GreySheeters Anonymous World Services - ECPv6.15.20//NONSGML v1.0//EN
CALSCALE:GREGORIAN
METHOD:PUBLISH
X-WR-CALNAME:GreySheeters Anonymous World Services
X-ORIGINAL-URL:https://meetings.greysheet.org
X-WR-CALDESC:Events for GreySheeters Anonymous World Services
REFRESH-INTERVAL;VALUE=DURATION:PT1H
X-Robots-Tag:noindex
X-PUBLISHED-TTL:PT1H
BEGIN:VTIMEZONE
TZID:America/New_York
BEGIN:DAYLIGHT
TZOFFSETFROM:-0500
TZOFFSETTO:-0400
TZNAME:EDT
DTSTART:20250309T070000
END:DAYLIGHT
BEGIN:STANDARD
TZOFFSETFROM:-0400
TZOFFSETTO:-0500
TZNAME:EST
DTSTART:20251102T060000
END:STANDARD
BEGIN:DAYLIGHT
TZOFFSETFROM:-0500
TZOFFSETTO:-0400
TZNAME:EDT
DTSTART:20260308T070000
END:DAYLIGHT
BEGIN:STANDARD
TZOFFSETFROM:-0400
TZOFFSETTO:-0500
TZNAME:EST
DTSTART:20261101T060000
END:STANDARD
BEGIN:DAYLIGHT
TZOFFSETFROM:-0500
TZOFFSETTO:-0400
TZNAME:EDT
DTSTART:20270314T070000
END:DAYLIGHT
BEGIN:STANDARD
TZOFFSETFROM:-0400
TZOFFSETTO:-0500
TZNAME:EST
DTSTART:20271107T060000
END:STANDARD
END:VTIMEZONE
BEGIN:VEVENT
DTSTART;TZID=America/New_York:20260427T170000
DTEND;TZID=America/New_York:20260427T173000
DTSTAMP:20260424T102411
CREATED:20250503T164142Z
LAST-MODIFIED:20251117T234431Z
UID:10058492-1777309200-1777311000@meetings.greysheet.org
SUMMARY:Beginners Daily MON
DESCRIPTION:This is a half hour GreySheet Beginners meeting. The leader shares for 3-5 minutes\, followed by 2-minute timed shares.
URL:https://meetings.greysheet.org/meeting/beginners-daily-mon/2026-04-27
CATEGORIES:Telephone or Audio
ATTACH;FMTTYPE=image/svg+xml:https://meetings.greysheet.org/wp-content/uploads/2025/05/phone.svg
LOCATION:Phone Number: 712 432 5229, PIN: Phone Bridge
END:VEVENT
BEGIN:VEVENT
DTSTART;TZID=America/New_York:20260504T170000
DTEND;TZID=America/New_York:20260504T173000
DTSTAMP:20260424T102411
CREATED:20250503T164142Z
LAST-MODIFIED:20251117T234431Z
UID:10058493-1777914000-1777915800@meetings.greysheet.org
SUMMARY:Beginners Daily MON
DESCRIPTION:This is a half hour GreySheet Beginners meeting. The leader shares for 3-5 minutes\, followed by 2-minute timed shares.
URL:https://meetings.greysheet.org/meeting/beginners-daily-mon/2026-05-04
CATEGORIES:Telephone or Audio
ATTACH;FMTTYPE=image/svg+xml:https://meetings.greysheet.org/wp-content/uploads/2025/05/phone.svg
LOCATION:Phone Number: 712 432 5229, PIN: Phone Bridge
END:VEVENT
BEGIN:VEVENT
DTSTART;TZID=America/New_York:20260511T170000
DTEND;TZID=America/New_York:20260511T173000
DTSTAMP:20260424T102411
CREATED:20250503T164142Z
LAST-MODIFIED:20251117T234431Z
UID:10058494-1778518800-1778520600@meetings.greysheet.org
SUMMARY:Beginners Daily MON
DESCRIPTION:This is a half hour GreySheet Beginners meeting. The leader shares for 3-5 minutes\, followed by 2-minute timed shares.
URL:https://meetings.greysheet.org/meeting/beginners-daily-mon/2026-05-11
CATEGORIES:Telephone or Audio
ATTACH;FMTTYPE=image/svg+xml:https://meetings.greysheet.org/wp-content/uploads/2025/05/phone.svg
LOCATION:Phone Number: 712 432 5229, PIN: Phone Bridge
END:VEVENT
BEGIN:VEVENT
DTSTART;TZID=America/New_York:20260518T170000
DTEND;TZID=America/New_York:20260518T173000
DTSTAMP:20260424T102411
CREATED:20250503T164142Z
LAST-MODIFIED:20251117T234431Z
UID:10058495-1779123600-1779125400@meetings.greysheet.org
SUMMARY:Beginners Daily MON
DESCRIPTION:This is a half hour GreySheet Beginners meeting. The leader shares for 3-5 minutes\, followed by 2-minute timed shares.
URL:https://meetings.greysheet.org/meeting/beginners-daily-mon/2026-05-18
CATEGORIES:Telephone or Audio
ATTACH;FMTTYPE=image/svg+xml:https://meetings.greysheet.org/wp-content/uploads/2025/05/phone.svg
LOCATION:Phone Number: 712 432 5229, PIN: Phone Bridge
END:VEVENT
BEGIN:VEVENT
DTSTART;TZID=America/New_York:20260525T170000
DTEND;TZID=America/New_York:20260525T173000
DTSTAMP:20260424T102411
CREATED:20250503T164142Z
LAST-MODIFIED:20251117T234431Z
UID:10058496-1779728400-1779730200@meetings.greysheet.org
SUMMARY:Beginners Daily MON
DESCRIPTION:This is a half hour GreySheet Beginners meeting. The leader shares for 3-5 minutes\, followed by 2-minute timed shares.
URL:https://meetings.greysheet.org/meeting/beginners-daily-mon/2026-05-25
CATEGORIES:Telephone or Audio
ATTACH;FMTTYPE=image/svg+xml:https://meetings.greysheet.org/wp-content/uploads/2025/05/phone.svg
LOCATION:Phone Number: 712 432 5229, PIN: Phone Bridge
END:VEVENT
BEGIN:VEVENT
DTSTART;TZID=America/New_York:20260601T170000
DTEND;TZID=America/New_York:20260601T173000
DTSTAMP:20260424T102411
CREATED:20250503T164142Z
LAST-MODIFIED:20251117T234431Z
UID:10058497-1780333200-1780335000@meetings.greysheet.org
SUMMARY:Beginners Daily MON
DESCRIPTION:This is a half hour GreySheet Beginners meeting. The leader shares for 3-5 minutes\, followed by 2-minute timed shares.
URL:https://meetings.greysheet.org/meeting/beginners-daily-mon/2026-06-01
CATEGORIES:Telephone or Audio
ATTACH;FMTTYPE=image/svg+xml:https://meetings.greysheet.org/wp-content/uploads/2025/05/phone.svg
LOCATION:Phone Number: 712 432 5229, PIN: Phone Bridge
END:VEVENT
BEGIN:VEVENT
DTSTART;TZID=America/New_York:20260608T170000
DTEND;TZID=America/New_York:20260608T173000
DTSTAMP:20260424T102411
CREATED:20250503T164142Z
LAST-MODIFIED:20251117T234431Z
UID:10058498-1780938000-1780939800@meetings.greysheet.org
SUMMARY:Beginners Daily MON
DESCRIPTION:This is a half hour GreySheet Beginners meeting. The leader shares for 3-5 minutes\, followed by 2-minute timed shares.
URL:https://meetings.greysheet.org/meeting/beginners-daily-mon/2026-06-08
CATEGORIES:Telephone or Audio
ATTACH;FMTTYPE=image/svg+xml:https://meetings.greysheet.org/wp-content/uploads/2025/05/phone.svg
LOCATION:Phone Number: 712 432 5229, PIN: Phone Bridge
END:VEVENT
BEGIN:VEVENT
DTSTART;TZID=America/New_York:20260615T170000
DTEND;TZID=America/New_York:20260615T173000
DTSTAMP:20260424T102411
CREATED:20250503T164142Z
LAST-MODIFIED:20251117T234431Z
UID:10058499-1781542800-1781544600@meetings.greysheet.org
SUMMARY:Beginners Daily MON
DESCRIPTION:This is a half hour GreySheet Beginners meeting. The leader shares for 3-5 minutes\, followed by 2-minute timed shares.
URL:https://meetings.greysheet.org/meeting/beginners-daily-mon/2026-06-15
CATEGORIES:Telephone or Audio
ATTACH;FMTTYPE=image/svg+xml:https://meetings.greysheet.org/wp-content/uploads/2025/05/phone.svg
LOCATION:Phone Number: 712 432 5229, PIN: Phone Bridge
END:VEVENT
BEGIN:VEVENT
DTSTART;TZID=America/New_York:20260622T170000
DTEND;TZID=America/New_York:20260622T173000
DTSTAMP:20260424T102411
CREATED:20250503T164142Z
LAST-MODIFIED:20251117T234431Z
UID:10058500-1782147600-1782149400@meetings.greysheet.org
SUMMARY:Beginners Daily MON
DESCRIPTION:This is a half hour GreySheet Beginners meeting. The leader shares for 3-5 minutes\, followed by 2-minute timed shares.
URL:https://meetings.greysheet.org/meeting/beginners-daily-mon/2026-06-22
CATEGORIES:Telephone or Audio
ATTACH;FMTTYPE=image/svg+xml:https://meetings.greysheet.org/wp-content/uploads/2025/05/phone.svg
LOCATION:Phone Number: 712 432 5229, PIN: Phone Bridge
END:VEVENT
BEGIN:VEVENT
DTSTART;TZID=America/New_York:20260629T170000
DTEND;TZID=America/New_York:20260629T173000
DTSTAMP:20260424T102411
CREATED:20250503T164142Z
LAST-MODIFIED:20251117T234431Z
UID:10058501-1782752400-1782754200@meetings.greysheet.org
SUMMARY:Beginners Daily MON
DESCRIPTION:This is a half hour GreySheet Beginners meeting. The leader shares for 3-5 minutes\, followed by 2-minute timed shares.
URL:https://meetings.greysheet.org/meeting/beginners-daily-mon/2026-06-29
CATEGORIES:Telephone or Audio
ATTACH;FMTTYPE=image/svg+xml:https://meetings.greysheet.org/wp-content/uploads/2025/05/phone.svg
LOCATION:Phone Number: 712 432 5229, PIN: Phone Bridge
END:VEVENT
BEGIN:VEVENT
DTSTART;TZID=America/New_York:20260706T170000
DTEND;TZID=America/New_York:20260706T173000
DTSTAMP:20260424T102411
CREATED:20250503T164142Z
LAST-MODIFIED:20251117T234431Z
UID:10058502-1783357200-1783359000@meetings.greysheet.org
SUMMARY:Beginners Daily MON
DESCRIPTION:This is a half hour GreySheet Beginners meeting. The leader shares for 3-5 minutes\, followed by 2-minute timed shares.
URL:https://meetings.greysheet.org/meeting/beginners-daily-mon/2026-07-06
CATEGORIES:Telephone or Audio
ATTACH;FMTTYPE=image/svg+xml:https://meetings.greysheet.org/wp-content/uploads/2025/05/phone.svg
LOCATION:Phone Number: 712 432 5229, PIN: Phone Bridge
END:VEVENT
BEGIN:VEVENT
DTSTART;TZID=America/New_York:20260713T170000
DTEND;TZID=America/New_York:20260713T173000
DTSTAMP:20260424T102411
CREATED:20250503T164142Z
LAST-MODIFIED:20251117T234431Z
UID:10058503-1783962000-1783963800@meetings.greysheet.org
SUMMARY:Beginners Daily MON
DESCRIPTION:This is a half hour GreySheet Beginners meeting. The leader shares for 3-5 minutes\, followed by 2-minute timed shares.
URL:https://meetings.greysheet.org/meeting/beginners-daily-mon/2026-07-13
CATEGORIES:Telephone or Audio
ATTACH;FMTTYPE=image/svg+xml:https://meetings.greysheet.org/wp-content/uploads/2025/05/phone.svg
LOCATION:Phone Number: 712 432 5229, PIN: Phone Bridge
END:VEVENT
BEGIN:VEVENT
DTSTART;TZID=America/New_York:20260720T170000
DTEND;TZID=America/New_York:20260720T173000
DTSTAMP:20260424T102411
CREATED:20250503T164142Z
LAST-MODIFIED:20251117T234431Z
UID:10058504-1784566800-1784568600@meetings.greysheet.org
SUMMARY:Beginners Daily MON
DESCRIPTION:This is a half hour GreySheet Beginners meeting. The leader shares for 3-5 minutes\, followed by 2-minute timed shares.
URL:https://meetings.greysheet.org/meeting/beginners-daily-mon/2026-07-20
CATEGORIES:Telephone or Audio
ATTACH;FMTTYPE=image/svg+xml:https://meetings.greysheet.org/wp-content/uploads/2025/05/phone.svg
LOCATION:Phone Number: 712 432 5229, PIN: Phone Bridge
END:VEVENT
BEGIN:VEVENT
DTSTART;TZID=America/New_York:20260727T170000
DTEND;TZID=America/New_York:20260727T173000
DTSTAMP:20260424T102411
CREATED:20250503T164142Z
LAST-MODIFIED:20251117T234431Z
UID:10058505-1785171600-1785173400@meetings.greysheet.org
SUMMARY:Beginners Daily MON
DESCRIPTION:This is a half hour GreySheet Beginners meeting. The leader shares for 3-5 minutes\, followed by 2-minute timed shares.
URL:https://meetings.greysheet.org/meeting/beginners-daily-mon/2026-07-27
CATEGORIES:Telephone or Audio
ATTACH;FMTTYPE=image/svg+xml:https://meetings.greysheet.org/wp-content/uploads/2025/05/phone.svg
LOCATION:Phone Number: 712 432 5229, PIN: Phone Bridge
END:VEVENT
BEGIN:VEVENT
DTSTART;TZID=America/New_York:20260803T170000
DTEND;TZID=America/New_York:20260803T173000
DTSTAMP:20260424T102411
CREATED:20250503T164142Z
LAST-MODIFIED:20251117T234431Z
UID:10058506-1785776400-1785778200@meetings.greysheet.org
SUMMARY:Beginners Daily MON
DESCRIPTION:This is a half hour GreySheet Beginners meeting. The leader shares for 3-5 minutes\, followed by 2-minute timed shares.
URL:https://meetings.greysheet.org/meeting/beginners-daily-mon/2026-08-03
CATEGORIES:Telephone or Audio
ATTACH;FMTTYPE=image/svg+xml:https://meetings.greysheet.org/wp-content/uploads/2025/05/phone.svg
LOCATION:Phone Number: 712 432 5229, PIN: Phone Bridge
END:VEVENT
BEGIN:VEVENT
DTSTART;TZID=America/New_York:20260810T170000
DTEND;TZID=America/New_York:20260810T173000
DTSTAMP:20260424T102411
CREATED:20250503T164142Z
LAST-MODIFIED:20251117T234431Z
UID:10058507-1786381200-1786383000@meetings.greysheet.org
SUMMARY:Beginners Daily MON
DESCRIPTION:This is a half hour GreySheet Beginners meeting. The leader shares for 3-5 minutes\, followed by 2-minute timed shares.
URL:https://meetings.greysheet.org/meeting/beginners-daily-mon/2026-08-10
CATEGORIES:Telephone or Audio
ATTACH;FMTTYPE=image/svg+xml:https://meetings.greysheet.org/wp-content/uploads/2025/05/phone.svg
LOCATION:Phone Number: 712 432 5229, PIN: Phone Bridge
END:VEVENT
BEGIN:VEVENT
DTSTART;TZID=America/New_York:20260817T170000
DTEND;TZID=America/New_York:20260817T173000
DTSTAMP:20260424T102411
CREATED:20250503T164142Z
LAST-MODIFIED:20251117T234431Z
UID:10058508-1786986000-1786987800@meetings.greysheet.org
SUMMARY:Beginners Daily MON
DESCRIPTION:This is a half hour GreySheet Beginners meeting. The leader shares for 3-5 minutes\, followed by 2-minute timed shares.
URL:https://meetings.greysheet.org/meeting/beginners-daily-mon/2026-08-17
CATEGORIES:Telephone or Audio
ATTACH;FMTTYPE=image/svg+xml:https://meetings.greysheet.org/wp-content/uploads/2025/05/phone.svg
LOCATION:Phone Number: 712 432 5229, PIN: Phone Bridge
END:VEVENT
BEGIN:VEVENT
DTSTART;TZID=America/New_York:20260824T170000
DTEND;TZID=America/New_York:20260824T173000
DTSTAMP:20260424T102411
CREATED:20250503T164142Z
LAST-MODIFIED:20251117T234431Z
UID:10058509-1787590800-1787592600@meetings.greysheet.org
SUMMARY:Beginners Daily MON
DESCRIPTION:This is a half hour GreySheet Beginners meeting. The leader shares for 3-5 minutes\, followed by 2-minute timed shares.
URL:https://meetings.greysheet.org/meeting/beginners-daily-mon/2026-08-24
CATEGORIES:Telephone or Audio
ATTACH;FMTTYPE=image/svg+xml:https://meetings.greysheet.org/wp-content/uploads/2025/05/phone.svg
LOCATION:Phone Number: 712 432 5229, PIN: Phone Bridge
END:VEVENT
BEGIN:VEVENT
DTSTART;TZID=America/New_York:20260831T170000
DTEND;TZID=America/New_York:20260831T173000
DTSTAMP:20260424T102411
CREATED:20250503T164142Z
LAST-MODIFIED:20251117T234431Z
UID:10058510-1788195600-1788197400@meetings.greysheet.org
SUMMARY:Beginners Daily MON
DESCRIPTION:This is a half hour GreySheet Beginners meeting. The leader shares for 3-5 minutes\, followed by 2-minute timed shares.
URL:https://meetings.greysheet.org/meeting/beginners-daily-mon/2026-08-31
CATEGORIES:Telephone or Audio
ATTACH;FMTTYPE=image/svg+xml:https://meetings.greysheet.org/wp-content/uploads/2025/05/phone.svg
LOCATION:Phone Number: 712 432 5229, PIN: Phone Bridge
END:VEVENT
BEGIN:VEVENT
DTSTART;TZID=America/New_York:20260907T170000
DTEND;TZID=America/New_York:20260907T173000
DTSTAMP:20260424T102411
CREATED:20250503T164142Z
LAST-MODIFIED:20251117T234431Z
UID:10058511-1788800400-1788802200@meetings.greysheet.org
SUMMARY:Beginners Daily MON
DESCRIPTION:This is a half hour GreySheet Beginners meeting. The leader shares for 3-5 minutes\, followed by 2-minute timed shares.
URL:https://meetings.greysheet.org/meeting/beginners-daily-mon/2026-09-07
CATEGORIES:Telephone or Audio
ATTACH;FMTTYPE=image/svg+xml:https://meetings.greysheet.org/wp-content/uploads/2025/05/phone.svg
LOCATION:Phone Number: 712 432 5229, PIN: Phone Bridge
END:VEVENT
BEGIN:VEVENT
DTSTART;TZID=America/New_York:20260914T170000
DTEND;TZID=America/New_York:20260914T173000
DTSTAMP:20260424T102411
CREATED:20250503T164142Z
LAST-MODIFIED:20251117T234431Z
UID:10058512-1789405200-1789407000@meetings.greysheet.org
SUMMARY:Beginners Daily MON
DESCRIPTION:This is a half hour GreySheet Beginners meeting. The leader shares for 3-5 minutes\, followed by 2-minute timed shares.
URL:https://meetings.greysheet.org/meeting/beginners-daily-mon/2026-09-14
CATEGORIES:Telephone or Audio
ATTACH;FMTTYPE=image/svg+xml:https://meetings.greysheet.org/wp-content/uploads/2025/05/phone.svg
LOCATION:Phone Number: 712 432 5229, PIN: Phone Bridge
END:VEVENT
BEGIN:VEVENT
DTSTART;TZID=America/New_York:20260921T170000
DTEND;TZID=America/New_York:20260921T173000
DTSTAMP:20260424T102411
CREATED:20250503T164142Z
LAST-MODIFIED:20251117T234431Z
UID:10058513-1790010000-1790011800@meetings.greysheet.org
SUMMARY:Beginners Daily MON
DESCRIPTION:This is a half hour GreySheet Beginners meeting. The leader shares for 3-5 minutes\, followed by 2-minute timed shares.
URL:https://meetings.greysheet.org/meeting/beginners-daily-mon/2026-09-21
CATEGORIES:Telephone or Audio
ATTACH;FMTTYPE=image/svg+xml:https://meetings.greysheet.org/wp-content/uploads/2025/05/phone.svg
LOCATION:Phone Number: 712 432 5229, PIN: Phone Bridge
END:VEVENT
BEGIN:VEVENT
DTSTART;TZID=America/New_York:20260928T170000
DTEND;TZID=America/New_York:20260928T173000
DTSTAMP:20260424T102411
CREATED:20250503T164142Z
LAST-MODIFIED:20251117T234431Z
UID:10058514-1790614800-1790616600@meetings.greysheet.org
SUMMARY:Beginners Daily MON
DESCRIPTION:This is a half hour GreySheet Beginners meeting. The leader shares for 3-5 minutes\, followed by 2-minute timed shares.
URL:https://meetings.greysheet.org/meeting/beginners-daily-mon/2026-09-28
CATEGORIES:Telephone or Audio
ATTACH;FMTTYPE=image/svg+xml:https://meetings.greysheet.org/wp-content/uploads/2025/05/phone.svg
LOCATION:Phone Number: 712 432 5229, PIN: Phone Bridge
END:VEVENT
BEGIN:VEVENT
DTSTART;TZID=America/New_York:20261005T170000
DTEND;TZID=America/New_York:20261005T173000
DTSTAMP:20260424T102411
CREATED:20250503T164142Z
LAST-MODIFIED:20251117T234431Z
UID:10058515-1791219600-1791221400@meetings.greysheet.org
SUMMARY:Beginners Daily MON
DESCRIPTION:This is a half hour GreySheet Beginners meeting. The leader shares for 3-5 minutes\, followed by 2-minute timed shares.
URL:https://meetings.greysheet.org/meeting/beginners-daily-mon/2026-10-05
CATEGORIES:Telephone or Audio
ATTACH;FMTTYPE=image/svg+xml:https://meetings.greysheet.org/wp-content/uploads/2025/05/phone.svg
LOCATION:Phone Number: 712 432 5229, PIN: Phone Bridge
END:VEVENT
BEGIN:VEVENT
DTSTART;TZID=America/New_York:20261012T170000
DTEND;TZID=America/New_York:20261012T173000
DTSTAMP:20260424T102411
CREATED:20250503T164142Z
LAST-MODIFIED:20251117T234431Z
UID:10058516-1791824400-1791826200@meetings.greysheet.org
SUMMARY:Beginners Daily MON
DESCRIPTION:This is a half hour GreySheet Beginners meeting. The leader shares for 3-5 minutes\, followed by 2-minute timed shares.
URL:https://meetings.greysheet.org/meeting/beginners-daily-mon/2026-10-12
CATEGORIES:Telephone or Audio
ATTACH;FMTTYPE=image/svg+xml:https://meetings.greysheet.org/wp-content/uploads/2025/05/phone.svg
LOCATION:Phone Number: 712 432 5229, PIN: Phone Bridge
END:VEVENT
BEGIN:VEVENT
DTSTART;TZID=America/New_York:20261019T170000
DTEND;TZID=America/New_York:20261019T173000
DTSTAMP:20260424T102411
CREATED:20250503T164142Z
LAST-MODIFIED:20251117T234431Z
UID:10058517-1792429200-1792431000@meetings.greysheet.org
SUMMARY:Beginners Daily MON
DESCRIPTION:This is a half hour GreySheet Beginners meeting. The leader shares for 3-5 minutes\, followed by 2-minute timed shares.
URL:https://meetings.greysheet.org/meeting/beginners-daily-mon/2026-10-19
CATEGORIES:Telephone or Audio
ATTACH;FMTTYPE=image/svg+xml:https://meetings.greysheet.org/wp-content/uploads/2025/05/phone.svg
LOCATION:Phone Number: 712 432 5229, PIN: Phone Bridge
END:VEVENT
BEGIN:VEVENT
DTSTART;TZID=America/New_York:20261026T170000
DTEND;TZID=America/New_York:20261026T173000
DTSTAMP:20260424T102411
CREATED:20250503T164142Z
LAST-MODIFIED:20251117T234431Z
UID:10058518-1793034000-1793035800@meetings.greysheet.org
SUMMARY:Beginners Daily MON
DESCRIPTION:This is a half hour GreySheet Beginners meeting. The leader shares for 3-5 minutes\, followed by 2-minute timed shares.
URL:https://meetings.greysheet.org/meeting/beginners-daily-mon/2026-10-26
CATEGORIES:Telephone or Audio
ATTACH;FMTTYPE=image/svg+xml:https://meetings.greysheet.org/wp-content/uploads/2025/05/phone.svg
LOCATION:Phone Number: 712 432 5229, PIN: Phone Bridge
END:VEVENT
BEGIN:VEVENT
DTSTART;TZID=America/New_York:20261102T170000
DTEND;TZID=America/New_York:20261102T173000
DTSTAMP:20260424T102411
CREATED:20250503T164142Z
LAST-MODIFIED:20251117T234431Z
UID:10058519-1793638800-1793640600@meetings.greysheet.org
SUMMARY:Beginners Daily MON
DESCRIPTION:This is a half hour GreySheet Beginners meeting. The leader shares for 3-5 minutes\, followed by 2-minute timed shares.
URL:https://meetings.greysheet.org/meeting/beginners-daily-mon/2026-11-02
CATEGORIES:Telephone or Audio
ATTACH;FMTTYPE=image/svg+xml:https://meetings.greysheet.org/wp-content/uploads/2025/05/phone.svg
LOCATION:Phone Number: 712 432 5229, PIN: Phone Bridge
END:VEVENT
BEGIN:VEVENT
DTSTART;TZID=America/New_York:20261109T170000
DTEND;TZID=America/New_York:20261109T173000
DTSTAMP:20260424T102411
CREATED:20250503T164142Z
LAST-MODIFIED:20251117T234431Z
UID:10058520-1794243600-1794245400@meetings.greysheet.org
SUMMARY:Beginners Daily MON
DESCRIPTION:This is a half hour GreySheet Beginners meeting. The leader shares for 3-5 minutes\, followed by 2-minute timed shares.
URL:https://meetings.greysheet.org/meeting/beginners-daily-mon/2026-11-09
CATEGORIES:Telephone or Audio
ATTACH;FMTTYPE=image/svg+xml:https://meetings.greysheet.org/wp-content/uploads/2025/05/phone.svg
LOCATION:Phone Number: 712 432 5229, PIN: Phone Bridge
END:VEVENT
BEGIN:VEVENT
DTSTART;TZID=America/New_York:20261116T170000
DTEND;TZID=America/New_York:20261116T173000
DTSTAMP:20260424T102411
CREATED:20250503T164142Z
LAST-MODIFIED:20251117T234431Z
UID:10058521-1794848400-1794850200@meetings.greysheet.org
SUMMARY:Beginners Daily MON
DESCRIPTION:This is a half hour GreySheet Beginners meeting. The leader shares for 3-5 minutes\, followed by 2-minute timed shares.
URL:https://meetings.greysheet.org/meeting/beginners-daily-mon/2026-11-16
CATEGORIES:Telephone or Audio
ATTACH;FMTTYPE=image/svg+xml:https://meetings.greysheet.org/wp-content/uploads/2025/05/phone.svg
LOCATION:Phone Number: 712 432 5229, PIN: Phone Bridge
END:VEVENT
END:VCALENDAR